| Back to Multiple platform build/check report for BioC 3.13 |
|
This page was generated on 2021-10-15 15:06:06 -0400 (Fri, 15 Oct 2021).
|
To the developers/maintainers of the goProfiles package: - Please allow up to 24 hours (and sometimes 48 hours) for your latest push to git@git.bioconductor.org:packages/goProfiles.git to reflect on this report. See How and When does the builder pull? When will my changes propagate? here for more information. - Make sure to use the following settings in order to reproduce any error or warning you see on this page. |
| Package 788/2041 | Hostname | OS / Arch | INSTALL | BUILD | CHECK | BUILD BIN | ||||||||
| goProfiles 1.54.0 (landing page) Alex Sanchez
| nebbiolo1 | Linux (Ubuntu 20.04.2 LTS) / x86_64 | OK | OK | OK | |||||||||
| tokay2 | Windows Server 2012 R2 Standard / x64 | OK | OK | OK | OK | |||||||||
| machv2 | macOS 10.14.6 Mojave / x86_64 | OK | OK | OK | OK | |||||||||
| Package: goProfiles |
| Version: 1.54.0 |
| Command: rm -rf goProfiles.buildbin-libdir && mkdir goProfiles.buildbin-libdir && C:\Users\biocbuild\bbs-3.13-bioc\R\bin\R.exe CMD INSTALL --merge-multiarch --build --library=goProfiles.buildbin-libdir goProfiles_1.54.0.tar.gz |
| StartedAt: 2021-10-15 09:38:43 -0400 (Fri, 15 Oct 2021) |
| EndedAt: 2021-10-15 09:40:06 -0400 (Fri, 15 Oct 2021) |
| EllapsedTime: 83.1 seconds |
| RetCode: 0 |
| Status: OK |
| PackageFile: goProfiles_1.54.0.zip |
| PackageFileSize: 571.1 KiB |
##############################################################################
##############################################################################
###
### Running command:
###
### rm -rf goProfiles.buildbin-libdir && mkdir goProfiles.buildbin-libdir && C:\Users\biocbuild\bbs-3.13-bioc\R\bin\R.exe CMD INSTALL --merge-multiarch --build --library=goProfiles.buildbin-libdir goProfiles_1.54.0.tar.gz
###
##############################################################################
##############################################################################
install for i386
* installing *source* package 'goProfiles' ...
** using staged installation
** R
** data
** inst
** byte-compile and prepare package for lazy loading
** help
*** installing help indices
converting help for package 'goProfiles'
finding HTML links ... done
CD4ids html
GOTermsList html
basicProfile html
clustKidneyMF2 html
compSummary html
compareGOProfiles html
compareGeneLists html
compareProfilesLists html
contractedProfile html
conversionFunctions html
drosophila html
equivClust html
equivClust2pdf html
equivSummary html
equivalentGOProfiles html
expandedLevel html
expandedProfile html
fisherGOProfiles html
fitGOProfile html
goProfiles-package html
hugoIds html
iterEquivClust html
kidneyGeneLists html
mergeProfilesLists html
ngenes html
omimIds html
plotProfiles html
printProfiles html
prostateIds html
** building package indices
** installing vignettes
** testing if installed package can be loaded from temporary location
** testing if installed package can be loaded from final location
** testing if installed package keeps a record of temporary installation path
install for x64
* installing *source* package 'goProfiles' ...
** testing if installed package can be loaded
* MD5 sums
packaged installation of 'goProfiles' as goProfiles_1.54.0.zip
* DONE (goProfiles)