| Back to Multiple platform build/check report for BioC 3.13 |
|
This page was generated on 2021-10-15 15:06:37 -0400 (Fri, 15 Oct 2021).
|
To the developers/maintainers of the goProfiles package: - Please allow up to 24 hours (and sometimes 48 hours) for your latest push to git@git.bioconductor.org:packages/goProfiles.git to reflect on this report. See How and When does the builder pull? When will my changes propagate? here for more information. - Make sure to use the following settings in order to reproduce any error or warning you see on this page. |
| Package 788/2041 | Hostname | OS / Arch | INSTALL | BUILD | CHECK | BUILD BIN | ||||||||
| goProfiles 1.54.0 (landing page) Alex Sanchez
| nebbiolo1 | Linux (Ubuntu 20.04.2 LTS) / x86_64 | OK | OK | OK | |||||||||
| tokay2 | Windows Server 2012 R2 Standard / x64 | OK | OK | OK | OK | |||||||||
| machv2 | macOS 10.14.6 Mojave / x86_64 | OK | OK | OK | OK | |||||||||
| Package: goProfiles |
| Version: 1.54.0 |
| Command: /Library/Frameworks/R.framework/Versions/Current/Resources/bin/R CMD build --keep-empty-dirs --no-resave-data goProfiles |
| StartedAt: 2021-10-14 12:22:27 -0400 (Thu, 14 Oct 2021) |
| EndedAt: 2021-10-14 12:23:22 -0400 (Thu, 14 Oct 2021) |
| EllapsedTime: 55.7 seconds |
| RetCode: 0 |
| Status: OK |
| PackageFile: goProfiles_1.54.0.tar.gz |
| PackageFileSize: 284.1 KiB |
##############################################################################
##############################################################################
###
### Running command:
###
### /Library/Frameworks/R.framework/Versions/Current/Resources/bin/R CMD build --keep-empty-dirs --no-resave-data goProfiles
###
##############################################################################
##############################################################################
* checking for file ‘goProfiles/DESCRIPTION’ ... OK
* preparing ‘goProfiles’:
* checking DESCRIPTION meta-information ... OK
* installing the package to build vignettes
* creating vignettes ... OK
Warning: ‘inst/doc’ files
‘goProfiles.Rnw’, ‘goProfiles.pdf’, ‘goProfiles.R’
ignored as vignettes have been rebuilt.
Run R CMD build with --no-build-vignettes to prevent rebuilding.
* checking for LF line-endings in source and make files and shell scripts
* checking for empty or unneeded directories
* looking to see if a ‘data/datalist’ file should be added
* building ‘goProfiles_1.54.0.tar.gz’