| Back to Multiple platform build/check report for BioC 3.13 |
|
This page was generated on 2021-10-15 15:06:37 -0400 (Fri, 15 Oct 2021).
|
To the developers/maintainers of the goProfiles package: - Please allow up to 24 hours (and sometimes 48 hours) for your latest push to git@git.bioconductor.org:packages/goProfiles.git to reflect on this report. See How and When does the builder pull? When will my changes propagate? here for more information. - Make sure to use the following settings in order to reproduce any error or warning you see on this page. |
| Package 788/2041 | Hostname | OS / Arch | INSTALL | BUILD | CHECK | BUILD BIN | ||||||||
| goProfiles 1.54.0 (landing page) Alex Sanchez
| nebbiolo1 | Linux (Ubuntu 20.04.2 LTS) / x86_64 | OK | OK | OK | |||||||||
| tokay2 | Windows Server 2012 R2 Standard / x64 | OK | OK | OK | OK | |||||||||
| machv2 | macOS 10.14.6 Mojave / x86_64 | OK | OK | OK | OK | |||||||||
| Package: goProfiles |
| Version: 1.54.0 |
| Command: /Library/Frameworks/R.framework/Versions/Current/Resources/bin/R CMD check --install=check:goProfiles.install-out.txt --library=/Library/Frameworks/R.framework/Versions/Current/Resources/library --no-vignettes --timings goProfiles_1.54.0.tar.gz |
| StartedAt: 2021-10-14 19:40:41 -0400 (Thu, 14 Oct 2021) |
| EndedAt: 2021-10-14 19:44:16 -0400 (Thu, 14 Oct 2021) |
| EllapsedTime: 214.9 seconds |
| RetCode: 0 |
| Status: OK |
| CheckDir: goProfiles.Rcheck |
| Warnings: 0 |
##############################################################################
##############################################################################
###
### Running command:
###
### /Library/Frameworks/R.framework/Versions/Current/Resources/bin/R CMD check --install=check:goProfiles.install-out.txt --library=/Library/Frameworks/R.framework/Versions/Current/Resources/library --no-vignettes --timings goProfiles_1.54.0.tar.gz
###
##############################################################################
##############################################################################
* using log directory ‘/Users/biocbuild/bbs-3.13-bioc/meat/goProfiles.Rcheck’
* using R version 4.1.1 (2021-08-10)
* using platform: x86_64-apple-darwin17.0 (64-bit)
* using session charset: UTF-8
* using option ‘--no-vignettes’
* checking for file ‘goProfiles/DESCRIPTION’ ... OK
* checking extension type ... Package
* this is package ‘goProfiles’ version ‘1.54.0’
* checking package namespace information ... OK
* checking package dependencies ... OK
* checking if this is a source package ... OK
* checking if there is a namespace ... OK
* checking for hidden files and directories ... NOTE
Found the following hidden files and directories:
.git_fetch_output.txt
.git_merge_output.txt
These were most likely included in error. See section ‘Package
structure’ in the ‘Writing R Extensions’ manual.
* checking for portable file names ... OK
* checking for sufficient/correct file permissions ... OK
* checking whether package ‘goProfiles’ can be installed ... OK
* checking installed package size ... OK
* checking package directory ... OK
* checking ‘build’ directory ... OK
* checking DESCRIPTION meta-information ... OK
* checking top-level files ... OK
* checking for left-over files ... OK
* checking index information ... OK
* checking package subdirectories ... OK
* checking R files for non-ASCII characters ... OK
* checking R files for syntax errors ... OK
* checking whether the package can be loaded ... OK
* checking whether the package can be loaded with stated dependencies ... OK
* checking whether the package can be unloaded cleanly ... OK
* checking whether the namespace can be loaded with stated dependencies ... OK
* checking whether the namespace can be unloaded cleanly ... OK
* checking dependencies in R code ... OK
* checking S3 generic/method consistency ... OK
* checking replacement functions ... OK
* checking foreign function calls ... OK
* checking R code for possible problems ... OK
* checking Rd files ... OK
* checking Rd metadata ... OK
* checking Rd cross-references ... OK
* checking for missing documentation entries ... OK
* checking for code/documentation mismatches ... OK
* checking Rd \usage sections ... OK
* checking Rd contents ... OK
* checking for unstated dependencies in examples ... OK
* checking contents of ‘data’ directory ... OK
* checking data for non-ASCII characters ... OK
* checking data for ASCII and uncompressed saves ... OK
* checking sizes of PDF files under ‘inst/doc’ ... OK
* checking installed files from ‘inst/doc’ ... OK
* checking files in ‘vignettes’ ... OK
* checking examples ... OK
Examples with CPU (user + system) or elapsed time > 5s
user system elapsed
compareGeneLists 24.427 0.197 24.639
equivalentGOProfiles 16.311 0.164 16.531
fisherGOProfiles 7.002 0.066 7.078
mergeProfilesLists 6.720 0.065 6.796
plotProfiles 6.096 0.049 6.149
printProfiles 5.252 0.065 5.319
* checking for unstated dependencies in vignettes ... OK
* checking package vignettes in ‘inst/doc’ ... OK
* checking running R code from vignettes ... SKIPPED
* checking re-building of vignette outputs ... SKIPPED
* checking PDF version of manual ... OK
* DONE
Status: 1 NOTE
See
‘/Users/biocbuild/bbs-3.13-bioc/meat/goProfiles.Rcheck/00check.log’
for details.
goProfiles.Rcheck/00install.out
############################################################################## ############################################################################## ### ### Running command: ### ### /Library/Frameworks/R.framework/Versions/Current/Resources/bin/R CMD INSTALL goProfiles ### ############################################################################## ############################################################################## * installing to library ‘/Library/Frameworks/R.framework/Versions/4.1/Resources/library’ * installing *source* package ‘goProfiles’ ... ** using staged installation ** R ** data ** inst ** byte-compile and prepare package for lazy loading ** help *** installing help indices ** building package indices ** installing vignettes ** testing if installed package can be loaded from temporary location ** testing if installed package can be loaded from final location ** testing if installed package keeps a record of temporary installation path * DONE (goProfiles)
goProfiles.Rcheck/goProfiles-Ex.timings
| name | user | system | elapsed | |
| CD4ids | 0.003 | 0.001 | 0.004 | |
| GOTermsList | 0 | 0 | 0 | |
| basicProfile | 4.072 | 0.107 | 4.188 | |
| compSummary | 0.000 | 0.001 | 0.000 | |
| compareGOProfiles | 4.814 | 0.078 | 4.897 | |
| compareGeneLists | 24.427 | 0.197 | 24.639 | |
| compareProfilesLists | 0 | 0 | 0 | |
| contractedProfile | 2.229 | 0.017 | 2.249 | |
| conversionFunctions | 0.032 | 0.003 | 0.036 | |
| drosophila | 0.002 | 0.001 | 0.003 | |
| equivClust | 0 | 0 | 0 | |
| equivClust2pdf | 0.030 | 0.004 | 0.034 | |
| equivSummary | 0.000 | 0.001 | 0.000 | |
| equivalentGOProfiles | 16.311 | 0.164 | 16.531 | |
| expandedLevel | 0.894 | 0.022 | 0.916 | |
| expandedProfile | 1.072 | 0.008 | 1.080 | |
| fisherGOProfiles | 7.002 | 0.066 | 7.078 | |
| fitGOProfile | 0.000 | 0.001 | 0.001 | |
| hugoIds | 0.023 | 0.002 | 0.025 | |
| iterEquivClust | 0.000 | 0.000 | 0.001 | |
| mergeProfilesLists | 6.720 | 0.065 | 6.796 | |
| ngenes | 2.099 | 0.019 | 2.119 | |
| omimIds | 0.009 | 0.003 | 0.011 | |
| plotProfiles | 6.096 | 0.049 | 6.149 | |
| printProfiles | 5.252 | 0.065 | 5.319 | |
| prostateIds | 0.005 | 0.002 | 0.006 | |