| Back to Multiple platform build/check report for BioC 3.13 |
|
This page was generated on 2021-10-15 15:06:05 -0400 (Fri, 15 Oct 2021).
|
To the developers/maintainers of the flowGraph package: - Please allow up to 24 hours (and sometimes 48 hours) for your latest push to git@git.bioconductor.org:packages/flowGraph.git to reflect on this report. See How and When does the builder pull? When will my changes propagate? here for more information. - Make sure to use the following settings in order to reproduce any error or warning you see on this page. |
| Package 652/2041 | Hostname | OS / Arch | INSTALL | BUILD | CHECK | BUILD BIN | ||||||||
| flowGraph 1.0.0 (landing page) Alice Yue
| nebbiolo1 | Linux (Ubuntu 20.04.2 LTS) / x86_64 | OK | OK | OK | |||||||||
| tokay2 | Windows Server 2012 R2 Standard / x64 | OK | OK | OK | OK | |||||||||
| machv2 | macOS 10.14.6 Mojave / x86_64 | OK | OK | OK | OK | |||||||||
| Package: flowGraph |
| Version: 1.0.0 |
| Command: rm -rf flowGraph.buildbin-libdir && mkdir flowGraph.buildbin-libdir && C:\Users\biocbuild\bbs-3.13-bioc\R\bin\R.exe CMD INSTALL --merge-multiarch --build --library=flowGraph.buildbin-libdir flowGraph_1.0.0.tar.gz |
| StartedAt: 2021-10-15 09:20:36 -0400 (Fri, 15 Oct 2021) |
| EndedAt: 2021-10-15 09:22:03 -0400 (Fri, 15 Oct 2021) |
| EllapsedTime: 87.2 seconds |
| RetCode: 0 |
| Status: OK |
| PackageFile: flowGraph_1.0.0.zip |
| PackageFileSize: 1.641 MiB |
##############################################################################
##############################################################################
###
### Running command:
###
### rm -rf flowGraph.buildbin-libdir && mkdir flowGraph.buildbin-libdir && C:\Users\biocbuild\bbs-3.13-bioc\R\bin\R.exe CMD INSTALL --merge-multiarch --build --library=flowGraph.buildbin-libdir flowGraph_1.0.0.tar.gz
###
##############################################################################
##############################################################################
install for i386
* installing *source* package 'flowGraph' ...
** using staged installation
** R
** data
** inst
** byte-compile and prepare package for lazy loading
** help
*** installing help indices
converting help for package 'flowGraph'
finding HTML links ... done
cell_type_layers html
extract_markers html
fg_add_feature html
fg_add_summary html
fg_clean_phen html
fg_clear_features html
fg_clear_summary html
fg_data_fca html
fg_data_pos2 html
fg_data_pos30 html
fg_extract_phenotypes html
fg_extract_raw html
fg_extract_samples html
fg_feat_cumsum html
fg_feat_edge_specenr html
fg_feat_mean_class html
fg_feat_node_prop html
fg_feat_node_specenr html
fg_feat_prop_edge html
fg_get_feature html
fg_get_feature_desc html
fg_get_feature_means html
fg_get_graph html
fg_get_markers html
fg_get_meta html
fg_get_summary html
fg_get_summary_desc html
fg_get_summary_index html
fg_get_summary_tables html
fg_gsub_ids html
fg_gsub_markers html
fg_load html
fg_merge html
fg_merge_samples html
fg_plot html
fg_plot_box html
fg_plot_pVSdiff html
fg_plot_qq html
fg_replace_meta html
fg_rm_feature html
fg_rm_summary html
fg_save html
fg_save_plots html
fg_set_layout html
fg_summary html
flowGraph-class html
flowGraph html
flowGraphSubset html
flowGraphSubset_summary_adjust html
flowGraphSubset_summary_pars html
fpurrr_map html
get_child html
get_eprop html
get_paren html
get_phen_list html
get_phen_meta html
ggdf html
loop_ind_f html
meandiff html
ms_create html
ms_psig html
plot_gr html
set_layout_graph html
summary_table html
test_c html
time_output html
tstr html
** building package indices
** installing vignettes
** testing if installed package can be loaded from temporary location
** testing if installed package can be loaded from final location
** testing if installed package keeps a record of temporary installation path
install for x64
* installing *source* package 'flowGraph' ...
** testing if installed package can be loaded
* MD5 sums
packaged installation of 'flowGraph' as flowGraph_1.0.0.zip
* DONE (flowGraph)