| Back to Multiple platform build/check report for BioC 3.13 |
|
This page was generated on 2021-10-15 15:05:40 -0400 (Fri, 15 Oct 2021).
|
To the developers/maintainers of the flowGraph package: - Please allow up to 24 hours (and sometimes 48 hours) for your latest push to git@git.bioconductor.org:packages/flowGraph.git to reflect on this report. See How and When does the builder pull? When will my changes propagate? here for more information. - Make sure to use the following settings in order to reproduce any error or warning you see on this page. |
| Package 652/2041 | Hostname | OS / Arch | INSTALL | BUILD | CHECK | BUILD BIN | ||||||||
| flowGraph 1.0.0 (landing page) Alice Yue
| nebbiolo1 | Linux (Ubuntu 20.04.2 LTS) / x86_64 | OK | OK | OK | |||||||||
| tokay2 | Windows Server 2012 R2 Standard / x64 | OK | OK | OK | OK | |||||||||
| machv2 | macOS 10.14.6 Mojave / x86_64 | OK | OK | OK | OK | |||||||||
| Package: flowGraph |
| Version: 1.0.0 |
| Command: /home/biocbuild/bbs-3.13-bioc/R/bin/R CMD check --install=check:flowGraph.install-out.txt --library=/home/biocbuild/bbs-3.13-bioc/R/library --no-vignettes --timings flowGraph_1.0.0.tar.gz |
| StartedAt: 2021-10-14 09:52:33 -0400 (Thu, 14 Oct 2021) |
| EndedAt: 2021-10-14 09:55:43 -0400 (Thu, 14 Oct 2021) |
| EllapsedTime: 190.6 seconds |
| RetCode: 0 |
| Status: OK |
| CheckDir: flowGraph.Rcheck |
| Warnings: 0 |
##############################################################################
##############################################################################
###
### Running command:
###
### /home/biocbuild/bbs-3.13-bioc/R/bin/R CMD check --install=check:flowGraph.install-out.txt --library=/home/biocbuild/bbs-3.13-bioc/R/library --no-vignettes --timings flowGraph_1.0.0.tar.gz
###
##############################################################################
##############################################################################
* using log directory ‘/home/biocbuild/bbs-3.13-bioc/meat/flowGraph.Rcheck’
* using R version 4.1.1 (2021-08-10)
* using platform: x86_64-pc-linux-gnu (64-bit)
* using session charset: UTF-8
* using option ‘--no-vignettes’
* checking for file ‘flowGraph/DESCRIPTION’ ... OK
* checking extension type ... Package
* this is package ‘flowGraph’ version ‘1.0.0’
* checking package namespace information ... OK
* checking package dependencies ... OK
* checking if this is a source package ... OK
* checking if there is a namespace ... OK
* checking for hidden files and directories ... OK
* checking for portable file names ... OK
* checking for sufficient/correct file permissions ... OK
* checking whether package ‘flowGraph’ can be installed ... OK
* checking installed package size ... OK
* checking package directory ... OK
* checking ‘build’ directory ... OK
* checking DESCRIPTION meta-information ... OK
* checking top-level files ... OK
* checking for left-over files ... OK
* checking index information ... OK
* checking package subdirectories ... OK
* checking R files for non-ASCII characters ... OK
* checking R files for syntax errors ... OK
* checking whether the package can be loaded ... OK
* checking whether the package can be loaded with stated dependencies ... OK
* checking whether the package can be unloaded cleanly ... OK
* checking whether the namespace can be loaded with stated dependencies ... OK
* checking whether the namespace can be unloaded cleanly ... OK
* checking dependencies in R code ... OK
* checking S3 generic/method consistency ... OK
* checking replacement functions ... OK
* checking foreign function calls ... OK
* checking R code for possible problems ... NOTE
get_child: no visible binding for global variable ‘no_cores’
get_paren: no visible binding for global variable ‘no_cores’
ms_psig: no visible binding for global variable ‘meta’
Undefined global functions or variables:
meta no_cores
* checking Rd files ... OK
* checking Rd metadata ... OK
* checking Rd cross-references ... OK
* checking for missing documentation entries ... OK
* checking for code/documentation mismatches ... OK
* checking Rd \usage sections ... OK
* checking Rd contents ... OK
* checking for unstated dependencies in examples ... OK
* checking contents of ‘data’ directory ... OK
* checking data for non-ASCII characters ... OK
* checking data for ASCII and uncompressed saves ... OK
* checking files in ‘vignettes’ ... OK
* checking examples ... OK
Examples with CPU (user + system) or elapsed time > 5s
user system elapsed
fg_save_plots 35.851 0.588 36.442
fg_save 34.822 0.624 35.449
fg_load 32.972 0.812 33.792
* checking for unstated dependencies in ‘tests’ ... OK
* checking tests ...
Running ‘testthat.R’
OK
* checking for unstated dependencies in vignettes ... OK
* checking package vignettes in ‘inst/doc’ ... OK
* checking running R code from vignettes ... SKIPPED
* checking re-building of vignette outputs ... SKIPPED
* checking PDF version of manual ... OK
* DONE
Status: 1 NOTE
See
‘/home/biocbuild/bbs-3.13-bioc/meat/flowGraph.Rcheck/00check.log’
for details.
flowGraph.Rcheck/00install.out
############################################################################## ############################################################################## ### ### Running command: ### ### /home/biocbuild/bbs-3.13-bioc/R/bin/R CMD INSTALL flowGraph ### ############################################################################## ############################################################################## * installing to library ‘/home/biocbuild/bbs-3.13-bioc/R/library’ * installing *source* package ‘flowGraph’ ... ** using staged installation ** R ** data ** inst ** byte-compile and prepare package for lazy loading ** help Loading required namespace: flowGraph *** installing help indices ** building package indices ** installing vignettes ** testing if installed package can be loaded from temporary location ** testing if installed package can be loaded from final location ** testing if installed package keeps a record of temporary installation path * DONE (flowGraph)
flowGraph.Rcheck/tests/testthat.Rout
R version 4.1.1 (2021-08-10) -- "Kick Things"
Copyright (C) 2021 The R Foundation for Statistical Computing
Platform: x86_64-pc-linux-gnu (64-bit)
R is free software and comes with ABSOLUTELY NO WARRANTY.
You are welcome to redistribute it under certain conditions.
Type 'license()' or 'licence()' for distribution details.
R is a collaborative project with many contributors.
Type 'contributors()' for more information and
'citation()' on how to cite R or R packages in publications.
Type 'demo()' for some demos, 'help()' for on-line help, or
'help.start()' for an HTML browser interface to help.
Type 'q()' to quit R.
> library(testthat)
> library(flowGraph)
>
> test_check("flowGraph")
[ FAIL 0 | WARN 0 | SKIP 0 | PASS 34 ]
>
> proc.time()
user system elapsed
4.093 0.182 4.259
flowGraph.Rcheck/flowGraph-Ex.timings
| name | user | system | elapsed | |
| cell_type_layers | 0.000 | 0.003 | 0.003 | |
| fg_add_feature | 0.245 | 0.005 | 0.249 | |
| fg_add_summary | 0.632 | 0.004 | 0.635 | |
| fg_clean_phen | 0 | 0 | 0 | |
| fg_clear_features | 0.671 | 0.000 | 0.671 | |
| fg_clear_summary | 0.260 | 0.008 | 0.268 | |
| fg_extract_phenotypes | 0.208 | 0.000 | 0.209 | |
| fg_extract_raw | 0.611 | 0.000 | 0.611 | |
| fg_extract_samples | 0.202 | 0.000 | 0.203 | |
| fg_feat_cumsum | 0.203 | 0.003 | 0.206 | |
| fg_feat_edge_specenr | 0.243 | 0.004 | 0.246 | |
| fg_feat_mean_class | 0.208 | 0.000 | 0.208 | |
| fg_feat_node_prop | 0.199 | 0.000 | 0.200 | |
| fg_feat_node_specenr | 0.241 | 0.001 | 0.241 | |
| fg_feat_prop_edge | 0.206 | 0.003 | 0.210 | |
| fg_get_feature | 0.198 | 0.000 | 0.198 | |
| fg_get_feature_desc | 0.601 | 0.000 | 0.601 | |
| fg_get_feature_means | 0.98 | 0.00 | 0.98 | |
| fg_get_graph | 0.191 | 0.008 | 0.198 | |
| fg_get_markers | 0.21 | 0.00 | 0.21 | |
| fg_get_meta | 0.213 | 0.000 | 0.214 | |
| fg_get_summary | 1.425 | 0.007 | 1.432 | |
| fg_get_summary_desc | 0.774 | 0.024 | 0.798 | |
| fg_get_summary_index | 1.253 | 0.008 | 1.261 | |
| fg_get_summary_tables | 0.874 | 0.004 | 0.878 | |
| fg_gsub_ids | 0.182 | 0.000 | 0.181 | |
| fg_gsub_markers | 0.215 | 0.000 | 0.215 | |
| fg_load | 32.972 | 0.812 | 33.792 | |
| fg_merge | 0.215 | 0.000 | 0.214 | |
| fg_merge_samples | 0.228 | 0.008 | 0.236 | |
| fg_plot | 0.313 | 0.000 | 0.314 | |
| fg_plot_box | 0.666 | 0.028 | 0.694 | |
| fg_plot_pVSdiff | 0.444 | 0.000 | 0.444 | |
| fg_plot_qq | 0.996 | 0.012 | 1.009 | |
| fg_replace_meta | 0.241 | 0.000 | 0.241 | |
| fg_rm_feature | 0.695 | 0.008 | 0.702 | |
| fg_rm_summary | 0.312 | 0.000 | 0.312 | |
| fg_save | 34.822 | 0.624 | 35.449 | |
| fg_save_plots | 35.851 | 0.588 | 36.442 | |
| fg_set_layout | 0.202 | 0.000 | 0.202 | |
| fg_summary | 0.27 | 0.00 | 0.27 | |
| flowGraph-class | 0.000 | 0.001 | 0.001 | |
| flowGraph | 0.807 | 0.006 | 0.813 | |
| flowGraphSubset | 0.000 | 0.001 | 0.000 | |
| flowGraphSubset_summary_adjust | 0.000 | 0.001 | 0.000 | |
| flowGraphSubset_summary_pars | 0.000 | 0.001 | 0.000 | |
| get_phen_list | 0.010 | 0.001 | 0.011 | |
| get_phen_meta | 0.002 | 0.000 | 0.002 | |
| ggdf | 0.196 | 0.004 | 0.201 | |
| loop_ind_f | 0.000 | 0.000 | 0.001 | |
| meandiff | 0 | 0 | 0 | |
| plot_gr | 1.090 | 0.004 | 1.094 | |
| set_layout_graph | 0.195 | 0.036 | 0.230 | |
| summary_table | 0.002 | 0.000 | 0.003 | |
| time_output | 0.001 | 0.000 | 0.001 | |
| tstr | 0.000 | 0.000 | 0.001 | |