| Back to Multiple platform build/check report for BioC 3.13 |
|
This page was generated on 2021-10-15 15:06:35 -0400 (Fri, 15 Oct 2021).
|
To the developers/maintainers of the flowGraph package: - Please allow up to 24 hours (and sometimes 48 hours) for your latest push to git@git.bioconductor.org:packages/flowGraph.git to reflect on this report. See How and When does the builder pull? When will my changes propagate? here for more information. - Make sure to use the following settings in order to reproduce any error or warning you see on this page. |
| Package 652/2041 | Hostname | OS / Arch | INSTALL | BUILD | CHECK | BUILD BIN | ||||||||
| flowGraph 1.0.0 (landing page) Alice Yue
| nebbiolo1 | Linux (Ubuntu 20.04.2 LTS) / x86_64 | OK | OK | OK | |||||||||
| tokay2 | Windows Server 2012 R2 Standard / x64 | OK | OK | OK | OK | |||||||||
| machv2 | macOS 10.14.6 Mojave / x86_64 | OK | OK | OK | OK | |||||||||
| Package: flowGraph |
| Version: 1.0.0 |
| Command: /Library/Frameworks/R.framework/Versions/Current/Resources/bin/R CMD check --install=check:flowGraph.install-out.txt --library=/Library/Frameworks/R.framework/Versions/Current/Resources/library --no-vignettes --timings flowGraph_1.0.0.tar.gz |
| StartedAt: 2021-10-14 19:07:09 -0400 (Thu, 14 Oct 2021) |
| EndedAt: 2021-10-14 19:12:26 -0400 (Thu, 14 Oct 2021) |
| EllapsedTime: 316.6 seconds |
| RetCode: 0 |
| Status: OK |
| CheckDir: flowGraph.Rcheck |
| Warnings: 0 |
##############################################################################
##############################################################################
###
### Running command:
###
### /Library/Frameworks/R.framework/Versions/Current/Resources/bin/R CMD check --install=check:flowGraph.install-out.txt --library=/Library/Frameworks/R.framework/Versions/Current/Resources/library --no-vignettes --timings flowGraph_1.0.0.tar.gz
###
##############################################################################
##############################################################################
* using log directory ‘/Users/biocbuild/bbs-3.13-bioc/meat/flowGraph.Rcheck’
* using R version 4.1.1 (2021-08-10)
* using platform: x86_64-apple-darwin17.0 (64-bit)
* using session charset: UTF-8
* using option ‘--no-vignettes’
* checking for file ‘flowGraph/DESCRIPTION’ ... OK
* checking extension type ... Package
* this is package ‘flowGraph’ version ‘1.0.0’
* checking package namespace information ... OK
* checking package dependencies ... OK
* checking if this is a source package ... OK
* checking if there is a namespace ... OK
* checking for hidden files and directories ... OK
* checking for portable file names ... OK
* checking for sufficient/correct file permissions ... OK
* checking whether package ‘flowGraph’ can be installed ... OK
* checking installed package size ... OK
* checking package directory ... OK
* checking ‘build’ directory ... OK
* checking DESCRIPTION meta-information ... OK
* checking top-level files ... OK
* checking for left-over files ... OK
* checking index information ... OK
* checking package subdirectories ... OK
* checking R files for non-ASCII characters ... OK
* checking R files for syntax errors ... OK
* checking whether the package can be loaded ... OK
* checking whether the package can be loaded with stated dependencies ... OK
* checking whether the package can be unloaded cleanly ... OK
* checking whether the namespace can be loaded with stated dependencies ... OK
* checking whether the namespace can be unloaded cleanly ... OK
* checking dependencies in R code ... OK
* checking S3 generic/method consistency ... OK
* checking replacement functions ... OK
* checking foreign function calls ... OK
* checking R code for possible problems ... NOTE
get_child: no visible binding for global variable ‘no_cores’
get_paren: no visible binding for global variable ‘no_cores’
ms_psig: no visible binding for global variable ‘meta’
Undefined global functions or variables:
meta no_cores
* checking Rd files ... OK
* checking Rd metadata ... OK
* checking Rd cross-references ... OK
* checking for missing documentation entries ... OK
* checking for code/documentation mismatches ... OK
* checking Rd \usage sections ... OK
* checking Rd contents ... OK
* checking for unstated dependencies in examples ... OK
* checking contents of ‘data’ directory ... OK
* checking data for non-ASCII characters ... OK
* checking data for ASCII and uncompressed saves ... OK
* checking files in ‘vignettes’ ... OK
* checking examples ... OK
Examples with CPU (user + system) or elapsed time > 5s
user system elapsed
fg_save_plots 54.270 0.240 54.696
fg_load 53.092 0.304 53.442
fg_save 51.010 0.198 51.310
* checking for unstated dependencies in ‘tests’ ... OK
* checking tests ...
Running ‘testthat.R’
OK
* checking for unstated dependencies in vignettes ... OK
* checking package vignettes in ‘inst/doc’ ... OK
* checking running R code from vignettes ... SKIPPED
* checking re-building of vignette outputs ... SKIPPED
* checking PDF version of manual ... OK
* DONE
Status: 1 NOTE
See
‘/Users/biocbuild/bbs-3.13-bioc/meat/flowGraph.Rcheck/00check.log’
for details.
flowGraph.Rcheck/00install.out
############################################################################## ############################################################################## ### ### Running command: ### ### /Library/Frameworks/R.framework/Versions/Current/Resources/bin/R CMD INSTALL flowGraph ### ############################################################################## ############################################################################## * installing to library ‘/Library/Frameworks/R.framework/Versions/4.1/Resources/library’ * installing *source* package ‘flowGraph’ ... ** using staged installation ** R ** data ** inst ** byte-compile and prepare package for lazy loading ** help Loading required namespace: flowGraph *** installing help indices ** building package indices ** installing vignettes ** testing if installed package can be loaded from temporary location ** testing if installed package can be loaded from final location ** testing if installed package keeps a record of temporary installation path * DONE (flowGraph)
flowGraph.Rcheck/tests/testthat.Rout
R version 4.1.1 (2021-08-10) -- "Kick Things"
Copyright (C) 2021 The R Foundation for Statistical Computing
Platform: x86_64-apple-darwin17.0 (64-bit)
R is free software and comes with ABSOLUTELY NO WARRANTY.
You are welcome to redistribute it under certain conditions.
Type 'license()' or 'licence()' for distribution details.
R is a collaborative project with many contributors.
Type 'contributors()' for more information and
'citation()' on how to cite R or R packages in publications.
Type 'demo()' for some demos, 'help()' for on-line help, or
'help.start()' for an HTML browser interface to help.
Type 'q()' to quit R.
> library(testthat)
> library(flowGraph)
>
> test_check("flowGraph")
[ FAIL 0 | WARN 0 | SKIP 0 | PASS 34 ]
>
> proc.time()
user system elapsed
7.240 0.281 7.503
flowGraph.Rcheck/flowGraph-Ex.timings
| name | user | system | elapsed | |
| cell_type_layers | 0.003 | 0.000 | 0.003 | |
| fg_add_feature | 0.445 | 0.009 | 0.456 | |
| fg_add_summary | 0.958 | 0.007 | 0.965 | |
| fg_clean_phen | 0 | 0 | 0 | |
| fg_clear_features | 1.131 | 0.005 | 1.136 | |
| fg_clear_summary | 0.453 | 0.003 | 0.457 | |
| fg_extract_phenotypes | 0.348 | 0.005 | 0.352 | |
| fg_extract_raw | 1.254 | 0.007 | 1.262 | |
| fg_extract_samples | 0.382 | 0.005 | 0.387 | |
| fg_feat_cumsum | 0.332 | 0.005 | 0.337 | |
| fg_feat_edge_specenr | 0.387 | 0.005 | 0.393 | |
| fg_feat_mean_class | 0.394 | 0.005 | 0.398 | |
| fg_feat_node_prop | 0.373 | 0.004 | 0.376 | |
| fg_feat_node_specenr | 0.449 | 0.005 | 0.454 | |
| fg_feat_prop_edge | 0.335 | 0.002 | 0.338 | |
| fg_get_feature | 0.382 | 0.003 | 0.384 | |
| fg_get_feature_desc | 1.197 | 0.005 | 1.202 | |
| fg_get_feature_means | 1.957 | 0.007 | 1.965 | |
| fg_get_graph | 0.398 | 0.003 | 0.402 | |
| fg_get_markers | 0.354 | 0.002 | 0.356 | |
| fg_get_meta | 0.437 | 0.003 | 0.441 | |
| fg_get_summary | 2.611 | 0.007 | 2.618 | |
| fg_get_summary_desc | 1.235 | 0.032 | 1.268 | |
| fg_get_summary_index | 2.632 | 0.008 | 2.680 | |
| fg_get_summary_tables | 1.781 | 0.007 | 1.791 | |
| fg_gsub_ids | 0.428 | 0.004 | 0.431 | |
| fg_gsub_markers | 0.466 | 0.004 | 0.470 | |
| fg_load | 53.092 | 0.304 | 53.442 | |
| fg_merge | 0.322 | 0.004 | 0.326 | |
| fg_merge_samples | 0.428 | 0.006 | 0.435 | |
| fg_plot | 0.607 | 0.005 | 0.612 | |
| fg_plot_box | 1.004 | 0.006 | 1.010 | |
| fg_plot_pVSdiff | 0.548 | 0.004 | 0.552 | |
| fg_plot_qq | 2.333 | 0.146 | 2.753 | |
| fg_replace_meta | 0.447 | 0.004 | 0.452 | |
| fg_rm_feature | 1.371 | 0.007 | 1.378 | |
| fg_rm_summary | 0.595 | 0.005 | 0.600 | |
| fg_save | 51.010 | 0.198 | 51.310 | |
| fg_save_plots | 54.270 | 0.240 | 54.696 | |
| fg_set_layout | 0.340 | 0.004 | 0.344 | |
| fg_summary | 0.552 | 0.004 | 0.556 | |
| flowGraph-class | 0.001 | 0.001 | 0.001 | |
| flowGraph | 1.528 | 0.008 | 1.537 | |
| flowGraphSubset | 0.000 | 0.001 | 0.000 | |
| flowGraphSubset_summary_adjust | 0.001 | 0.001 | 0.001 | |
| flowGraphSubset_summary_pars | 0.001 | 0.000 | 0.001 | |
| get_phen_list | 0.016 | 0.001 | 0.017 | |
| get_phen_meta | 0.003 | 0.001 | 0.003 | |
| ggdf | 0.402 | 0.005 | 0.406 | |
| loop_ind_f | 0.001 | 0.001 | 0.001 | |
| meandiff | 0.001 | 0.001 | 0.001 | |
| plot_gr | 1.503 | 0.026 | 1.532 | |
| set_layout_graph | 0.490 | 0.073 | 0.563 | |
| summary_table | 0.006 | 0.001 | 0.008 | |
| time_output | 0.001 | 0.000 | 0.001 | |
| tstr | 0.001 | 0.000 | 0.000 | |