| Back to Multiple platform build/check report for BioC 3.13 |
|
This page was generated on 2021-10-15 15:06:09 -0400 (Fri, 15 Oct 2021).
|
To the developers/maintainers of the KnowSeq package: - Please allow up to 24 hours (and sometimes 48 hours) for your latest push to git@git.bioconductor.org:packages/KnowSeq.git to reflect on this report. See How and When does the builder pull? When will my changes propagate? here for more information. - Make sure to use the following settings in order to reproduce any error or warning you see on this page. |
| Package 974/2041 | Hostname | OS / Arch | INSTALL | BUILD | CHECK | BUILD BIN | ||||||||
| KnowSeq 1.6.3 (landing page) Daniel Castillo-Secilla
| nebbiolo1 | Linux (Ubuntu 20.04.2 LTS) / x86_64 | OK | OK | OK | |||||||||
| tokay2 | Windows Server 2012 R2 Standard / x64 | OK | OK | OK | OK | |||||||||
| machv2 | macOS 10.14.6 Mojave / x86_64 | OK | OK | OK | OK | |||||||||
| Package: KnowSeq |
| Version: 1.6.3 |
| Command: C:\cygwin\bin\curl.exe -O http://155.52.207.165/BBS/3.13/bioc/src/contrib/KnowSeq_1.6.3.tar.gz && rm -rf KnowSeq.buildbin-libdir && mkdir KnowSeq.buildbin-libdir && C:\Users\biocbuild\bbs-3.13-bioc\R\bin\R.exe CMD INSTALL --merge-multiarch --build --library=KnowSeq.buildbin-libdir KnowSeq_1.6.3.tar.gz && C:\Users\biocbuild\bbs-3.13-bioc\R\bin\R.exe CMD INSTALL KnowSeq_1.6.3.zip && rm KnowSeq_1.6.3.tar.gz KnowSeq_1.6.3.zip |
| StartedAt: 2021-10-14 11:17:29 -0400 (Thu, 14 Oct 2021) |
| EndedAt: 2021-10-14 11:18:44 -0400 (Thu, 14 Oct 2021) |
| EllapsedTime: 75.5 seconds |
| RetCode: 0 |
| Status: OK |
##############################################################################
##############################################################################
###
### Running command:
###
### C:\cygwin\bin\curl.exe -O http://155.52.207.165/BBS/3.13/bioc/src/contrib/KnowSeq_1.6.3.tar.gz && rm -rf KnowSeq.buildbin-libdir && mkdir KnowSeq.buildbin-libdir && C:\Users\biocbuild\bbs-3.13-bioc\R\bin\R.exe CMD INSTALL --merge-multiarch --build --library=KnowSeq.buildbin-libdir KnowSeq_1.6.3.tar.gz && C:\Users\biocbuild\bbs-3.13-bioc\R\bin\R.exe CMD INSTALL KnowSeq_1.6.3.zip && rm KnowSeq_1.6.3.tar.gz KnowSeq_1.6.3.zip
###
##############################################################################
##############################################################################
% Total % Received % Xferd Average Speed Time Time Time Current
Dload Upload Total Spent Left Speed
0 0 0 0 0 0 0 0 --:--:-- --:--:-- --:--:-- 0
32 4190k 32 1373k 0 0 1532k 0 0:00:02 --:--:-- 0:00:02 1533k
96 4190k 96 4040k 0 0 2131k 0 0:00:01 0:00:01 --:--:-- 2132k
100 4190k 100 4190k 0 0 2142k 0 0:00:01 0:00:01 --:--:-- 2143k
install for i386
* installing *source* package 'KnowSeq' ...
** using staged installation
** R
** inst
** byte-compile and prepare package for lazy loading
** help
*** installing help indices
converting help for package 'KnowSeq'
finding HTML links ... done
DEGsEvidences html
DEGsExtraction html
DEGsToDiseases html
DEGsToPathways html
RNAseqQA html
batchEffectRemoval html
calculateGeneExpressionValues html
countsToMatrix html
dataPlot html
downloadPublicSeries html
featureSelection html
fileMove html
gdcClientDownload html
geneOntologyEnrichment html
getGenesAnnotation html
hisatAlignment html
knn_test html
knn_trn html
knowseqReport html
plotConfMatrix html
rawAlignment html
rf_test html
rf_trn html
sraToFastq html
svm_test html
svm_trn html
** building package indices
** installing vignettes
** testing if installed package can be loaded from temporary location
** testing if installed package can be loaded from final location
** testing if installed package keeps a record of temporary installation path
install for x64
* installing *source* package 'KnowSeq' ...
** testing if installed package can be loaded
* MD5 sums
packaged installation of 'KnowSeq' as KnowSeq_1.6.3.zip
* DONE (KnowSeq)
* installing to library 'C:/Users/biocbuild/bbs-3.13-bioc/R/library'
package 'KnowSeq' successfully unpacked and MD5 sums checked