| Back to Multiple platform build/check report for BioC 3.13 |
|
This page was generated on 2021-10-15 15:06:40 -0400 (Fri, 15 Oct 2021).
|
To the developers/maintainers of the KnowSeq package: - Please allow up to 24 hours (and sometimes 48 hours) for your latest push to git@git.bioconductor.org:packages/KnowSeq.git to reflect on this report. See How and When does the builder pull? When will my changes propagate? here for more information. - Make sure to use the following settings in order to reproduce any error or warning you see on this page. |
| Package 974/2041 | Hostname | OS / Arch | INSTALL | BUILD | CHECK | BUILD BIN | ||||||||
| KnowSeq 1.6.3 (landing page) Daniel Castillo-Secilla
| nebbiolo1 | Linux (Ubuntu 20.04.2 LTS) / x86_64 | OK | OK | OK | |||||||||
| tokay2 | Windows Server 2012 R2 Standard / x64 | OK | OK | OK | OK | |||||||||
| machv2 | macOS 10.14.6 Mojave / x86_64 | OK | OK | OK | OK | |||||||||
| Package: KnowSeq |
| Version: 1.6.3 |
| Command: /Library/Frameworks/R.framework/Versions/Current/Resources/bin/R CMD check --install=check:KnowSeq.install-out.txt --library=/Library/Frameworks/R.framework/Versions/Current/Resources/library --no-vignettes --timings KnowSeq_1.6.3.tar.gz |
| StartedAt: 2021-10-14 20:27:05 -0400 (Thu, 14 Oct 2021) |
| EndedAt: 2021-10-14 20:34:20 -0400 (Thu, 14 Oct 2021) |
| EllapsedTime: 435.0 seconds |
| RetCode: 0 |
| Status: OK |
| CheckDir: KnowSeq.Rcheck |
| Warnings: 0 |
##############################################################################
##############################################################################
###
### Running command:
###
### /Library/Frameworks/R.framework/Versions/Current/Resources/bin/R CMD check --install=check:KnowSeq.install-out.txt --library=/Library/Frameworks/R.framework/Versions/Current/Resources/library --no-vignettes --timings KnowSeq_1.6.3.tar.gz
###
##############################################################################
##############################################################################
* using log directory ‘/Users/biocbuild/bbs-3.13-bioc/meat/KnowSeq.Rcheck’
* using R version 4.1.1 (2021-08-10)
* using platform: x86_64-apple-darwin17.0 (64-bit)
* using session charset: UTF-8
* using option ‘--no-vignettes’
* checking for file ‘KnowSeq/DESCRIPTION’ ... OK
* checking extension type ... Package
* this is package ‘KnowSeq’ version ‘1.6.3’
* package encoding: UTF-8
* checking package namespace information ... OK
* checking package dependencies ... OK
* checking if this is a source package ... OK
* checking if there is a namespace ... OK
* checking for hidden files and directories ... NOTE
Found the following hidden files and directories:
.git_fetch_output.txt
.git_merge_output.txt
These were most likely included in error. See section ‘Package
structure’ in the ‘Writing R Extensions’ manual.
* checking for portable file names ... OK
* checking for sufficient/correct file permissions ... OK
* checking whether package ‘KnowSeq’ can be installed ... OK
* checking installed package size ... NOTE
installed size is 5.9Mb
sub-directories of 1Mb or more:
extdata 5.5Mb
* checking package directory ... OK
* checking ‘build’ directory ... OK
* checking DESCRIPTION meta-information ... OK
* checking top-level files ... OK
* checking for left-over files ... OK
* checking index information ... OK
* checking package subdirectories ... OK
* checking R files for non-ASCII characters ... OK
* checking R files for syntax errors ... OK
* checking whether the package can be loaded ... OK
* checking whether the package can be loaded with stated dependencies ... OK
* checking whether the package can be unloaded cleanly ... OK
* checking whether the namespace can be loaded with stated dependencies ... OK
* checking whether the namespace can be unloaded cleanly ... OK
* checking dependencies in R code ... OK
* checking S3 generic/method consistency ... OK
* checking replacement functions ... OK
* checking foreign function calls ... OK
* checking R code for possible problems ... NOTE
DEGsExtraction: warning in topTable(fit, number = number, coef = 2,
sort.by = "logFC", p.value = pvalue, adjust = "fdr", lfc = lfc):
partial argument match of 'adjust' to 'adjust.method'
RNAseqQA : outlierBarPlot: no visible binding for global variable ‘x’
RNAseqQA : outlierBarPlot: no visible binding for global variable ‘y’
RNAseqQA: no visible binding for global variable ‘Var1’
RNAseqQA: no visible binding for global variable ‘Var2’
RNAseqQA: no visible binding for global variable ‘value’
RNAseqQA: no visible binding for global variable ‘Expression’
RNAseqQA: no visible binding for global variable ‘Samples’
dataPlot: no visible binding for global variable ‘Var1’
dataPlot: no visible binding for global variable ‘Var2’
dataPlot: no visible binding for global variable ‘value’
dataPlot: no visible binding for global variable ‘Classes’
dataPlot: no visible binding for global variable ‘Value’
knn_trn: no visible global function definition for ‘knn.cv’
knowseqReport: no visible binding for global variable ‘target’
Undefined global functions or variables:
Classes Expression Samples Value Var1 Var2 knn.cv target value x y
* checking Rd files ... OK
* checking Rd metadata ... OK
* checking Rd cross-references ... OK
* checking for missing documentation entries ... OK
* checking for code/documentation mismatches ... OK
* checking Rd \usage sections ... OK
* checking Rd contents ... OK
* checking for unstated dependencies in examples ... OK
* checking files in ‘vignettes’ ... OK
* checking examples ... OK
Examples with CPU (user + system) or elapsed time > 5s
user system elapsed
svm_test 39.210 0.077 39.313
svm_trn 36.267 0.070 36.366
dataPlot 34.470 0.211 34.738
rf_trn 31.809 0.527 32.365
rf_test 11.310 0.146 11.466
downloadPublicSeries 1.316 0.066 27.172
* checking for unstated dependencies in vignettes ... OK
* checking package vignettes in ‘inst/doc’ ... OK
* checking running R code from vignettes ... SKIPPED
* checking re-building of vignette outputs ... SKIPPED
* checking PDF version of manual ... OK
* DONE
Status: 3 NOTEs
See
‘/Users/biocbuild/bbs-3.13-bioc/meat/KnowSeq.Rcheck/00check.log’
for details.
KnowSeq.Rcheck/00install.out
############################################################################## ############################################################################## ### ### Running command: ### ### /Library/Frameworks/R.framework/Versions/Current/Resources/bin/R CMD INSTALL KnowSeq ### ############################################################################## ############################################################################## * installing to library ‘/Library/Frameworks/R.framework/Versions/4.1/Resources/library’ * installing *source* package ‘KnowSeq’ ... ** using staged installation ** R ** inst ** byte-compile and prepare package for lazy loading ** help *** installing help indices ** building package indices ** installing vignettes ** testing if installed package can be loaded from temporary location ** testing if installed package can be loaded from final location ** testing if installed package keeps a record of temporary installation path * DONE (KnowSeq)
KnowSeq.Rcheck/KnowSeq-Ex.timings
| name | user | system | elapsed | |
| DEGsEvidences | 0.389 | 0.019 | 1.191 | |
| DEGsExtraction | 1.574 | 0.039 | 1.615 | |
| DEGsToDiseases | 0.251 | 0.009 | 1.166 | |
| DEGsToPathways | 0.357 | 0.012 | 2.796 | |
| RNAseqQA | 1.996 | 0.037 | 2.082 | |
| batchEffectRemoval | 1.431 | 0.023 | 1.458 | |
| calculateGeneExpressionValues | 0.706 | 0.026 | 0.732 | |
| countsToMatrix | 0.085 | 0.007 | 0.092 | |
| dataPlot | 34.470 | 0.211 | 34.738 | |
| downloadPublicSeries | 1.316 | 0.066 | 27.172 | |
| featureSelection | 0.013 | 0.004 | 0.018 | |
| fileMove | 0.000 | 0.000 | 0.001 | |
| gdcClientDownload | 0 | 0 | 0 | |
| geneOntologyEnrichment | 0.000 | 0.000 | 0.001 | |
| getGenesAnnotation | 0.178 | 0.004 | 0.183 | |
| hisatAlignment | 0.002 | 0.001 | 0.002 | |
| knn_test | 0.072 | 0.002 | 0.073 | |
| knn_trn | 2.836 | 0.018 | 2.858 | |
| knowseqReport | 0.010 | 0.000 | 0.011 | |
| plotConfMatrix | 0.027 | 0.001 | 0.027 | |
| rawAlignment | 0.003 | 0.001 | 0.002 | |
| rf_test | 11.310 | 0.146 | 11.466 | |
| rf_trn | 31.809 | 0.527 | 32.365 | |
| sraToFastq | 0.000 | 0.001 | 0.001 | |
| svm_test | 39.210 | 0.077 | 39.313 | |
| svm_trn | 36.267 | 0.070 | 36.366 | |