| Back to Multiple platform build/check report for BioC 3.13 |
|
This page was generated on 2021-10-15 15:05:43 -0400 (Fri, 15 Oct 2021).
|
To the developers/maintainers of the KnowSeq package: - Please allow up to 24 hours (and sometimes 48 hours) for your latest push to git@git.bioconductor.org:packages/KnowSeq.git to reflect on this report. See How and When does the builder pull? When will my changes propagate? here for more information. - Make sure to use the following settings in order to reproduce any error or warning you see on this page. |
| Package 974/2041 | Hostname | OS / Arch | INSTALL | BUILD | CHECK | BUILD BIN | ||||||||
| KnowSeq 1.6.3 (landing page) Daniel Castillo-Secilla
| nebbiolo1 | Linux (Ubuntu 20.04.2 LTS) / x86_64 | OK | OK | OK | |||||||||
| tokay2 | Windows Server 2012 R2 Standard / x64 | OK | OK | OK | OK | |||||||||
| machv2 | macOS 10.14.6 Mojave / x86_64 | OK | OK | OK | OK | |||||||||
| Package: KnowSeq |
| Version: 1.6.3 |
| Command: /home/biocbuild/bbs-3.13-bioc/R/bin/R CMD check --install=check:KnowSeq.install-out.txt --library=/home/biocbuild/bbs-3.13-bioc/R/library --no-vignettes --timings KnowSeq_1.6.3.tar.gz |
| StartedAt: 2021-10-14 10:21:28 -0400 (Thu, 14 Oct 2021) |
| EndedAt: 2021-10-14 10:26:54 -0400 (Thu, 14 Oct 2021) |
| EllapsedTime: 325.9 seconds |
| RetCode: 0 |
| Status: OK |
| CheckDir: KnowSeq.Rcheck |
| Warnings: 0 |
##############################################################################
##############################################################################
###
### Running command:
###
### /home/biocbuild/bbs-3.13-bioc/R/bin/R CMD check --install=check:KnowSeq.install-out.txt --library=/home/biocbuild/bbs-3.13-bioc/R/library --no-vignettes --timings KnowSeq_1.6.3.tar.gz
###
##############################################################################
##############################################################################
* using log directory ‘/home/biocbuild/bbs-3.13-bioc/meat/KnowSeq.Rcheck’
* using R version 4.1.1 (2021-08-10)
* using platform: x86_64-pc-linux-gnu (64-bit)
* using session charset: UTF-8
* using option ‘--no-vignettes’
* checking for file ‘KnowSeq/DESCRIPTION’ ... OK
* checking extension type ... Package
* this is package ‘KnowSeq’ version ‘1.6.3’
* package encoding: UTF-8
* checking package namespace information ... OK
* checking package dependencies ... OK
* checking if this is a source package ... OK
* checking if there is a namespace ... OK
* checking for hidden files and directories ... OK
* checking for portable file names ... OK
* checking for sufficient/correct file permissions ... OK
* checking whether package ‘KnowSeq’ can be installed ... OK
* checking installed package size ... OK
* checking package directory ... OK
* checking ‘build’ directory ... OK
* checking DESCRIPTION meta-information ... OK
* checking top-level files ... OK
* checking for left-over files ... OK
* checking index information ... OK
* checking package subdirectories ... OK
* checking R files for non-ASCII characters ... OK
* checking R files for syntax errors ... OK
* checking whether the package can be loaded ... OK
* checking whether the package can be loaded with stated dependencies ... OK
* checking whether the package can be unloaded cleanly ... OK
* checking whether the namespace can be loaded with stated dependencies ... OK
* checking whether the namespace can be unloaded cleanly ... OK
* checking dependencies in R code ... OK
* checking S3 generic/method consistency ... OK
* checking replacement functions ... OK
* checking foreign function calls ... OK
* checking R code for possible problems ... NOTE
DEGsExtraction: warning in topTable(fit, number = number, coef = 2,
sort.by = "logFC", p.value = pvalue, adjust = "fdr", lfc = lfc):
partial argument match of 'adjust' to 'adjust.method'
RNAseqQA : outlierBarPlot: no visible binding for global variable ‘x’
RNAseqQA : outlierBarPlot: no visible binding for global variable ‘y’
RNAseqQA: no visible binding for global variable ‘Var1’
RNAseqQA: no visible binding for global variable ‘Var2’
RNAseqQA: no visible binding for global variable ‘value’
RNAseqQA: no visible binding for global variable ‘Expression’
RNAseqQA: no visible binding for global variable ‘Samples’
dataPlot: no visible binding for global variable ‘Var1’
dataPlot: no visible binding for global variable ‘Var2’
dataPlot: no visible binding for global variable ‘value’
dataPlot: no visible binding for global variable ‘Classes’
dataPlot: no visible binding for global variable ‘Value’
knn_trn: no visible global function definition for ‘knn.cv’
knowseqReport: no visible binding for global variable ‘target’
Undefined global functions or variables:
Classes Expression Samples Value Var1 Var2 knn.cv target value x y
* checking Rd files ... OK
* checking Rd metadata ... OK
* checking Rd cross-references ... OK
* checking for missing documentation entries ... OK
* checking for code/documentation mismatches ... OK
* checking Rd \usage sections ... OK
* checking Rd contents ... OK
* checking for unstated dependencies in examples ... OK
* checking files in ‘vignettes’ ... OK
* checking examples ... OK
Examples with CPU (user + system) or elapsed time > 5s
user system elapsed
svm_test 35.000 0.252 35.256
svm_trn 29.453 0.200 29.656
rf_trn 28.004 0.516 28.521
dataPlot 17.955 0.852 18.808
rf_test 10.006 0.645 10.651
downloadPublicSeries 0.963 0.055 21.464
* checking for unstated dependencies in vignettes ... OK
* checking package vignettes in ‘inst/doc’ ... OK
* checking running R code from vignettes ... SKIPPED
* checking re-building of vignette outputs ... SKIPPED
* checking PDF version of manual ... OK
* DONE
Status: 1 NOTE
See
‘/home/biocbuild/bbs-3.13-bioc/meat/KnowSeq.Rcheck/00check.log’
for details.
KnowSeq.Rcheck/00install.out
############################################################################## ############################################################################## ### ### Running command: ### ### /home/biocbuild/bbs-3.13-bioc/R/bin/R CMD INSTALL KnowSeq ### ############################################################################## ############################################################################## * installing to library ‘/home/biocbuild/bbs-3.13-bioc/R/library’ * installing *source* package ‘KnowSeq’ ... ** using staged installation ** R ** inst ** byte-compile and prepare package for lazy loading ** help *** installing help indices ** building package indices ** installing vignettes ** testing if installed package can be loaded from temporary location ** testing if installed package can be loaded from final location ** testing if installed package keeps a record of temporary installation path * DONE (KnowSeq)
KnowSeq.Rcheck/KnowSeq-Ex.timings
| name | user | system | elapsed | |
| DEGsEvidences | 0.336 | 0.008 | 1.239 | |
| DEGsExtraction | 1.425 | 0.044 | 1.473 | |
| DEGsToDiseases | 0.232 | 0.004 | 1.470 | |
| DEGsToPathways | 0.317 | 0.012 | 3.000 | |
| RNAseqQA | 1.218 | 0.028 | 1.246 | |
| batchEffectRemoval | 1.475 | 0.018 | 1.492 | |
| calculateGeneExpressionValues | 0.624 | 0.012 | 0.636 | |
| countsToMatrix | 0.057 | 0.016 | 0.077 | |
| dataPlot | 17.955 | 0.852 | 18.808 | |
| downloadPublicSeries | 0.963 | 0.055 | 21.464 | |
| featureSelection | 0.029 | 0.004 | 0.025 | |
| fileMove | 0 | 0 | 0 | |
| gdcClientDownload | 0.001 | 0.000 | 0.001 | |
| geneOntologyEnrichment | 0 | 0 | 0 | |
| getGenesAnnotation | 0.187 | 0.012 | 0.195 | |
| hisatAlignment | 0.002 | 0.000 | 0.002 | |
| knn_test | 0.039 | 0.000 | 0.040 | |
| knn_trn | 2.072 | 0.160 | 2.232 | |
| knowseqReport | 0.006 | 0.000 | 0.006 | |
| plotConfMatrix | 0.017 | 0.000 | 0.017 | |
| rawAlignment | 0.000 | 0.002 | 0.001 | |
| rf_test | 10.006 | 0.645 | 10.651 | |
| rf_trn | 28.004 | 0.516 | 28.521 | |
| sraToFastq | 0 | 0 | 0 | |
| svm_test | 35.000 | 0.252 | 35.256 | |
| svm_trn | 29.453 | 0.200 | 29.656 | |