| Back to Multiple platform build/check report for BioC 3.12 |
|
This page was generated on 2021-05-06 12:34:08 -0400 (Thu, 06 May 2021).
|
To the developers/maintainers of the variancePartition package: Please make sure to use the following settings in order to reproduce any error or warning you see on this page. |
| Package 1929/1974 | Hostname | OS / Arch | INSTALL | BUILD | CHECK | BUILD BIN | ||||||||
| variancePartition 1.20.0 (landing page) Gabriel E. Hoffman
| malbec1 | Linux (Ubuntu 18.04.5 LTS) / x86_64 | OK | OK | OK | |||||||||
| tokay1 | Windows Server 2012 R2 Standard / x64 | OK | OK | OK | OK | |||||||||
| merida1 | macOS 10.14.6 Mojave / x86_64 | OK | OK | OK | OK | |||||||||
| Package: variancePartition |
| Version: 1.20.0 |
| Command: rm -rf variancePartition.buildbin-libdir && mkdir variancePartition.buildbin-libdir && C:\Users\biocbuild\bbs-3.12-bioc\R\bin\R.exe CMD INSTALL --merge-multiarch --build --library=variancePartition.buildbin-libdir variancePartition_1.20.0.tar.gz |
| StartedAt: 2021-05-06 10:20:05 -0400 (Thu, 06 May 2021) |
| EndedAt: 2021-05-06 10:20:36 -0400 (Thu, 06 May 2021) |
| EllapsedTime: 31.8 seconds |
| RetCode: 0 |
| Status: OK |
| PackageFile: variancePartition_1.20.0.zip |
| PackageFileSize: 3.262 MiB |
##############################################################################
##############################################################################
###
### Running command:
###
### rm -rf variancePartition.buildbin-libdir && mkdir variancePartition.buildbin-libdir && C:\Users\biocbuild\bbs-3.12-bioc\R\bin\R.exe CMD INSTALL --merge-multiarch --build --library=variancePartition.buildbin-libdir variancePartition_1.20.0.tar.gz
###
##############################################################################
##############################################################################
install for i386
* installing *source* package 'variancePartition' ...
** using staged installation
** R
** data
** inst
** byte-compile and prepare package for lazy loading
Creating a new generic function for 'classifyTestsF' in package 'variancePartition'
** help
*** installing help indices
converting help for package 'variancePartition'
finding HTML links ... done
ESS-method html
FMT-class html
FMT html
FMT.ZI html
MArrayLM2-class html
VarParCIList-class html
VarParFitList-class html
as.data.frame-varPartResults-method html
as.matrix-varPartResults-method html
calcVarPart-method html
canCorPairs html
classifyTestsF-MArrayLM2-method html
classifyTestsF html
colinearityScore html
dot-getAllUniContrasts html
dot-isMixedModelFormula html
dot-standard_transform html
dream-method html
eBayes-method html
eBayesFMT html
extractVarPart html
fitExtractVarPartModel-method html
fitVarPartModel-method html
getContrast-method html
get_prediction-method html
ggColorHue html
plotCompareP-method html
plotContrasts html
plotCorrMatrix html
plotCorrStructure html
plotPercentBars html
plotStratify html
plotStratifyBy html
plotVarPart-method html
residuals-MArrayLM-method html
residuals-MArrayLM2-method html
residuals-VarParFitList-method html
sortCols-method html
subset.MArrayLM2-method html
toptable-method html
varParFrac-class html
varPartConfInf html
varPartDEdata html
varPartData html
varPartResults-class html
voomWithDreamWeights html
** building package indices
** installing vignettes
** testing if installed package can be loaded from temporary location
** testing if installed package can be loaded from final location
** testing if installed package keeps a record of temporary installation path
install for x64
* installing *source* package 'variancePartition' ...
** testing if installed package can be loaded
* MD5 sums
packaged installation of 'variancePartition' as variancePartition_1.20.0.zip
* DONE (variancePartition)