| Back to Multiple platform build/check report for BioC 3.12 |
|
This page was generated on 2021-05-06 12:37:19 -0400 (Thu, 06 May 2021).
|
To the developers/maintainers of the variancePartition package: Please make sure to use the following settings in order to reproduce any error or warning you see on this page. |
| Package 1929/1974 | Hostname | OS / Arch | INSTALL | BUILD | CHECK | BUILD BIN | ||||||||
| variancePartition 1.20.0 (landing page) Gabriel E. Hoffman
| malbec1 | Linux (Ubuntu 18.04.5 LTS) / x86_64 | OK | OK | OK | |||||||||
| tokay1 | Windows Server 2012 R2 Standard / x64 | OK | OK | OK | OK | |||||||||
| merida1 | macOS 10.14.6 Mojave / x86_64 | OK | OK | OK | OK | |||||||||
| Package: variancePartition |
| Version: 1.20.0 |
| Command: /Library/Frameworks/R.framework/Versions/Current/Resources/bin/R CMD check --install=check:variancePartition.install-out.txt --library=/Library/Frameworks/R.framework/Versions/Current/Resources/library --no-vignettes --timings variancePartition_1.20.0.tar.gz |
| StartedAt: 2021-05-06 07:10:21 -0400 (Thu, 06 May 2021) |
| EndedAt: 2021-05-06 07:21:39 -0400 (Thu, 06 May 2021) |
| EllapsedTime: 677.4 seconds |
| RetCode: 0 |
| Status: OK |
| CheckDir: variancePartition.Rcheck |
| Warnings: 0 |
##############################################################################
##############################################################################
###
### Running command:
###
### /Library/Frameworks/R.framework/Versions/Current/Resources/bin/R CMD check --install=check:variancePartition.install-out.txt --library=/Library/Frameworks/R.framework/Versions/Current/Resources/library --no-vignettes --timings variancePartition_1.20.0.tar.gz
###
##############################################################################
##############################################################################
* using log directory ‘/Users/biocbuild/bbs-3.12-bioc/meat/variancePartition.Rcheck’
* using R version 4.0.5 (2021-03-31)
* using platform: x86_64-apple-darwin17.0 (64-bit)
* using session charset: UTF-8
* using option ‘--no-vignettes’
* checking for file ‘variancePartition/DESCRIPTION’ ... OK
* checking extension type ... Package
* this is package ‘variancePartition’ version ‘1.20.0’
* checking package namespace information ... OK
* checking package dependencies ... OK
* checking if this is a source package ... OK
* checking if there is a namespace ... OK
* checking for hidden files and directories ... OK
* checking for portable file names ... OK
* checking for sufficient/correct file permissions ... OK
* checking whether package ‘variancePartition’ can be installed ... OK
* checking installed package size ... OK
* checking package directory ... OK
* checking ‘build’ directory ... OK
* checking DESCRIPTION meta-information ... OK
* checking top-level files ... OK
* checking for left-over files ... OK
* checking index information ... OK
* checking package subdirectories ... OK
* checking R files for non-ASCII characters ... OK
* checking R files for syntax errors ... OK
* checking whether the package can be loaded ... OK
* checking whether the package can be loaded with stated dependencies ... OK
* checking whether the package can be unloaded cleanly ... OK
* checking whether the namespace can be loaded with stated dependencies ... OK
* checking whether the namespace can be unloaded cleanly ... OK
* checking dependencies in R code ... NOTE
Unexported object imported by a ':::' call: ‘lme4:::reOnly’
See the note in ?`:::` about the use of this operator.
* checking S3 generic/method consistency ... OK
* checking replacement functions ... OK
* checking foreign function calls ... OK
* checking R code for possible problems ... OK
* checking Rd files ... OK
* checking Rd metadata ... OK
* checking Rd cross-references ... OK
* checking for missing documentation entries ... OK
* checking for code/documentation mismatches ... OK
* checking Rd \usage sections ... OK
* checking Rd contents ... OK
* checking for unstated dependencies in examples ... OK
* checking contents of ‘data’ directory ... OK
* checking data for non-ASCII characters ... OK
* checking data for ASCII and uncompressed saves ... OK
* checking sizes of PDF files under ‘inst/doc’ ... OK
* checking files in ‘vignettes’ ... OK
* checking examples ... OK
Examples with CPU (user + system) or elapsed time > 5s
user system elapsed
fitVarPartModel-method 50.610 5.908 154.334
extractVarPart 32.062 4.125 76.483
residuals-VarParFitList-method 18.923 2.204 53.988
fitExtractVarPartModel-method 14.437 3.052 57.258
plotCompareP-method 9.102 1.861 31.814
plotPercentBars 7.246 1.339 26.550
sortCols-method 7.146 1.195 25.973
plotVarPart-method 6.978 1.224 29.020
varPartConfInf 5.142 0.219 34.392
dream-method 2.527 0.184 25.882
voomWithDreamWeights 1.720 0.183 17.253
plotCorrStructure 1.323 0.078 7.943
* checking for unstated dependencies in ‘tests’ ... OK
* checking tests ...
Running ‘runTests.R’
OK
* checking for unstated dependencies in vignettes ... OK
* checking package vignettes in ‘inst/doc’ ... OK
* checking running R code from vignettes ... SKIPPED
* checking re-building of vignette outputs ... SKIPPED
* checking PDF version of manual ... OK
* DONE
Status: 1 NOTE
See
‘/Users/biocbuild/bbs-3.12-bioc/meat/variancePartition.Rcheck/00check.log’
for details.
variancePartition.Rcheck/00install.out
############################################################################## ############################################################################## ### ### Running command: ### ### /Library/Frameworks/R.framework/Versions/Current/Resources/bin/R CMD INSTALL variancePartition ### ############################################################################## ############################################################################## * installing to library ‘/Library/Frameworks/R.framework/Versions/4.0/Resources/library’ * installing *source* package ‘variancePartition’ ... ** using staged installation ** R ** data ** inst ** byte-compile and prepare package for lazy loading Creating a new generic function for ‘classifyTestsF’ in package ‘variancePartition’ ** help *** installing help indices ** building package indices ** installing vignettes ** testing if installed package can be loaded from temporary location ** testing if installed package can be loaded from final location ** testing if installed package keeps a record of temporary installation path * DONE (variancePartition)
variancePartition.Rcheck/tests/runTests.Rout
R version 4.0.5 (2021-03-31) -- "Shake and Throw"
Copyright (C) 2021 The R Foundation for Statistical Computing
Platform: x86_64-apple-darwin17.0 (64-bit)
R is free software and comes with ABSOLUTELY NO WARRANTY.
You are welcome to redistribute it under certain conditions.
Type 'license()' or 'licence()' for distribution details.
R is a collaborative project with many contributors.
Type 'contributors()' for more information and
'citation()' on how to cite R or R packages in publications.
Type 'demo()' for some demos, 'help()' for on-line help, or
'help.start()' for an HTML browser interface to help.
Type 'q()' to quit R.
> BiocGenerics:::testPackage("variancePartition")
Attaching package: 'BiocGenerics'
The following objects are masked from 'package:parallel':
clusterApply, clusterApplyLB, clusterCall, clusterEvalQ,
clusterExport, clusterMap, parApply, parCapply, parLapply,
parLapplyLB, parRapply, parSapply, parSapplyLB
The following object is masked from 'package:limma':
plotMA
The following objects are masked from 'package:stats':
IQR, mad, sd, var, xtabs
The following objects are masked from 'package:base':
Filter, Find, Map, Position, Reduce, anyDuplicated, append,
as.data.frame, basename, cbind, colnames, dirname, do.call,
duplicated, eval, evalq, get, grep, grepl, intersect, is.unsorted,
lapply, mapply, match, mget, order, paste, pmax, pmax.int, pmin,
pmin.int, rank, rbind, rownames, sapply, setdiff, sort, table,
tapply, union, unique, unsplit, which.max, which.min
Welcome to Bioconductor
Vignettes contain introductory material; view with
'browseVignettes()'. To cite Bioconductor, see
'citation("Biobase")', and for packages 'citation("pkgname")'.
Attaching package: 'variancePartition'
The following object is masked from 'package:limma':
classifyTestsF
Dividing work into 1 chunks...
Total:3 s
Dividing work into 1 chunks...
Total:2 s
Dividing work into 1 chunks...
Total:3 s
> proc.time()
user system elapsed
12.791 1.501 13.869
variancePartition.Rcheck/variancePartition-Ex.timings
| name | user | system | elapsed | |
| ESS-method | 0.283 | 0.031 | 0.315 | |
| as.data.frame-varPartResults-method | 1.496 | 0.344 | 1.689 | |
| as.matrix-varPartResults-method | 1.106 | 0.351 | 1.322 | |
| calcVarPart-method | 0.103 | 0.017 | 0.120 | |
| canCorPairs | 0.114 | 0.016 | 0.131 | |
| colinearityScore | 1.286 | 0.431 | 1.472 | |
| dream-method | 2.527 | 0.184 | 25.882 | |
| eBayesFMT | 1.797 | 0.029 | 1.828 | |
| extractVarPart | 32.062 | 4.125 | 76.483 | |
| fitExtractVarPartModel-method | 14.437 | 3.052 | 57.258 | |
| fitVarPartModel-method | 50.610 | 5.908 | 154.334 | |
| getContrast-method | 0.188 | 0.006 | 0.196 | |
| get_prediction-method | 0.086 | 0.015 | 0.103 | |
| ggColorHue | 0 | 0 | 0 | |
| plotCompareP-method | 9.102 | 1.861 | 31.814 | |
| plotContrasts | 0.387 | 0.007 | 0.396 | |
| plotCorrMatrix | 0.072 | 0.005 | 0.078 | |
| plotCorrStructure | 1.323 | 0.078 | 7.943 | |
| plotPercentBars | 7.246 | 1.339 | 26.550 | |
| plotStratify | 0.824 | 0.007 | 0.834 | |
| plotStratifyBy | 0.830 | 0.007 | 0.839 | |
| plotVarPart-method | 6.978 | 1.224 | 29.020 | |
| residuals-VarParFitList-method | 18.923 | 2.204 | 53.988 | |
| sortCols-method | 7.146 | 1.195 | 25.973 | |
| varPartConfInf | 5.142 | 0.219 | 34.392 | |
| voomWithDreamWeights | 1.720 | 0.183 | 17.253 | |