| Back to Multiple platform build/check report for BioC 3.12 |
|
This page was generated on 2021-05-06 12:29:36 -0400 (Thu, 06 May 2021).
|
To the developers/maintainers of the variancePartition package: Please make sure to use the following settings in order to reproduce any error or warning you see on this page. |
| Package 1929/1974 | Hostname | OS / Arch | INSTALL | BUILD | CHECK | BUILD BIN | ||||||||
| variancePartition 1.20.0 (landing page) Gabriel E. Hoffman
| malbec1 | Linux (Ubuntu 18.04.5 LTS) / x86_64 | OK | OK | OK | |||||||||
| tokay1 | Windows Server 2012 R2 Standard / x64 | OK | OK | OK | OK | |||||||||
| merida1 | macOS 10.14.6 Mojave / x86_64 | OK | OK | OK | OK | |||||||||
| Package: variancePartition |
| Version: 1.20.0 |
| Command: /home/biocbuild/bbs-3.12-bioc/R/bin/R CMD check --install=check:variancePartition.install-out.txt --library=/home/biocbuild/bbs-3.12-bioc/R/library --no-vignettes --timings variancePartition_1.20.0.tar.gz |
| StartedAt: 2021-05-06 06:56:55 -0400 (Thu, 06 May 2021) |
| EndedAt: 2021-05-06 07:04:41 -0400 (Thu, 06 May 2021) |
| EllapsedTime: 466.4 seconds |
| RetCode: 0 |
| Status: OK |
| CheckDir: variancePartition.Rcheck |
| Warnings: 0 |
##############################################################################
##############################################################################
###
### Running command:
###
### /home/biocbuild/bbs-3.12-bioc/R/bin/R CMD check --install=check:variancePartition.install-out.txt --library=/home/biocbuild/bbs-3.12-bioc/R/library --no-vignettes --timings variancePartition_1.20.0.tar.gz
###
##############################################################################
##############################################################################
* using log directory ‘/home/biocbuild/bbs-3.12-bioc/meat/variancePartition.Rcheck’
* using R version 4.0.5 (2021-03-31)
* using platform: x86_64-pc-linux-gnu (64-bit)
* using session charset: UTF-8
* using option ‘--no-vignettes’
* checking for file ‘variancePartition/DESCRIPTION’ ... OK
* checking extension type ... Package
* this is package ‘variancePartition’ version ‘1.20.0’
* checking package namespace information ... OK
* checking package dependencies ... OK
* checking if this is a source package ... OK
* checking if there is a namespace ... OK
* checking for hidden files and directories ... OK
* checking for portable file names ... OK
* checking for sufficient/correct file permissions ... OK
* checking whether package ‘variancePartition’ can be installed ... OK
* checking installed package size ... OK
* checking package directory ... OK
* checking ‘build’ directory ... OK
* checking DESCRIPTION meta-information ... OK
* checking top-level files ... OK
* checking for left-over files ... OK
* checking index information ... OK
* checking package subdirectories ... OK
* checking R files for non-ASCII characters ... OK
* checking R files for syntax errors ... OK
* checking whether the package can be loaded ... OK
* checking whether the package can be loaded with stated dependencies ... OK
* checking whether the package can be unloaded cleanly ... OK
* checking whether the namespace can be loaded with stated dependencies ... OK
* checking whether the namespace can be unloaded cleanly ... OK
* checking dependencies in R code ... NOTE
Unexported object imported by a ':::' call: ‘lme4:::reOnly’
See the note in ?`:::` about the use of this operator.
* checking S3 generic/method consistency ... OK
* checking replacement functions ... OK
* checking foreign function calls ... OK
* checking R code for possible problems ... OK
* checking Rd files ... OK
* checking Rd metadata ... OK
* checking Rd cross-references ... OK
* checking for missing documentation entries ... OK
* checking for code/documentation mismatches ... OK
* checking Rd \usage sections ... OK
* checking Rd contents ... OK
* checking for unstated dependencies in examples ... OK
* checking contents of ‘data’ directory ... OK
* checking data for non-ASCII characters ... OK
* checking data for ASCII and uncompressed saves ... OK
* checking files in ‘vignettes’ ... OK
* checking examples ... OK
Examples with CPU (user + system) or elapsed time > 5s
user system elapsed
fitVarPartModel-method 50.336 4.344 76.753
extractVarPart 30.500 2.120 46.829
residuals-VarParFitList-method 18.600 1.716 26.961
fitExtractVarPartModel-method 13.672 2.296 35.926
plotCompareP-method 8.940 1.156 21.676
plotPercentBars 6.832 1.112 15.155
sortCols-method 6.700 1.132 15.077
plotVarPart-method 6.356 1.072 15.139
varPartConfInf 5.016 0.764 37.216
voomWithDreamWeights 2.240 1.412 18.064
dream-method 2.852 0.428 26.398
plotCorrStructure 1.240 0.700 8.121
* checking for unstated dependencies in ‘tests’ ... OK
* checking tests ...
Running ‘runTests.R’
OK
* checking for unstated dependencies in vignettes ... OK
* checking package vignettes in ‘inst/doc’ ... OK
* checking running R code from vignettes ... SKIPPED
* checking re-building of vignette outputs ... SKIPPED
* checking PDF version of manual ... OK
* DONE
Status: 1 NOTE
See
‘/home/biocbuild/bbs-3.12-bioc/meat/variancePartition.Rcheck/00check.log’
for details.
variancePartition.Rcheck/00install.out
############################################################################## ############################################################################## ### ### Running command: ### ### /home/biocbuild/bbs-3.12-bioc/R/bin/R CMD INSTALL variancePartition ### ############################################################################## ############################################################################## * installing to library ‘/home/biocbuild/bbs-3.12-bioc/R/library’ * installing *source* package ‘variancePartition’ ... ** using staged installation ** R ** data ** inst ** byte-compile and prepare package for lazy loading Creating a new generic function for ‘classifyTestsF’ in package ‘variancePartition’ ** help *** installing help indices ** building package indices ** installing vignettes ** testing if installed package can be loaded from temporary location ** testing if installed package can be loaded from final location ** testing if installed package keeps a record of temporary installation path * DONE (variancePartition)
variancePartition.Rcheck/tests/runTests.Rout
R version 4.0.5 (2021-03-31) -- "Shake and Throw"
Copyright (C) 2021 The R Foundation for Statistical Computing
Platform: x86_64-pc-linux-gnu (64-bit)
R is free software and comes with ABSOLUTELY NO WARRANTY.
You are welcome to redistribute it under certain conditions.
Type 'license()' or 'licence()' for distribution details.
R is a collaborative project with many contributors.
Type 'contributors()' for more information and
'citation()' on how to cite R or R packages in publications.
Type 'demo()' for some demos, 'help()' for on-line help, or
'help.start()' for an HTML browser interface to help.
Type 'q()' to quit R.
> BiocGenerics:::testPackage("variancePartition")
Attaching package: 'BiocGenerics'
The following objects are masked from 'package:parallel':
clusterApply, clusterApplyLB, clusterCall, clusterEvalQ,
clusterExport, clusterMap, parApply, parCapply, parLapply,
parLapplyLB, parRapply, parSapply, parSapplyLB
The following object is masked from 'package:limma':
plotMA
The following objects are masked from 'package:stats':
IQR, mad, sd, var, xtabs
The following objects are masked from 'package:base':
Filter, Find, Map, Position, Reduce, anyDuplicated, append,
as.data.frame, basename, cbind, colnames, dirname, do.call,
duplicated, eval, evalq, get, grep, grepl, intersect, is.unsorted,
lapply, mapply, match, mget, order, paste, pmax, pmax.int, pmin,
pmin.int, rank, rbind, rownames, sapply, setdiff, sort, table,
tapply, union, unique, unsplit, which.max, which.min
Welcome to Bioconductor
Vignettes contain introductory material; view with
'browseVignettes()'. To cite Bioconductor, see
'citation("Biobase")', and for packages 'citation("pkgname")'.
Attaching package: 'variancePartition'
The following object is masked from 'package:limma':
classifyTestsF
Dividing work into 1 chunks...
Total:3 s
Dividing work into 1 chunks...
Total:2 s
Dividing work into 1 chunks...
Total:3 s
> proc.time()
user system elapsed
12.568 1.420 13.730
variancePartition.Rcheck/variancePartition-Ex.timings
| name | user | system | elapsed | |
| ESS-method | 0.320 | 0.048 | 0.380 | |
| as.data.frame-varPartResults-method | 1.700 | 0.348 | 1.978 | |
| as.matrix-varPartResults-method | 0.928 | 0.296 | 1.136 | |
| calcVarPart-method | 0.088 | 0.000 | 0.088 | |
| canCorPairs | 0.076 | 0.000 | 0.077 | |
| colinearityScore | 1.096 | 0.224 | 1.116 | |
| dream-method | 2.852 | 0.428 | 26.398 | |
| eBayesFMT | 2.012 | 0.032 | 2.051 | |
| extractVarPart | 30.500 | 2.120 | 46.829 | |
| fitExtractVarPartModel-method | 13.672 | 2.296 | 35.926 | |
| fitVarPartModel-method | 50.336 | 4.344 | 76.753 | |
| getContrast-method | 0.152 | 0.000 | 0.154 | |
| get_prediction-method | 0.104 | 0.004 | 0.128 | |
| ggColorHue | 0.000 | 0.000 | 0.001 | |
| plotCompareP-method | 8.940 | 1.156 | 21.676 | |
| plotContrasts | 0.464 | 0.024 | 0.491 | |
| plotCorrMatrix | 0.120 | 0.008 | 0.130 | |
| plotCorrStructure | 1.240 | 0.700 | 8.121 | |
| plotPercentBars | 6.832 | 1.112 | 15.155 | |
| plotStratify | 0.560 | 0.040 | 0.602 | |
| plotStratifyBy | 0.696 | 0.040 | 0.734 | |
| plotVarPart-method | 6.356 | 1.072 | 15.139 | |
| residuals-VarParFitList-method | 18.600 | 1.716 | 26.961 | |
| sortCols-method | 6.700 | 1.132 | 15.077 | |
| varPartConfInf | 5.016 | 0.764 | 37.216 | |
| voomWithDreamWeights | 2.240 | 1.412 | 18.064 | |