| Back to Multiple platform build/check report for BioC 3.12 |
|
This page was generated on 2021-05-06 12:33:35 -0400 (Thu, 06 May 2021).
|
To the developers/maintainers of the seqsetvis package: Please make sure to use the following settings in order to reproduce any error or warning you see on this page. |
| Package 1685/1974 | Hostname | OS / Arch | INSTALL | BUILD | CHECK | BUILD BIN | ||||||||
| seqsetvis 1.10.0 (landing page) Joseph R Boyd
| malbec1 | Linux (Ubuntu 18.04.5 LTS) / x86_64 | OK | OK | OK | |||||||||
| tokay1 | Windows Server 2012 R2 Standard / x64 | OK | OK | OK | OK | |||||||||
| merida1 | macOS 10.14.6 Mojave / x86_64 | OK | OK | OK | OK | |||||||||
| Package: seqsetvis |
| Version: 1.10.0 |
| Command: C:\Users\biocbuild\bbs-3.12-bioc\R\bin\R.exe CMD check --force-multiarch --install=check:seqsetvis.install-out.txt --library=C:\Users\biocbuild\bbs-3.12-bioc\R\library --no-vignettes --timings seqsetvis_1.10.0.tar.gz |
| StartedAt: 2021-05-06 06:53:28 -0400 (Thu, 06 May 2021) |
| EndedAt: 2021-05-06 07:10:32 -0400 (Thu, 06 May 2021) |
| EllapsedTime: 1023.6 seconds |
| RetCode: 0 |
| Status: OK |
| CheckDir: seqsetvis.Rcheck |
| Warnings: 0 |
##############################################################################
##############################################################################
###
### Running command:
###
### C:\Users\biocbuild\bbs-3.12-bioc\R\bin\R.exe CMD check --force-multiarch --install=check:seqsetvis.install-out.txt --library=C:\Users\biocbuild\bbs-3.12-bioc\R\library --no-vignettes --timings seqsetvis_1.10.0.tar.gz
###
##############################################################################
##############################################################################
* using log directory 'C:/Users/biocbuild/bbs-3.12-bioc/meat/seqsetvis.Rcheck'
* using R version 4.0.5 (2021-03-31)
* using platform: x86_64-w64-mingw32 (64-bit)
* using session charset: ISO8859-1
* using option '--no-vignettes'
* checking for file 'seqsetvis/DESCRIPTION' ... OK
* checking extension type ... Package
* this is package 'seqsetvis' version '1.10.0'
* package encoding: UTF-8
* checking package namespace information ... OK
* checking package dependencies ... OK
* checking if this is a source package ... OK
* checking if there is a namespace ... OK
* checking for hidden files and directories ... OK
* checking for portable file names ... OK
* checking whether package 'seqsetvis' can be installed ... OK
* checking installed package size ... OK
* checking package directory ... OK
* checking 'build' directory ... OK
* checking DESCRIPTION meta-information ... OK
* checking top-level files ... OK
* checking for left-over files ... OK
* checking index information ... OK
* checking package subdirectories ... OK
* checking R files for non-ASCII characters ... OK
* checking R files for syntax errors ... OK
* loading checks for arch 'i386'
** checking whether the package can be loaded ... OK
** checking whether the package can be loaded with stated dependencies ... OK
** checking whether the package can be unloaded cleanly ... OK
** checking whether the namespace can be loaded with stated dependencies ... OK
** checking whether the namespace can be unloaded cleanly ... OK
* loading checks for arch 'x64'
** checking whether the package can be loaded ... OK
** checking whether the package can be loaded with stated dependencies ... OK
** checking whether the package can be unloaded cleanly ... OK
** checking whether the namespace can be loaded with stated dependencies ... OK
** checking whether the namespace can be unloaded cleanly ... OK
* checking dependencies in R code ... OK
* checking S3 generic/method consistency ... OK
* checking replacement functions ... OK
* checking foreign function calls ... OK
* checking R code for possible problems ... NOTE
centerGRangesAtMax: no visible binding for global variable 'x'
centerGRangesAtMax: no visible binding for global variable 'id'
Undefined global functions or variables:
id x
* checking Rd files ... OK
* checking Rd metadata ... OK
* checking Rd cross-references ... OK
* checking for missing documentation entries ... OK
* checking for code/documentation mismatches ... OK
* checking Rd \usage sections ... OK
* checking Rd contents ... OK
* checking for unstated dependencies in examples ... OK
* checking contents of 'data' directory ... OK
* checking data for non-ASCII characters ... OK
* checking data for ASCII and uncompressed saves ... OK
* checking files in 'vignettes' ... OK
* checking examples ...
** running examples for arch 'i386' ... OK
Examples with CPU (user + system) or elapsed time > 5s
user system elapsed
ssvSignalBandedQuantiles 8.18 0.25 8.39
centerAtMax 0.61 0.09 5.06
centerFixedSizeGRanges 0.27 0.02 6.45
** running examples for arch 'x64' ... OK
Examples with CPU (user + system) or elapsed time > 5s
user system elapsed
ssvSignalBandedQuantiles 7.71 0.05 10.15
ssvSignalClustering 4.04 0.04 11.24
ssvSignalLineplot 3.96 0.00 5.47
ssvFetchSignal 3.05 0.02 6.04
ssvSignalHeatmap 2.29 0.02 8.78
viewGRangesWinSummary_dt 1.98 0.00 6.91
* checking for unstated dependencies in 'tests' ... OK
* checking tests ...
** running tests for arch 'i386' ...
Running 'testthat.R'
OK
** running tests for arch 'x64' ...
Running 'testthat.R'
OK
* checking for unstated dependencies in vignettes ... OK
* checking package vignettes in 'inst/doc' ... OK
* checking running R code from vignettes ... SKIPPED
* checking re-building of vignette outputs ... SKIPPED
* checking PDF version of manual ... OK
* DONE
Status: 1 NOTE
See
'C:/Users/biocbuild/bbs-3.12-bioc/meat/seqsetvis.Rcheck/00check.log'
for details.
seqsetvis.Rcheck/00install.out
##############################################################################
##############################################################################
###
### Running command:
###
### C:\cygwin\bin\curl.exe -O http://172.29.0.3/BBS/3.12/bioc/src/contrib/seqsetvis_1.10.0.tar.gz && rm -rf seqsetvis.buildbin-libdir && mkdir seqsetvis.buildbin-libdir && C:\Users\biocbuild\bbs-3.12-bioc\R\bin\R.exe CMD INSTALL --merge-multiarch --build --library=seqsetvis.buildbin-libdir seqsetvis_1.10.0.tar.gz && C:\Users\biocbuild\bbs-3.12-bioc\R\bin\R.exe CMD INSTALL seqsetvis_1.10.0.zip && rm seqsetvis_1.10.0.tar.gz seqsetvis_1.10.0.zip
###
##############################################################################
##############################################################################
% Total % Received % Xferd Average Speed Time Time Time Current
Dload Upload Total Spent Left Speed
0 0 0 0 0 0 0 0 --:--:-- --:--:-- --:--:-- 0
100 542k 100 542k 0 0 24.5M 0 --:--:-- --:--:-- --:--:-- 25.2M
install for i386
* installing *source* package 'seqsetvis' ...
** using staged installation
** R
** data
*** moving datasets to lazyload DB
** inst
** byte-compile and prepare package for lazy loading
** help
*** installing help indices
converting help for package 'seqsetvis'
finding HTML links ... done
Bcell_peaks html
CTCF_in_10a_bigWig_urls html
CTCF_in_10a_data html
CTCF_in_10a_narrowPeak_grs html
CTCF_in_10a_narrowPeak_urls html
CTCF_in_10a_overlaps_gr html
CTCF_in_10a_profiles_dt html
CTCF_in_10a_profiles_gr html
append_ynorm html
applySpline html
calc_norm_factors html
centerAtMax html
centerFixedSizeGRanges html
centerGRangesAtMax html
chromHMM_demo_bw_states_gr html
chromHMM_demo_chain_url html
chromHMM_demo_data html
chromHMM_demo_overlaps_gr html
chromHMM_demo_segmentation_url html
chromHMM_demo_state_colors html
chromHMM_demo_state_total_widths html
clusteringKmeans html
clusteringKmeansNestedHclust html
col2hex html
collapse_gr html
convert_collapsed_coord html
crossCorrByRle html
dot-expand_cigar_dt html
dot-expand_cigar_dt_recursive html
dot-rm_dupes html
dot-rm_dupesPE html
easyLoad_bed html
easyLoad_broadPeak html
easyLoad_narrowPeak html
easyLoad_seacr html
expandCigar html
fetchBam html
fragLen_calcStranded html
fragLen_fromMacs2Xls html
getReadLength html
ggellipse html
harmonize_seqlengths html
prepare_fetch_GRanges html
quantileGRangesWidth html
safeBrew html
seqsetvis-package html
set_list2memb html
shift_anchor html
ssvConsensusIntervalSets html
ssvFactorizeMembTable html
ssvFeatureBars html
ssvFeatureBinaryHeatmap html
ssvFeatureEuler html
ssvFeaturePie html
ssvFeatureVenn html
ssvFetchBam html
ssvFetchBam.single html
ssvFetchBamPE html
ssvFetchBamPE.single html
ssvFetchBigwig html
ssvFetchBigwig.single html
ssvFetchGRanges html
ssvFetchSignal html
ssvMakeMembTable-methods html
ssvOverlapIntervalSets html
ssvSignalBandedQuantiles html
ssvSignalClustering html
ssvSignalHeatmap html
ssvSignalLineplot html
ssvSignalLineplotAgg html
ssvSignalScatterplot html
test_peaks html
viewGRangesWinSample_dt html
viewGRangesWinSummary_dt html
** building package indices
** installing vignettes
** testing if installed package can be loaded from temporary location
** testing if installed package can be loaded from final location
** testing if installed package keeps a record of temporary installation path
install for x64
* installing *source* package 'seqsetvis' ...
** testing if installed package can be loaded
* MD5 sums
packaged installation of 'seqsetvis' as seqsetvis_1.10.0.zip
* DONE (seqsetvis)
* installing to library 'C:/Users/biocbuild/bbs-3.12-bioc/R/library'
package 'seqsetvis' successfully unpacked and MD5 sums checked
|
seqsetvis.Rcheck/tests_i386/testthat.Rout R version 4.0.5 (2021-03-31) -- "Shake and Throw" Copyright (C) 2021 The R Foundation for Statistical Computing Platform: i386-w64-mingw32/i386 (32-bit) R is free software and comes with ABSOLUTELY NO WARRANTY. You are welcome to redistribute it under certain conditions. Type 'license()' or 'licence()' for distribution details. R is a collaborative project with many contributors. Type 'contributors()' for more information and 'citation()' on how to cite R or R packages in publications. Type 'demo()' for some demos, 'help()' for on-line help, or 'help.start()' for an HTML browser interface to help. Type 'q()' to quit R. > > ## load dependencies > library(testthat) > library(seqsetvis) Loading required package: ggplot2 > library(data.table) > > ## test package > test_check(package = "seqsetvis") == Skipped tests =============================================================== * On Windows (37) [ FAIL 0 | WARN 0 | SKIP 37 | PASS 632 ] > > proc.time() user system elapsed 237.39 3.12 241.17 |
seqsetvis.Rcheck/tests_x64/testthat.Rout R version 4.0.5 (2021-03-31) -- "Shake and Throw" Copyright (C) 2021 The R Foundation for Statistical Computing Platform: x86_64-w64-mingw32/x64 (64-bit) R is free software and comes with ABSOLUTELY NO WARRANTY. You are welcome to redistribute it under certain conditions. Type 'license()' or 'licence()' for distribution details. R is a collaborative project with many contributors. Type 'contributors()' for more information and 'citation()' on how to cite R or R packages in publications. Type 'demo()' for some demos, 'help()' for on-line help, or 'help.start()' for an HTML browser interface to help. Type 'q()' to quit R. > > ## load dependencies > library(testthat) > library(seqsetvis) Loading required package: ggplot2 > library(data.table) > > ## test package > test_check(package = "seqsetvis") == Skipped tests =============================================================== * On Windows (37) [ FAIL 0 | WARN 0 | SKIP 37 | PASS 632 ] > > proc.time() user system elapsed 266.50 1.18 267.90 |
|
seqsetvis.Rcheck/examples_i386/seqsetvis-Ex.timings
|
seqsetvis.Rcheck/examples_x64/seqsetvis-Ex.timings
|