| Back to Multiple platform build/check report for BioC 3.12 |
|
This page was generated on 2021-05-06 12:29:05 -0400 (Thu, 06 May 2021).
|
To the developers/maintainers of the seqsetvis package: Please make sure to use the following settings in order to reproduce any error or warning you see on this page. |
| Package 1685/1974 | Hostname | OS / Arch | INSTALL | BUILD | CHECK | BUILD BIN | ||||||||
| seqsetvis 1.10.0 (landing page) Joseph R Boyd
| malbec1 | Linux (Ubuntu 18.04.5 LTS) / x86_64 | OK | OK | OK | |||||||||
| tokay1 | Windows Server 2012 R2 Standard / x64 | OK | OK | OK | OK | |||||||||
| merida1 | macOS 10.14.6 Mojave / x86_64 | OK | OK | OK | OK | |||||||||
| Package: seqsetvis |
| Version: 1.10.0 |
| Command: /home/biocbuild/bbs-3.12-bioc/R/bin/R CMD check --install=check:seqsetvis.install-out.txt --library=/home/biocbuild/bbs-3.12-bioc/R/library --no-vignettes --timings seqsetvis_1.10.0.tar.gz |
| StartedAt: 2021-05-06 05:57:17 -0400 (Thu, 06 May 2021) |
| EndedAt: 2021-05-06 06:08:05 -0400 (Thu, 06 May 2021) |
| EllapsedTime: 647.6 seconds |
| RetCode: 0 |
| Status: OK |
| CheckDir: seqsetvis.Rcheck |
| Warnings: 0 |
##############################################################################
##############################################################################
###
### Running command:
###
### /home/biocbuild/bbs-3.12-bioc/R/bin/R CMD check --install=check:seqsetvis.install-out.txt --library=/home/biocbuild/bbs-3.12-bioc/R/library --no-vignettes --timings seqsetvis_1.10.0.tar.gz
###
##############################################################################
##############################################################################
* using log directory ‘/home/biocbuild/bbs-3.12-bioc/meat/seqsetvis.Rcheck’
* using R version 4.0.5 (2021-03-31)
* using platform: x86_64-pc-linux-gnu (64-bit)
* using session charset: UTF-8
* using option ‘--no-vignettes’
* checking for file ‘seqsetvis/DESCRIPTION’ ... OK
* checking extension type ... Package
* this is package ‘seqsetvis’ version ‘1.10.0’
* package encoding: UTF-8
* checking package namespace information ... OK
* checking package dependencies ... OK
* checking if this is a source package ... OK
* checking if there is a namespace ... OK
* checking for hidden files and directories ... OK
* checking for portable file names ... OK
* checking for sufficient/correct file permissions ... OK
* checking whether package ‘seqsetvis’ can be installed ... OK
* checking installed package size ... OK
* checking package directory ... OK
* checking ‘build’ directory ... OK
* checking DESCRIPTION meta-information ... OK
* checking top-level files ... OK
* checking for left-over files ... OK
* checking index information ... OK
* checking package subdirectories ... OK
* checking R files for non-ASCII characters ... OK
* checking R files for syntax errors ... OK
* checking whether the package can be loaded ... OK
* checking whether the package can be loaded with stated dependencies ... OK
* checking whether the package can be unloaded cleanly ... OK
* checking whether the namespace can be loaded with stated dependencies ... OK
* checking whether the namespace can be unloaded cleanly ... OK
* checking dependencies in R code ... OK
* checking S3 generic/method consistency ... OK
* checking replacement functions ... OK
* checking foreign function calls ... OK
* checking R code for possible problems ... NOTE
centerGRangesAtMax: no visible binding for global variable ‘x’
centerGRangesAtMax: no visible binding for global variable ‘id’
Undefined global functions or variables:
id x
* checking Rd files ... OK
* checking Rd metadata ... OK
* checking Rd cross-references ... OK
* checking for missing documentation entries ... OK
* checking for code/documentation mismatches ... OK
* checking Rd \usage sections ... OK
* checking Rd contents ... OK
* checking for unstated dependencies in examples ... OK
* checking contents of ‘data’ directory ... OK
* checking data for non-ASCII characters ... OK
* checking data for ASCII and uncompressed saves ... OK
* checking files in ‘vignettes’ ... OK
* checking examples ... OK
Examples with CPU (user + system) or elapsed time > 5s
user system elapsed
ssvFetchBam 9.816 0.020 9.845
ssvSignalBandedQuantiles 7.396 0.012 7.437
* checking for unstated dependencies in ‘tests’ ... OK
* checking tests ...
Running ‘testthat.R’
OK
* checking for unstated dependencies in vignettes ... OK
* checking package vignettes in ‘inst/doc’ ... OK
* checking running R code from vignettes ... SKIPPED
* checking re-building of vignette outputs ... SKIPPED
* checking PDF version of manual ... OK
* DONE
Status: 1 NOTE
See
‘/home/biocbuild/bbs-3.12-bioc/meat/seqsetvis.Rcheck/00check.log’
for details.
seqsetvis.Rcheck/00install.out
############################################################################## ############################################################################## ### ### Running command: ### ### /home/biocbuild/bbs-3.12-bioc/R/bin/R CMD INSTALL seqsetvis ### ############################################################################## ############################################################################## * installing to library ‘/home/biocbuild/bbs-3.12-bioc/R/library’ * installing *source* package ‘seqsetvis’ ... ** using staged installation ** R ** data *** moving datasets to lazyload DB ** inst ** byte-compile and prepare package for lazy loading ** help *** installing help indices ** building package indices ** installing vignettes ** testing if installed package can be loaded from temporary location ** testing if installed package can be loaded from final location ** testing if installed package keeps a record of temporary installation path * DONE (seqsetvis)
seqsetvis.Rcheck/tests/testthat.Rout
R version 4.0.5 (2021-03-31) -- "Shake and Throw" Copyright (C) 2021 The R Foundation for Statistical Computing Platform: x86_64-pc-linux-gnu (64-bit) R is free software and comes with ABSOLUTELY NO WARRANTY. You are welcome to redistribute it under certain conditions. Type 'license()' or 'licence()' for distribution details. R is a collaborative project with many contributors. Type 'contributors()' for more information and 'citation()' on how to cite R or R packages in publications. Type 'demo()' for some demos, 'help()' for on-line help, or 'help.start()' for an HTML browser interface to help. Type 'q()' to quit R. > > ## load dependencies > library(testthat) > library(seqsetvis) Loading required package: ggplot2 > library(data.table) > > ## test package > test_check(package = "seqsetvis") [ FAIL 0 | WARN 0 | SKIP 0 | PASS 1098 ] > > proc.time() user system elapsed 338.692 0.620 339.117
seqsetvis.Rcheck/seqsetvis-Ex.timings
| name | user | system | elapsed | |
| append_ynorm | 0.124 | 0.008 | 0.119 | |
| applySpline | 0.744 | 0.004 | 0.728 | |
| calc_norm_factors | 0.020 | 0.004 | 0.021 | |
| centerAtMax | 0.604 | 0.000 | 0.582 | |
| centerFixedSizeGRanges | 1.024 | 0.000 | 1.025 | |
| centerGRangesAtMax | 0.628 | 0.000 | 0.604 | |
| clusteringKmeans | 0.036 | 0.004 | 0.029 | |
| clusteringKmeansNestedHclust | 0.056 | 0.000 | 0.045 | |
| col2hex | 0.004 | 0.000 | 0.002 | |
| collapse_gr | 1.292 | 0.084 | 1.376 | |
| convert_collapsed_coord | 0.212 | 0.000 | 0.212 | |
| crossCorrByRle | 0.436 | 0.004 | 0.455 | |
| easyLoad_bed | 0.080 | 0.004 | 0.095 | |
| easyLoad_broadPeak | 0.248 | 0.000 | 0.247 | |
| easyLoad_narrowPeak | 0.072 | 0.000 | 0.070 | |
| easyLoad_seacr | 0.056 | 0.000 | 0.067 | |
| expandCigar | 1.308 | 0.000 | 1.299 | |
| fragLen_calcStranded | 2.792 | 0.000 | 2.793 | |
| fragLen_fromMacs2Xls | 0.004 | 0.000 | 0.002 | |
| getReadLength | 0.092 | 0.000 | 0.094 | |
| ggellipse | 0.880 | 0.000 | 0.882 | |
| harmonize_seqlengths | 0.184 | 0.004 | 0.190 | |
| prepare_fetch_GRanges | 0.032 | 0.000 | 0.034 | |
| quantileGRangesWidth | 0.004 | 0.000 | 0.001 | |
| safeBrew | 0.016 | 0.004 | 0.021 | |
| ssvConsensusIntervalSets | 0.612 | 0.008 | 0.623 | |
| ssvFactorizeMembTable | 0.032 | 0.000 | 0.033 | |
| ssvFeatureBars | 0.928 | 0.000 | 0.930 | |
| ssvFeatureBinaryHeatmap | 0.688 | 0.000 | 0.689 | |
| ssvFeatureEuler | 0.740 | 0.004 | 0.746 | |
| ssvFeaturePie | 0.512 | 0.000 | 0.513 | |
| ssvFeatureVenn | 0.504 | 0.000 | 0.502 | |
| ssvFetchBam | 9.816 | 0.020 | 9.845 | |
| ssvFetchBamPE | 3.62 | 0.00 | 3.64 | |
| ssvFetchBigwig | 2.064 | 0.000 | 2.083 | |
| ssvFetchGRanges | 1.508 | 0.000 | 1.509 | |
| ssvFetchSignal | 2.816 | 0.004 | 2.822 | |
| ssvMakeMembTable-methods | 1.044 | 0.000 | 1.058 | |
| ssvOverlapIntervalSets | 0.444 | 0.000 | 0.443 | |
| ssvSignalBandedQuantiles | 7.396 | 0.012 | 7.437 | |
| ssvSignalClustering | 2.856 | 0.004 | 2.830 | |
| ssvSignalHeatmap | 1.800 | 0.004 | 1.773 | |
| ssvSignalLineplot | 3.084 | 0.008 | 3.096 | |
| ssvSignalLineplotAgg | 1.316 | 0.008 | 1.319 | |
| ssvSignalScatterplot | 1.212 | 0.004 | 1.196 | |
| viewGRangesWinSample_dt | 2.260 | 0.004 | 2.273 | |
| viewGRangesWinSummary_dt | 2.780 | 0.008 | 2.779 | |