| Back to Multiple platform build/check report for BioC 3.12 |
|
This page was generated on 2021-05-06 12:36:46 -0400 (Thu, 06 May 2021).
|
To the developers/maintainers of the seqsetvis package: Please make sure to use the following settings in order to reproduce any error or warning you see on this page. |
| Package 1685/1974 | Hostname | OS / Arch | INSTALL | BUILD | CHECK | BUILD BIN | ||||||||
| seqsetvis 1.10.0 (landing page) Joseph R Boyd
| malbec1 | Linux (Ubuntu 18.04.5 LTS) / x86_64 | OK | OK | OK | |||||||||
| tokay1 | Windows Server 2012 R2 Standard / x64 | OK | OK | OK | OK | |||||||||
| merida1 | macOS 10.14.6 Mojave / x86_64 | OK | OK | OK | OK | |||||||||
| Package: seqsetvis |
| Version: 1.10.0 |
| Command: /Library/Frameworks/R.framework/Versions/Current/Resources/bin/R CMD check --install=check:seqsetvis.install-out.txt --library=/Library/Frameworks/R.framework/Versions/Current/Resources/library --no-vignettes --timings seqsetvis_1.10.0.tar.gz |
| StartedAt: 2021-05-06 06:09:11 -0400 (Thu, 06 May 2021) |
| EndedAt: 2021-05-06 06:19:57 -0400 (Thu, 06 May 2021) |
| EllapsedTime: 645.9 seconds |
| RetCode: 0 |
| Status: OK |
| CheckDir: seqsetvis.Rcheck |
| Warnings: 0 |
##############################################################################
##############################################################################
###
### Running command:
###
### /Library/Frameworks/R.framework/Versions/Current/Resources/bin/R CMD check --install=check:seqsetvis.install-out.txt --library=/Library/Frameworks/R.framework/Versions/Current/Resources/library --no-vignettes --timings seqsetvis_1.10.0.tar.gz
###
##############################################################################
##############################################################################
* using log directory ‘/Users/biocbuild/bbs-3.12-bioc/meat/seqsetvis.Rcheck’
* using R version 4.0.5 (2021-03-31)
* using platform: x86_64-apple-darwin17.0 (64-bit)
* using session charset: UTF-8
* using option ‘--no-vignettes’
* checking for file ‘seqsetvis/DESCRIPTION’ ... OK
* checking extension type ... Package
* this is package ‘seqsetvis’ version ‘1.10.0’
* package encoding: UTF-8
* checking package namespace information ... OK
* checking package dependencies ... OK
* checking if this is a source package ... OK
* checking if there is a namespace ... OK
* checking for hidden files and directories ... OK
* checking for portable file names ... OK
* checking for sufficient/correct file permissions ... OK
* checking whether package ‘seqsetvis’ can be installed ... OK
* checking installed package size ... OK
* checking package directory ... OK
* checking ‘build’ directory ... OK
* checking DESCRIPTION meta-information ... OK
* checking top-level files ... OK
* checking for left-over files ... OK
* checking index information ... OK
* checking package subdirectories ... OK
* checking R files for non-ASCII characters ... OK
* checking R files for syntax errors ... OK
* checking whether the package can be loaded ... OK
* checking whether the package can be loaded with stated dependencies ... OK
* checking whether the package can be unloaded cleanly ... OK
* checking whether the namespace can be loaded with stated dependencies ... OK
* checking whether the namespace can be unloaded cleanly ... OK
* checking dependencies in R code ... OK
* checking S3 generic/method consistency ... OK
* checking replacement functions ... OK
* checking foreign function calls ... OK
* checking R code for possible problems ... NOTE
centerGRangesAtMax: no visible binding for global variable ‘x’
centerGRangesAtMax: no visible binding for global variable ‘id’
Undefined global functions or variables:
id x
* checking Rd files ... OK
* checking Rd metadata ... OK
* checking Rd cross-references ... OK
* checking for missing documentation entries ... OK
* checking for code/documentation mismatches ... OK
* checking Rd \usage sections ... OK
* checking Rd contents ... OK
* checking for unstated dependencies in examples ... OK
* checking contents of ‘data’ directory ... OK
* checking data for non-ASCII characters ... OK
* checking data for ASCII and uncompressed saves ... OK
* checking files in ‘vignettes’ ... OK
* checking examples ... OK
Examples with CPU (user + system) or elapsed time > 5s
user system elapsed
ssvFetchBam 9.504 0.172 9.697
ssvSignalBandedQuantiles 7.070 0.077 7.160
* checking for unstated dependencies in ‘tests’ ... OK
* checking tests ...
Running ‘testthat.R’
OK
* checking for unstated dependencies in vignettes ... OK
* checking package vignettes in ‘inst/doc’ ... OK
* checking running R code from vignettes ... SKIPPED
* checking re-building of vignette outputs ... SKIPPED
* checking PDF version of manual ... OK
* DONE
Status: 1 NOTE
See
‘/Users/biocbuild/bbs-3.12-bioc/meat/seqsetvis.Rcheck/00check.log’
for details.
seqsetvis.Rcheck/00install.out
############################################################################## ############################################################################## ### ### Running command: ### ### /Library/Frameworks/R.framework/Versions/Current/Resources/bin/R CMD INSTALL seqsetvis ### ############################################################################## ############################################################################## * installing to library ‘/Library/Frameworks/R.framework/Versions/4.0/Resources/library’ * installing *source* package ‘seqsetvis’ ... ** using staged installation ** R ** data *** moving datasets to lazyload DB ** inst ** byte-compile and prepare package for lazy loading ** help *** installing help indices ** building package indices ** installing vignettes ** testing if installed package can be loaded from temporary location ** testing if installed package can be loaded from final location ** testing if installed package keeps a record of temporary installation path * DONE (seqsetvis)
seqsetvis.Rcheck/tests/testthat.Rout
R version 4.0.5 (2021-03-31) -- "Shake and Throw" Copyright (C) 2021 The R Foundation for Statistical Computing Platform: x86_64-apple-darwin17.0 (64-bit) R is free software and comes with ABSOLUTELY NO WARRANTY. You are welcome to redistribute it under certain conditions. Type 'license()' or 'licence()' for distribution details. R is a collaborative project with many contributors. Type 'contributors()' for more information and 'citation()' on how to cite R or R packages in publications. Type 'demo()' for some demos, 'help()' for on-line help, or 'help.start()' for an HTML browser interface to help. Type 'q()' to quit R. > > ## load dependencies > library(testthat) > library(seqsetvis) Loading required package: ggplot2 > library(data.table) > > ## test package > test_check(package = "seqsetvis") [ FAIL 0 | WARN 0 | SKIP 0 | PASS 1098 ] > > proc.time() user system elapsed 333.294 3.096 336.863
seqsetvis.Rcheck/seqsetvis-Ex.timings
| name | user | system | elapsed | |
| append_ynorm | 0.088 | 0.009 | 0.098 | |
| applySpline | 0.743 | 0.015 | 0.761 | |
| calc_norm_factors | 0.018 | 0.001 | 0.019 | |
| centerAtMax | 1.102 | 0.012 | 1.176 | |
| centerFixedSizeGRanges | 0.214 | 0.009 | 0.249 | |
| centerGRangesAtMax | 0.531 | 0.033 | 0.565 | |
| clusteringKmeans | 0.027 | 0.004 | 0.032 | |
| clusteringKmeansNestedHclust | 0.043 | 0.006 | 0.049 | |
| col2hex | 0.002 | 0.001 | 0.003 | |
| collapse_gr | 1.140 | 0.089 | 1.231 | |
| convert_collapsed_coord | 0.321 | 0.009 | 0.329 | |
| crossCorrByRle | 0.520 | 0.009 | 0.532 | |
| easyLoad_bed | 0.077 | 0.002 | 0.078 | |
| easyLoad_broadPeak | 0.178 | 0.002 | 0.180 | |
| easyLoad_narrowPeak | 0.045 | 0.001 | 0.046 | |
| easyLoad_seacr | 0.037 | 0.001 | 0.038 | |
| expandCigar | 1.123 | 0.032 | 1.157 | |
| fragLen_calcStranded | 2.245 | 0.039 | 2.286 | |
| fragLen_fromMacs2Xls | 0.002 | 0.001 | 0.003 | |
| getReadLength | 0.060 | 0.008 | 0.068 | |
| ggellipse | 0.676 | 0.005 | 0.683 | |
| harmonize_seqlengths | 0.159 | 0.007 | 0.166 | |
| prepare_fetch_GRanges | 0.040 | 0.001 | 0.042 | |
| quantileGRangesWidth | 0.002 | 0.000 | 0.001 | |
| safeBrew | 0.025 | 0.002 | 0.028 | |
| ssvConsensusIntervalSets | 0.592 | 0.010 | 0.602 | |
| ssvFactorizeMembTable | 0.030 | 0.002 | 0.032 | |
| ssvFeatureBars | 0.678 | 0.003 | 0.684 | |
| ssvFeatureBinaryHeatmap | 0.552 | 0.006 | 0.560 | |
| ssvFeatureEuler | 0.690 | 0.006 | 0.698 | |
| ssvFeaturePie | 0.641 | 0.005 | 0.647 | |
| ssvFeatureVenn | 0.613 | 0.004 | 0.620 | |
| ssvFetchBam | 9.504 | 0.172 | 9.697 | |
| ssvFetchBamPE | 2.681 | 0.056 | 2.743 | |
| ssvFetchBigwig | 1.799 | 0.011 | 1.812 | |
| ssvFetchGRanges | 1.137 | 0.003 | 1.142 | |
| ssvFetchSignal | 2.230 | 0.026 | 2.258 | |
| ssvMakeMembTable-methods | 0.780 | 0.013 | 0.839 | |
| ssvOverlapIntervalSets | 0.333 | 0.010 | 0.380 | |
| ssvSignalBandedQuantiles | 7.070 | 0.077 | 7.160 | |
| ssvSignalClustering | 2.162 | 0.014 | 2.180 | |
| ssvSignalHeatmap | 1.533 | 0.011 | 1.549 | |
| ssvSignalLineplot | 2.661 | 0.012 | 2.699 | |
| ssvSignalLineplotAgg | 0.999 | 0.004 | 1.004 | |
| ssvSignalScatterplot | 0.973 | 0.008 | 0.984 | |
| viewGRangesWinSample_dt | 2.301 | 0.019 | 2.322 | |
| viewGRangesWinSummary_dt | 1.519 | 0.022 | 1.541 | |