| Back to Multiple platform build/check report for BioC 3.12 | 
  | 
This page was generated on 2021-05-06 12:32:23 -0400 (Thu, 06 May 2021).
| 
To the developers/maintainers of the multicrispr package: Please make sure to use the following settings in order to reproduce any error or warning you see on this page.  | 
| Package 1177/1974 | Hostname | OS / Arch | INSTALL | BUILD | CHECK | BUILD BIN | ||||||||
| multicrispr 1.0.0  (landing page) Aditya Bhagwat 
  | malbec1 | Linux (Ubuntu 18.04.5 LTS) / x86_64 | OK | OK | OK | |||||||||
| tokay1 | Windows Server 2012 R2 Standard / x64 | OK | OK | OK | OK | |||||||||
| merida1 | macOS 10.14.6 Mojave / x86_64 | OK | OK | OK | OK | |||||||||
| Package: multicrispr | 
| Version: 1.0.0 | 
| Command: C:\cygwin\bin\curl.exe -O http://172.29.0.3/BBS/3.12/bioc/src/contrib/multicrispr_1.0.0.tar.gz && rm -rf multicrispr.buildbin-libdir && mkdir multicrispr.buildbin-libdir && C:\Users\biocbuild\bbs-3.12-bioc\R\bin\R.exe CMD INSTALL --merge-multiarch --build --library=multicrispr.buildbin-libdir multicrispr_1.0.0.tar.gz && C:\Users\biocbuild\bbs-3.12-bioc\R\bin\R.exe CMD INSTALL multicrispr_1.0.0.zip && rm multicrispr_1.0.0.tar.gz multicrispr_1.0.0.zip | 
| StartedAt: 2021-05-05 18:54:52 -0400 (Wed, 05 May 2021) | 
| EndedAt: 2021-05-05 18:57:16 -0400 (Wed, 05 May 2021) | 
| EllapsedTime: 144.4 seconds | 
| RetCode: 0 | 
| Status: OK | 
##############################################################################
##############################################################################
###
### Running command:
###
###   C:\cygwin\bin\curl.exe -O http://172.29.0.3/BBS/3.12/bioc/src/contrib/multicrispr_1.0.0.tar.gz && rm -rf multicrispr.buildbin-libdir && mkdir multicrispr.buildbin-libdir && C:\Users\biocbuild\bbs-3.12-bioc\R\bin\R.exe CMD INSTALL --merge-multiarch --build --library=multicrispr.buildbin-libdir multicrispr_1.0.0.tar.gz && C:\Users\biocbuild\bbs-3.12-bioc\R\bin\R.exe CMD INSTALL multicrispr_1.0.0.zip && rm multicrispr_1.0.0.tar.gz multicrispr_1.0.0.zip
###
##############################################################################
##############################################################################
  % Total    % Received % Xferd  Average Speed   Time    Time     Time  Current
                                 Dload  Upload   Total   Spent    Left  Speed
  0     0    0     0    0     0      0      0 --:--:-- --:--:-- --:--:--     0
 73 3832k   73 2799k    0     0  17.8M      0 --:--:-- --:--:-- --:--:-- 17.8M
100 3832k  100 3832k    0     0  23.0M      0 --:--:-- --:--:-- --:--:-- 23.1M
install for i386
* installing *source* package 'multicrispr' ...
** using staged installation
** R
** inst
** byte-compile and prepare package for lazy loading
** help
*** installing help indices
  converting help for package 'multicrispr'
    finding HTML links ... done
    add_genome_matches                      html  
    add_inverse_strand                      html  
    add_seq                                 html  
    add_target_matches                      html  
    bed_to_granges                          html  
    char_to_granges                         html  
    double_flank                            html  
    extend_for_pe                           html  
    extend_pe_to_gg                         html  
    extract_matchranges                     html  
    finding level-2 HTML links ... done
    extract_subranges                       html  
    find_gg                                 html  
    find_primespacers                       html  
    find_spacers                            html  
    genes_to_granges                        html  
    gr2dt                                   html  
    has_been_indexed                        html  
    index_genome                            html  
    index_targets                           html  
    plot_intervals                          html  
    plot_karyogram                          html  
    score_ontargets                         html  
    up_flank                                html  
    write_ranges                            html  
** building package indices
** installing vignettes
** testing if installed package can be loaded from temporary location
** testing if installed package can be loaded from final location
** testing if installed package keeps a record of temporary installation path
install for x64
* installing *source* package 'multicrispr' ...
** testing if installed package can be loaded
* MD5 sums
packaged installation of 'multicrispr' as multicrispr_1.0.0.zip
* DONE (multicrispr)
* installing to library 'C:/Users/biocbuild/bbs-3.12-bioc/R/library'
package 'multicrispr' successfully unpacked and MD5 sums checked