| Back to Multiple platform build/check report for BioC 3.12 |
|
This page was generated on 2021-05-06 12:28:21 -0400 (Thu, 06 May 2021).
|
To the developers/maintainers of the multicrispr package: Please make sure to use the following settings in order to reproduce any error or warning you see on this page. |
| Package 1177/1974 | Hostname | OS / Arch | INSTALL | BUILD | CHECK | BUILD BIN | ||||||||
| multicrispr 1.0.0 (landing page) Aditya Bhagwat
| malbec1 | Linux (Ubuntu 18.04.5 LTS) / x86_64 | OK | OK | OK | |||||||||
| tokay1 | Windows Server 2012 R2 Standard / x64 | OK | OK | OK | OK | |||||||||
| merida1 | macOS 10.14.6 Mojave / x86_64 | OK | OK | OK | OK | |||||||||
| Package: multicrispr |
| Version: 1.0.0 |
| Command: /home/biocbuild/bbs-3.12-bioc/R/bin/R CMD check --install=check:multicrispr.install-out.txt --library=/home/biocbuild/bbs-3.12-bioc/R/library --no-vignettes --timings multicrispr_1.0.0.tar.gz |
| StartedAt: 2021-05-06 03:50:19 -0400 (Thu, 06 May 2021) |
| EndedAt: 2021-05-06 03:58:05 -0400 (Thu, 06 May 2021) |
| EllapsedTime: 465.7 seconds |
| RetCode: 0 |
| Status: OK |
| CheckDir: multicrispr.Rcheck |
| Warnings: 0 |
##############################################################################
##############################################################################
###
### Running command:
###
### /home/biocbuild/bbs-3.12-bioc/R/bin/R CMD check --install=check:multicrispr.install-out.txt --library=/home/biocbuild/bbs-3.12-bioc/R/library --no-vignettes --timings multicrispr_1.0.0.tar.gz
###
##############################################################################
##############################################################################
* using log directory ‘/home/biocbuild/bbs-3.12-bioc/meat/multicrispr.Rcheck’
* using R version 4.0.5 (2021-03-31)
* using platform: x86_64-pc-linux-gnu (64-bit)
* using session charset: UTF-8
* using option ‘--no-vignettes’
* checking for file ‘multicrispr/DESCRIPTION’ ... OK
* this is package ‘multicrispr’ version ‘1.0.0’
* package encoding: UTF-8
* checking package namespace information ... OK
* checking package dependencies ... OK
* checking if this is a source package ... OK
* checking if there is a namespace ... OK
* checking for hidden files and directories ... OK
* checking for portable file names ... OK
* checking for sufficient/correct file permissions ... OK
* checking whether package ‘multicrispr’ can be installed ... OK
* checking installed package size ... OK
* checking package directory ... OK
* checking ‘build’ directory ... OK
* checking DESCRIPTION meta-information ... OK
* checking top-level files ... OK
* checking for left-over files ... OK
* checking index information ... OK
* checking package subdirectories ... OK
* checking R files for non-ASCII characters ... OK
* checking R files for syntax errors ... OK
* checking whether the package can be loaded ... OK
* checking whether the package can be loaded with stated dependencies ... OK
* checking whether the package can be unloaded cleanly ... OK
* checking whether the namespace can be loaded with stated dependencies ... OK
* checking whether the namespace can be unloaded cleanly ... OK
* checking dependencies in R code ... OK
* checking S3 generic/method consistency ... OK
* checking replacement functions ... OK
* checking foreign function calls ... OK
* checking R code for possible problems ... OK
* checking Rd files ... OK
* checking Rd metadata ... OK
* checking Rd cross-references ... OK
* checking for missing documentation entries ... OK
* checking for code/documentation mismatches ... OK
* checking Rd \usage sections ... OK
* checking Rd contents ... OK
* checking for unstated dependencies in examples ... OK
* checking files in ‘vignettes’ ... OK
* checking examples ... OK
Examples with CPU (user + system) or elapsed time > 5s
user system elapsed
find_primespacers 21.580 1.324 22.985
index_genome 21.948 0.320 22.353
score_ontargets 20.752 0.600 21.349
find_spacers 13.532 0.996 14.562
add_genome_matches 13.520 0.512 21.747
add_target_matches 12.724 0.644 13.013
extend_for_pe 12.396 0.760 13.211
up_flank 12.060 0.024 12.097
plot_intervals 10.544 0.724 11.292
genes_to_granges 5.068 0.080 5.273
* checking for unstated dependencies in ‘tests’ ... OK
* checking tests ...
Running ‘testthat.R’
OK
* checking for unstated dependencies in vignettes ... OK
* checking package vignettes in ‘inst/doc’ ... OK
* checking running R code from vignettes ... SKIPPED
* checking re-building of vignette outputs ... SKIPPED
* checking PDF version of manual ... OK
* DONE
Status: OK
multicrispr.Rcheck/00install.out
############################################################################## ############################################################################## ### ### Running command: ### ### /home/biocbuild/bbs-3.12-bioc/R/bin/R CMD INSTALL multicrispr ### ############################################################################## ############################################################################## * installing to library ‘/home/biocbuild/bbs-3.12-bioc/R/library’ * installing *source* package ‘multicrispr’ ... ** using staged installation ** R ** inst ** byte-compile and prepare package for lazy loading ** help *** installing help indices ** building package indices ** installing vignettes ** testing if installed package can be loaded from temporary location ** testing if installed package can be loaded from final location ** testing if installed package keeps a record of temporary installation path * DONE (multicrispr)
multicrispr.Rcheck/tests/testthat.Rout
R version 4.0.5 (2021-03-31) -- "Shake and Throw"
Copyright (C) 2021 The R Foundation for Statistical Computing
Platform: x86_64-pc-linux-gnu (64-bit)
R is free software and comes with ABSOLUTELY NO WARRANTY.
You are welcome to redistribute it under certain conditions.
Type 'license()' or 'licence()' for distribution details.
R is a collaborative project with many contributors.
Type 'contributors()' for more information and
'citation()' on how to cite R or R packages in publications.
Type 'demo()' for some demos, 'help()' for on-line help, or
'help.start()' for an HTML browser interface to help.
Type 'q()' to quit R.
> library(testthat)
> library(multicrispr)
>
> test_check("multicrispr")
[ FAIL 0 | WARN 0 | SKIP 0 | PASS 13 ]
>
> proc.time()
user system elapsed
17.244 0.580 17.860
multicrispr.Rcheck/multicrispr-Ex.timings
| name | user | system | elapsed | |
| add_genome_matches | 13.520 | 0.512 | 21.747 | |
| add_inverse_strand | 2.900 | 0.016 | 2.923 | |
| add_seq | 3.948 | 0.044 | 4.052 | |
| add_target_matches | 12.724 | 0.644 | 13.013 | |
| bed_to_granges | 0.900 | 0.000 | 0.899 | |
| char_to_granges | 2.348 | 0.008 | 2.359 | |
| double_flank | 3.752 | 0.008 | 3.756 | |
| extend_for_pe | 12.396 | 0.760 | 13.211 | |
| extend_pe_to_gg | 0.744 | 0.048 | 0.802 | |
| extract_matchranges | 4.144 | 0.072 | 4.211 | |
| extract_subranges | 0.648 | 0.004 | 0.650 | |
| find_gg | 1.660 | 0.036 | 1.702 | |
| find_primespacers | 21.580 | 1.324 | 22.985 | |
| find_spacers | 13.532 | 0.996 | 14.562 | |
| genes_to_granges | 5.068 | 0.080 | 5.273 | |
| gr2dt | 0.168 | 0.000 | 0.167 | |
| has_been_indexed | 0 | 0 | 0 | |
| index_genome | 21.948 | 0.320 | 22.353 | |
| index_targets | 3.564 | 0.396 | 3.968 | |
| plot_intervals | 10.544 | 0.724 | 11.292 | |
| plot_karyogram | 1.888 | 0.016 | 1.907 | |
| score_ontargets | 20.752 | 0.600 | 21.349 | |
| up_flank | 12.060 | 0.024 | 12.097 | |
| write_ranges | 0.236 | 0.008 | 0.248 | |