| Back to Multiple platform build/check report for BioC 3.12 |
|
This page was generated on 2021-05-06 12:35:53 -0400 (Thu, 06 May 2021).
|
To the developers/maintainers of the multicrispr package: Please make sure to use the following settings in order to reproduce any error or warning you see on this page. |
| Package 1177/1974 | Hostname | OS / Arch | INSTALL | BUILD | CHECK | BUILD BIN | ||||||||
| multicrispr 1.0.0 (landing page) Aditya Bhagwat
| malbec1 | Linux (Ubuntu 18.04.5 LTS) / x86_64 | OK | OK | OK | |||||||||
| tokay1 | Windows Server 2012 R2 Standard / x64 | OK | OK | OK | OK | |||||||||
| merida1 | macOS 10.14.6 Mojave / x86_64 | OK | OK | OK | OK | |||||||||
| Package: multicrispr |
| Version: 1.0.0 |
| Command: /Library/Frameworks/R.framework/Versions/Current/Resources/bin/R CMD check --install=check:multicrispr.install-out.txt --library=/Library/Frameworks/R.framework/Versions/Current/Resources/library --no-vignettes --timings multicrispr_1.0.0.tar.gz |
| StartedAt: 2021-05-06 04:03:26 -0400 (Thu, 06 May 2021) |
| EndedAt: 2021-05-06 04:11:14 -0400 (Thu, 06 May 2021) |
| EllapsedTime: 467.8 seconds |
| RetCode: 0 |
| Status: OK |
| CheckDir: multicrispr.Rcheck |
| Warnings: 0 |
##############################################################################
##############################################################################
###
### Running command:
###
### /Library/Frameworks/R.framework/Versions/Current/Resources/bin/R CMD check --install=check:multicrispr.install-out.txt --library=/Library/Frameworks/R.framework/Versions/Current/Resources/library --no-vignettes --timings multicrispr_1.0.0.tar.gz
###
##############################################################################
##############################################################################
* using log directory ‘/Users/biocbuild/bbs-3.12-bioc/meat/multicrispr.Rcheck’
* using R version 4.0.5 (2021-03-31)
* using platform: x86_64-apple-darwin17.0 (64-bit)
* using session charset: UTF-8
* using option ‘--no-vignettes’
* checking for file ‘multicrispr/DESCRIPTION’ ... OK
* this is package ‘multicrispr’ version ‘1.0.0’
* package encoding: UTF-8
* checking package namespace information ... OK
* checking package dependencies ... OK
* checking if this is a source package ... OK
* checking if there is a namespace ... OK
* checking for hidden files and directories ... OK
* checking for portable file names ... OK
* checking for sufficient/correct file permissions ... OK
* checking whether package ‘multicrispr’ can be installed ... OK
* checking installed package size ... OK
* checking package directory ... OK
* checking ‘build’ directory ... OK
* checking DESCRIPTION meta-information ... OK
* checking top-level files ... OK
* checking for left-over files ... OK
* checking index information ... OK
* checking package subdirectories ... OK
* checking R files for non-ASCII characters ... OK
* checking R files for syntax errors ... OK
* checking whether the package can be loaded ... OK
* checking whether the package can be loaded with stated dependencies ... OK
* checking whether the package can be unloaded cleanly ... OK
* checking whether the namespace can be loaded with stated dependencies ... OK
* checking whether the namespace can be unloaded cleanly ... OK
* checking dependencies in R code ... OK
* checking S3 generic/method consistency ... OK
* checking replacement functions ... OK
* checking foreign function calls ... OK
* checking R code for possible problems ... OK
* checking Rd files ... OK
* checking Rd metadata ... OK
* checking Rd cross-references ... OK
* checking for missing documentation entries ... OK
* checking for code/documentation mismatches ... OK
* checking Rd \usage sections ... OK
* checking Rd contents ... OK
* checking for unstated dependencies in examples ... OK
* checking files in ‘vignettes’ ... OK
* checking examples ... OK
Examples with CPU (user + system) or elapsed time > 5s
user system elapsed
index_genome 29.092 0.305 29.447
score_ontargets 23.959 0.571 24.566
find_primespacers 21.871 0.637 22.541
add_target_matches 14.937 0.600 15.760
find_spacers 14.055 0.414 14.489
add_genome_matches 13.085 1.015 15.736
up_flank 13.815 0.088 13.922
extend_for_pe 10.690 0.360 11.067
plot_intervals 10.728 0.305 11.048
* checking for unstated dependencies in ‘tests’ ... OK
* checking tests ...
Running ‘testthat.R’
OK
* checking for unstated dependencies in vignettes ... OK
* checking package vignettes in ‘inst/doc’ ... OK
* checking running R code from vignettes ... SKIPPED
* checking re-building of vignette outputs ... SKIPPED
* checking PDF version of manual ... OK
* DONE
Status: OK
multicrispr.Rcheck/00install.out
############################################################################## ############################################################################## ### ### Running command: ### ### /Library/Frameworks/R.framework/Versions/Current/Resources/bin/R CMD INSTALL multicrispr ### ############################################################################## ############################################################################## * installing to library ‘/Library/Frameworks/R.framework/Versions/4.0/Resources/library’ * installing *source* package ‘multicrispr’ ... ** using staged installation ** R ** inst ** byte-compile and prepare package for lazy loading ** help *** installing help indices ** building package indices ** installing vignettes ** testing if installed package can be loaded from temporary location ** testing if installed package can be loaded from final location ** testing if installed package keeps a record of temporary installation path * DONE (multicrispr)
multicrispr.Rcheck/tests/testthat.Rout
R version 4.0.5 (2021-03-31) -- "Shake and Throw"
Copyright (C) 2021 The R Foundation for Statistical Computing
Platform: x86_64-apple-darwin17.0 (64-bit)
R is free software and comes with ABSOLUTELY NO WARRANTY.
You are welcome to redistribute it under certain conditions.
Type 'license()' or 'licence()' for distribution details.
R is a collaborative project with many contributors.
Type 'contributors()' for more information and
'citation()' on how to cite R or R packages in publications.
Type 'demo()' for some demos, 'help()' for on-line help, or
'help.start()' for an HTML browser interface to help.
Type 'q()' to quit R.
> library(testthat)
> library(multicrispr)
>
> test_check("multicrispr")
[ FAIL 0 | WARN 0 | SKIP 0 | PASS 13 ]
>
> proc.time()
user system elapsed
16.850 1.066 17.913
multicrispr.Rcheck/multicrispr-Ex.timings
| name | user | system | elapsed | |
| add_genome_matches | 13.085 | 1.015 | 15.736 | |
| add_inverse_strand | 2.948 | 0.049 | 2.999 | |
| add_seq | 3.824 | 0.129 | 3.961 | |
| add_target_matches | 14.937 | 0.600 | 15.760 | |
| bed_to_granges | 1.022 | 0.029 | 1.053 | |
| char_to_granges | 1.985 | 0.032 | 2.019 | |
| double_flank | 2.898 | 0.040 | 2.992 | |
| extend_for_pe | 10.690 | 0.360 | 11.067 | |
| extend_pe_to_gg | 0.593 | 0.004 | 0.598 | |
| extract_matchranges | 3.778 | 0.090 | 3.880 | |
| extract_subranges | 0.714 | 0.003 | 0.719 | |
| find_gg | 1.420 | 0.036 | 1.458 | |
| find_primespacers | 21.871 | 0.637 | 22.541 | |
| find_spacers | 14.055 | 0.414 | 14.489 | |
| genes_to_granges | 4.383 | 0.097 | 4.488 | |
| gr2dt | 0.245 | 0.002 | 0.251 | |
| has_been_indexed | 0.000 | 0.000 | 0.001 | |
| index_genome | 29.092 | 0.305 | 29.447 | |
| index_targets | 3.168 | 0.152 | 3.330 | |
| plot_intervals | 10.728 | 0.305 | 11.048 | |
| plot_karyogram | 1.593 | 0.042 | 1.637 | |
| score_ontargets | 23.959 | 0.571 | 24.566 | |
| up_flank | 13.815 | 0.088 | 13.922 | |
| write_ranges | 0.249 | 0.002 | 0.252 | |