| Back to Multiple platform build/check report for BioC 3.12 |
|
This page was generated on 2021-05-06 12:32:49 -0400 (Thu, 06 May 2021).
|
To the developers/maintainers of the PrecisionTrialDrawer package: Please make sure to use the following settings in order to reproduce any error or warning you see on this page. |
| Package 1379/1974 | Hostname | OS / Arch | INSTALL | BUILD | CHECK | BUILD BIN | ||||||||
| PrecisionTrialDrawer 1.6.0 (landing page) Giorgio Melloni
| malbec1 | Linux (Ubuntu 18.04.5 LTS) / x86_64 | OK | OK | OK | |||||||||
| tokay1 | Windows Server 2012 R2 Standard / x64 | OK | OK | OK | OK | |||||||||
| merida1 | macOS 10.14.6 Mojave / x86_64 | OK | OK | OK | OK | |||||||||
| Package: PrecisionTrialDrawer |
| Version: 1.6.0 |
| Command: rm -rf PrecisionTrialDrawer.buildbin-libdir && mkdir PrecisionTrialDrawer.buildbin-libdir && C:\Users\biocbuild\bbs-3.12-bioc\R\bin\R.exe CMD INSTALL --merge-multiarch --build --library=PrecisionTrialDrawer.buildbin-libdir PrecisionTrialDrawer_1.6.0.tar.gz |
| StartedAt: 2021-05-06 09:47:38 -0400 (Thu, 06 May 2021) |
| EndedAt: 2021-05-06 09:48:38 -0400 (Thu, 06 May 2021) |
| EllapsedTime: 59.7 seconds |
| RetCode: 0 |
| Status: OK |
| PackageFile: PrecisionTrialDrawer_1.6.0.zip |
| PackageFileSize: 1.211 MiB |
##############################################################################
##############################################################################
###
### Running command:
###
### rm -rf PrecisionTrialDrawer.buildbin-libdir && mkdir PrecisionTrialDrawer.buildbin-libdir && C:\Users\biocbuild\bbs-3.12-bioc\R\bin\R.exe CMD INSTALL --merge-multiarch --build --library=PrecisionTrialDrawer.buildbin-libdir PrecisionTrialDrawer_1.6.0.tar.gz
###
##############################################################################
##############################################################################
install for i386
* installing *source* package 'PrecisionTrialDrawer' ...
** using staged installation
** R
** data
** inst
** byte-compile and prepare package for lazy loading
Creating a generic function for 'toJSON' from package 'jsonlite' in package 'googleVis'
** help
*** installing help indices
converting help for package 'PrecisionTrialDrawer'
finding HTML links ... done
CancerPanel-class html
PrecisionTrialDrawer-package html
appendRepo html
coocMutexPlot html
coveragePlot html
coverageStackPlot html
cpArguments html
cpData html
cpDataSubset html
cpDesign html
cpFreq html
cpObj html
cpObj2 html
dataExtractor html
filterFusions html
filterMutations html
getAlterations html
newCancerPanel html
panelDesigner html
panelOptimizer html
panelexample html
propPowerSampleSize html
saturationPlot html
showCancerStudy html
showTumorType html
subsetAlterations html
survPowerSampleSize html
survPowerSampleSize1Arm html
** building package indices
** installing vignettes
** testing if installed package can be loaded from temporary location
Creating a generic function for 'toJSON' from package 'jsonlite' in package 'googleVis'
** testing if installed package can be loaded from final location
Creating a generic function for 'toJSON' from package 'jsonlite' in package 'googleVis'
** testing if installed package keeps a record of temporary installation path
install for x64
* installing *source* package 'PrecisionTrialDrawer' ...
** testing if installed package can be loaded
Creating a generic function for 'toJSON' from package 'jsonlite' in package 'googleVis'
* MD5 sums
packaged installation of 'PrecisionTrialDrawer' as PrecisionTrialDrawer_1.6.0.zip
* DONE (PrecisionTrialDrawer)