| Back to Multiple platform build/check report for BioC 3.12 |
|
This page was generated on 2021-05-06 12:28:39 -0400 (Thu, 06 May 2021).
|
To the developers/maintainers of the PrecisionTrialDrawer package: Please make sure to use the following settings in order to reproduce any error or warning you see on this page. |
| Package 1379/1974 | Hostname | OS / Arch | INSTALL | BUILD | CHECK | BUILD BIN | ||||||||
| PrecisionTrialDrawer 1.6.0 (landing page) Giorgio Melloni
| malbec1 | Linux (Ubuntu 18.04.5 LTS) / x86_64 | OK | OK | OK | |||||||||
| tokay1 | Windows Server 2012 R2 Standard / x64 | OK | OK | OK | OK | |||||||||
| merida1 | macOS 10.14.6 Mojave / x86_64 | OK | OK | OK | OK | |||||||||
| Package: PrecisionTrialDrawer |
| Version: 1.6.0 |
| Command: /home/biocbuild/bbs-3.12-bioc/R/bin/R CMD check --install=check:PrecisionTrialDrawer.install-out.txt --library=/home/biocbuild/bbs-3.12-bioc/R/library --no-vignettes --timings PrecisionTrialDrawer_1.6.0.tar.gz |
| StartedAt: 2021-05-06 04:40:12 -0400 (Thu, 06 May 2021) |
| EndedAt: 2021-05-06 04:44:17 -0400 (Thu, 06 May 2021) |
| EllapsedTime: 244.5 seconds |
| RetCode: 0 |
| Status: OK |
| CheckDir: PrecisionTrialDrawer.Rcheck |
| Warnings: 0 |
##############################################################################
##############################################################################
###
### Running command:
###
### /home/biocbuild/bbs-3.12-bioc/R/bin/R CMD check --install=check:PrecisionTrialDrawer.install-out.txt --library=/home/biocbuild/bbs-3.12-bioc/R/library --no-vignettes --timings PrecisionTrialDrawer_1.6.0.tar.gz
###
##############################################################################
##############################################################################
* using log directory ‘/home/biocbuild/bbs-3.12-bioc/meat/PrecisionTrialDrawer.Rcheck’
* using R version 4.0.5 (2021-03-31)
* using platform: x86_64-pc-linux-gnu (64-bit)
* using session charset: UTF-8
* using option ‘--no-vignettes’
* checking for file ‘PrecisionTrialDrawer/DESCRIPTION’ ... OK
* checking extension type ... Package
* this is package ‘PrecisionTrialDrawer’ version ‘1.6.0’
* checking package namespace information ... OK
* checking package dependencies ... OK
* checking if this is a source package ... OK
* checking if there is a namespace ... OK
* checking for hidden files and directories ... OK
* checking for portable file names ... OK
* checking for sufficient/correct file permissions ... OK
* checking whether package ‘PrecisionTrialDrawer’ can be installed ... OK
* checking installed package size ... OK
* checking package directory ... OK
* checking ‘build’ directory ... OK
* checking DESCRIPTION meta-information ... OK
* checking top-level files ... OK
* checking for left-over files ... OK
* checking index information ... OK
* checking package subdirectories ... OK
* checking R files for non-ASCII characters ... OK
* checking R files for syntax errors ... OK
* checking whether the package can be loaded ... OK
* checking whether the package can be loaded with stated dependencies ... OK
* checking whether the package can be unloaded cleanly ... OK
* checking whether the namespace can be loaded with stated dependencies ... OK
* checking whether the namespace can be unloaded cleanly ... OK
* checking dependencies in R code ... OK
* checking S3 generic/method consistency ... OK
* checking replacement functions ... OK
* checking foreign function calls ... OK
* checking R code for possible problems ... OK
* checking Rd files ... OK
* checking Rd metadata ... OK
* checking Rd cross-references ... OK
* checking for missing documentation entries ... OK
* checking for code/documentation mismatches ... OK
* checking Rd \usage sections ... OK
* checking Rd contents ... OK
* checking for unstated dependencies in examples ... OK
* checking contents of ‘data’ directory ... OK
* checking data for non-ASCII characters ... OK
* checking data for ASCII and uncompressed saves ... OK
* checking files in ‘vignettes’ ... OK
* checking examples ... OK
Examples with CPU (user + system) or elapsed time > 5s
user system elapsed
panelDesigner 5.760 0.056 14.844
newCancerPanel 5.472 0.052 14.203
* checking for unstated dependencies in vignettes ... OK
* checking package vignettes in ‘inst/doc’ ... OK
* checking running R code from vignettes ... SKIPPED
* checking re-building of vignette outputs ... SKIPPED
* checking PDF version of manual ... OK
* DONE
Status: OK
PrecisionTrialDrawer.Rcheck/00install.out
############################################################################## ############################################################################## ### ### Running command: ### ### /home/biocbuild/bbs-3.12-bioc/R/bin/R CMD INSTALL PrecisionTrialDrawer ### ############################################################################## ############################################################################## * installing to library ‘/home/biocbuild/bbs-3.12-bioc/R/library’ * installing *source* package ‘PrecisionTrialDrawer’ ... ** using staged installation ** R ** data ** inst ** byte-compile and prepare package for lazy loading Creating a generic function for ‘toJSON’ from package ‘jsonlite’ in package ‘googleVis’ ** help *** installing help indices ** building package indices ** installing vignettes ** testing if installed package can be loaded from temporary location Creating a generic function for ‘toJSON’ from package ‘jsonlite’ in package ‘googleVis’ ** testing if installed package can be loaded from final location Creating a generic function for ‘toJSON’ from package ‘jsonlite’ in package ‘googleVis’ ** testing if installed package keeps a record of temporary installation path * DONE (PrecisionTrialDrawer)
PrecisionTrialDrawer.Rcheck/PrecisionTrialDrawer-Ex.timings
| name | user | system | elapsed | |
| CancerPanel-class | 0.004 | 0.000 | 0.001 | |
| PrecisionTrialDrawer-package | 0.684 | 0.008 | 0.692 | |
| appendRepo | 0.524 | 0.008 | 0.533 | |
| coocMutexPlot | 1.988 | 0.024 | 2.014 | |
| coveragePlot | 0.332 | 0.004 | 0.336 | |
| coverageStackPlot | 0.352 | 0.028 | 0.380 | |
| cpArguments | 0.028 | 0.000 | 0.027 | |
| cpData | 0.016 | 0.004 | 0.022 | |
| cpDataSubset | 0.008 | 0.004 | 0.012 | |
| cpDesign | 0.024 | 0.000 | 0.023 | |
| cpFreq | 0.208 | 0.004 | 0.212 | |
| cpObj | 0.348 | 0.000 | 0.351 | |
| cpObj2 | 0.076 | 0.004 | 0.078 | |
| dataExtractor | 0.336 | 0.008 | 0.341 | |
| filterFusions | 0.532 | 0.000 | 0.534 | |
| filterMutations | 1.412 | 0.004 | 1.423 | |
| getAlterations | 0.252 | 0.004 | 0.608 | |
| newCancerPanel | 5.472 | 0.052 | 14.203 | |
| panelDesigner | 5.760 | 0.056 | 14.844 | |
| panelOptimizer | 0.004 | 0.000 | 0.001 | |
| panelexample | 0.004 | 0.004 | 0.010 | |
| propPowerSampleSize | 1.552 | 0.004 | 1.558 | |
| saturationPlot | 1.956 | 0.024 | 1.983 | |
| showCancerStudy | 0.024 | 0.000 | 0.053 | |
| showTumorType | 0.052 | 0.000 | 0.083 | |
| subsetAlterations | 0.728 | 0.008 | 0.734 | |
| survPowerSampleSize | 0.536 | 0.004 | 0.542 | |
| survPowerSampleSize1Arm | 0.58 | 0.00 | 0.58 | |