| Back to Multiple platform build/check report for BioC 3.12 |
|
This page was generated on 2021-05-06 12:32:43 -0400 (Thu, 06 May 2021).
|
To the developers/maintainers of the PCpheno package: Please make sure to use the following settings in order to reproduce any error or warning you see on this page. |
| Package 1318/1974 | Hostname | OS / Arch | INSTALL | BUILD | CHECK | BUILD BIN | ||||||||
| PCpheno 1.52.0 (landing page) Nolwenn Le Meur
| malbec1 | Linux (Ubuntu 18.04.5 LTS) / x86_64 | OK | OK | OK | |||||||||
| tokay1 | Windows Server 2012 R2 Standard / x64 | OK | OK | OK | OK | |||||||||
| merida1 | macOS 10.14.6 Mojave / x86_64 | OK | OK | OK | OK | |||||||||
| Package: PCpheno |
| Version: 1.52.0 |
| Command: C:\Users\biocbuild\bbs-3.12-bioc\R\bin\R.exe CMD check --force-multiarch --install=check:PCpheno.install-out.txt --library=C:\Users\biocbuild\bbs-3.12-bioc\R\library --no-vignettes --timings PCpheno_1.52.0.tar.gz |
| StartedAt: 2021-05-06 05:24:58 -0400 (Thu, 06 May 2021) |
| EndedAt: 2021-05-06 05:29:35 -0400 (Thu, 06 May 2021) |
| EllapsedTime: 277.4 seconds |
| RetCode: 0 |
| Status: OK |
| CheckDir: PCpheno.Rcheck |
| Warnings: 0 |
##############################################################################
##############################################################################
###
### Running command:
###
### C:\Users\biocbuild\bbs-3.12-bioc\R\bin\R.exe CMD check --force-multiarch --install=check:PCpheno.install-out.txt --library=C:\Users\biocbuild\bbs-3.12-bioc\R\library --no-vignettes --timings PCpheno_1.52.0.tar.gz
###
##############################################################################
##############################################################################
* using log directory 'C:/Users/biocbuild/bbs-3.12-bioc/meat/PCpheno.Rcheck'
* using R version 4.0.5 (2021-03-31)
* using platform: x86_64-w64-mingw32 (64-bit)
* using session charset: ISO8859-1
* using option '--no-vignettes'
* checking for file 'PCpheno/DESCRIPTION' ... OK
* checking extension type ... Package
* this is package 'PCpheno' version '1.52.0'
* checking package namespace information ... OK
* checking package dependencies ... NOTE
Depends: includes the non-default packages:
'Category', 'ScISI', 'SLGI', 'ppiStats', 'ppiData', 'annotate'
Adding so many packages to the search path is excessive and importing
selectively is preferable.
* checking if this is a source package ... OK
* checking if there is a namespace ... OK
* checking for hidden files and directories ... OK
* checking for portable file names ... OK
* checking whether package 'PCpheno' can be installed ... OK
* checking installed package size ... OK
* checking package directory ... OK
* checking 'build' directory ... OK
* checking DESCRIPTION meta-information ... NOTE
Packages listed in more than one of Depends, Imports, Suggests, Enhances:
'Category' 'ScISI' 'KEGG.db' 'GO.db'
A package should be listed in only one of these fields.
* checking top-level files ... OK
* checking for left-over files ... OK
* checking index information ... OK
* checking package subdirectories ... OK
* checking R files for non-ASCII characters ... OK
* checking R files for syntax errors ... OK
* loading checks for arch 'i386'
** checking whether the package can be loaded ... OK
** checking whether the package can be loaded with stated dependencies ... OK
** checking whether the package can be unloaded cleanly ... OK
** checking whether the namespace can be loaded with stated dependencies ... OK
** checking whether the namespace can be unloaded cleanly ... OK
* loading checks for arch 'x64'
** checking whether the package can be loaded ... OK
** checking whether the package can be loaded with stated dependencies ... OK
** checking whether the package can be unloaded cleanly ... OK
** checking whether the namespace can be loaded with stated dependencies ... OK
** checking whether the namespace can be unloaded cleanly ... OK
* checking dependencies in R code ... NOTE
'library' or 'require' calls in package code:
'GO.db' 'KEGG.db'
Please use :: or requireNamespace() instead.
See section 'Suggested packages' in the 'Writing R Extensions' manual.
Packages in Depends field not imported from:
'SLGI' 'annotate' 'ppiData' 'ppiStats'
These packages need to be imported from (in the NAMESPACE file)
for when this namespace is loaded but not attached.
* checking S3 generic/method consistency ... OK
* checking replacement functions ... OK
* checking foreign function calls ... OK
* checking R code for possible problems ... OK
* checking Rd files ... OK
* checking Rd metadata ... OK
* checking Rd cross-references ... OK
* checking for missing documentation entries ... OK
* checking for code/documentation mismatches ... OK
* checking Rd \usage sections ... OK
* checking Rd contents ... OK
* checking for unstated dependencies in examples ... OK
* checking contents of 'data' directory ... OK
* checking data for non-ASCII characters ... OK
* checking data for ASCII and uncompressed saves ... OK
* checking files in 'vignettes' ... OK
* checking examples ...
** running examples for arch 'i386' ... OK
Examples with CPU (user + system) or elapsed time > 5s
user system elapsed
graphTheory 5.49 0.22 5.7
** running examples for arch 'x64' ... OK
Examples with CPU (user + system) or elapsed time > 5s
user system elapsed
gtResult-class 5.47 1.05 6.51
graphTheory 6.22 0.17 6.39
* checking for unstated dependencies in vignettes ... OK
* checking package vignettes in 'inst/doc' ... OK
* checking running R code from vignettes ... SKIPPED
* checking re-building of vignette outputs ... SKIPPED
* checking PDF version of manual ... OK
* DONE
Status: 3 NOTEs
See
'C:/Users/biocbuild/bbs-3.12-bioc/meat/PCpheno.Rcheck/00check.log'
for details.
PCpheno.Rcheck/00install.out
##############################################################################
##############################################################################
###
### Running command:
###
### C:\cygwin\bin\curl.exe -O http://172.29.0.3/BBS/3.12/bioc/src/contrib/PCpheno_1.52.0.tar.gz && rm -rf PCpheno.buildbin-libdir && mkdir PCpheno.buildbin-libdir && C:\Users\biocbuild\bbs-3.12-bioc\R\bin\R.exe CMD INSTALL --merge-multiarch --build --library=PCpheno.buildbin-libdir PCpheno_1.52.0.tar.gz && C:\Users\biocbuild\bbs-3.12-bioc\R\bin\R.exe CMD INSTALL PCpheno_1.52.0.zip && rm PCpheno_1.52.0.tar.gz PCpheno_1.52.0.zip
###
##############################################################################
##############################################################################
% Total % Received % Xferd Average Speed Time Time Time Current
Dload Upload Total Spent Left Speed
0 0 0 0 0 0 0 0 --:--:-- --:--:-- --:--:-- 0
100 810k 100 810k 0 0 29.1M 0 --:--:-- --:--:-- --:--:-- 30.4M
install for i386
* installing *source* package 'PCpheno' ...
** using staged installation
** R
** data
** byte-compile and prepare package for lazy loading
No methods found in package 'Biobase' for request: 'listlen' when loading 'RpsiXML'
No methods found in package 'annotate' for requests: 'pubmed', 'buildPubMedAbst' when loading 'RpsiXML'
No methods found in package 'BiocGenerics' for request: 'plot' when loading 'SLGI'
** help
*** installing help indices
converting help for package 'PCpheno'
finding HTML links ... done
CoHyperGParams-class html
CoHyperGResult-class html
Dudley html
Giaever html
HI html
KEGG2SCISI html
Kastenmayer html
Lesage html
Osterberg html
PCpheno.package html
SGDphenoL html
YEASTOHNOLOG html
buildFDMat html
categoryToEntrezBuilder html
complexStatus html
deResult-class html
densityEstimate html
getDescr html
getFDgene html
graphTheory html
gtResult-class html
overlap html
plot html
ppiInteraction html
reduceM html
testResult-class html
truncName html
** building package indices
** installing vignettes
** testing if installed package can be loaded from temporary location
No methods found in package 'Biobase' for request: 'listlen' when loading 'RpsiXML'
No methods found in package 'annotate' for requests: 'pubmed', 'buildPubMedAbst' when loading 'RpsiXML'
No methods found in package 'BiocGenerics' for request: 'plot' when loading 'SLGI'
** testing if installed package can be loaded from final location
No methods found in package 'Biobase' for request: 'listlen' when loading 'RpsiXML'
No methods found in package 'annotate' for requests: 'pubmed', 'buildPubMedAbst' when loading 'RpsiXML'
No methods found in package 'BiocGenerics' for request: 'plot' when loading 'SLGI'
** testing if installed package keeps a record of temporary installation path
install for x64
* installing *source* package 'PCpheno' ...
** testing if installed package can be loaded
No methods found in package 'Biobase' for request: 'listlen' when loading 'RpsiXML'
No methods found in package 'annotate' for requests: 'pubmed', 'buildPubMedAbst' when loading 'RpsiXML'
No methods found in package 'BiocGenerics' for request: 'plot' when loading 'SLGI'
* MD5 sums
packaged installation of 'PCpheno' as PCpheno_1.52.0.zip
* DONE (PCpheno)
* installing to library 'C:/Users/biocbuild/bbs-3.12-bioc/R/library'
package 'PCpheno' successfully unpacked and MD5 sums checked
|
PCpheno.Rcheck/examples_i386/PCpheno-Ex.timings
|
PCpheno.Rcheck/examples_x64/PCpheno-Ex.timings
|