| Back to Multiple platform build/check report for BioC 3.12 |
|
This page was generated on 2021-05-06 12:28:31 -0400 (Thu, 06 May 2021).
|
To the developers/maintainers of the PCpheno package: Please make sure to use the following settings in order to reproduce any error or warning you see on this page. |
| Package 1318/1974 | Hostname | OS / Arch | INSTALL | BUILD | CHECK | BUILD BIN | ||||||||
| PCpheno 1.52.0 (landing page) Nolwenn Le Meur
| malbec1 | Linux (Ubuntu 18.04.5 LTS) / x86_64 | OK | OK | OK | |||||||||
| tokay1 | Windows Server 2012 R2 Standard / x64 | OK | OK | OK | OK | |||||||||
| merida1 | macOS 10.14.6 Mojave / x86_64 | OK | OK | OK | OK | |||||||||
| Package: PCpheno |
| Version: 1.52.0 |
| Command: /home/biocbuild/bbs-3.12-bioc/R/bin/R CMD check --install=check:PCpheno.install-out.txt --library=/home/biocbuild/bbs-3.12-bioc/R/library --no-vignettes --timings PCpheno_1.52.0.tar.gz |
| StartedAt: 2021-05-06 04:22:54 -0400 (Thu, 06 May 2021) |
| EndedAt: 2021-05-06 04:25:51 -0400 (Thu, 06 May 2021) |
| EllapsedTime: 177.3 seconds |
| RetCode: 0 |
| Status: OK |
| CheckDir: PCpheno.Rcheck |
| Warnings: 0 |
##############################################################################
##############################################################################
###
### Running command:
###
### /home/biocbuild/bbs-3.12-bioc/R/bin/R CMD check --install=check:PCpheno.install-out.txt --library=/home/biocbuild/bbs-3.12-bioc/R/library --no-vignettes --timings PCpheno_1.52.0.tar.gz
###
##############################################################################
##############################################################################
* using log directory ‘/home/biocbuild/bbs-3.12-bioc/meat/PCpheno.Rcheck’
* using R version 4.0.5 (2021-03-31)
* using platform: x86_64-pc-linux-gnu (64-bit)
* using session charset: UTF-8
* using option ‘--no-vignettes’
* checking for file ‘PCpheno/DESCRIPTION’ ... OK
* checking extension type ... Package
* this is package ‘PCpheno’ version ‘1.52.0’
* checking package namespace information ... OK
* checking package dependencies ... NOTE
Depends: includes the non-default packages:
'Category', 'ScISI', 'SLGI', 'ppiStats', 'ppiData', 'annotate'
Adding so many packages to the search path is excessive and importing
selectively is preferable.
* checking if this is a source package ... OK
* checking if there is a namespace ... OK
* checking for hidden files and directories ... OK
* checking for portable file names ... OK
* checking for sufficient/correct file permissions ... OK
* checking whether package ‘PCpheno’ can be installed ... OK
* checking installed package size ... OK
* checking package directory ... OK
* checking ‘build’ directory ... OK
* checking DESCRIPTION meta-information ... NOTE
Packages listed in more than one of Depends, Imports, Suggests, Enhances:
‘Category’ ‘ScISI’ ‘KEGG.db’ ‘GO.db’
A package should be listed in only one of these fields.
* checking top-level files ... OK
* checking for left-over files ... OK
* checking index information ... OK
* checking package subdirectories ... OK
* checking R files for non-ASCII characters ... OK
* checking R files for syntax errors ... OK
* checking whether the package can be loaded ... OK
* checking whether the package can be loaded with stated dependencies ... OK
* checking whether the package can be unloaded cleanly ... OK
* checking whether the namespace can be loaded with stated dependencies ... OK
* checking whether the namespace can be unloaded cleanly ... OK
* checking dependencies in R code ... NOTE
'library' or 'require' calls in package code:
‘GO.db’ ‘KEGG.db’
Please use :: or requireNamespace() instead.
See section 'Suggested packages' in the 'Writing R Extensions' manual.
Packages in Depends field not imported from:
‘SLGI’ ‘annotate’ ‘ppiData’ ‘ppiStats’
These packages need to be imported from (in the NAMESPACE file)
for when this namespace is loaded but not attached.
* checking S3 generic/method consistency ... OK
* checking replacement functions ... OK
* checking foreign function calls ... OK
* checking R code for possible problems ... OK
* checking Rd files ... OK
* checking Rd metadata ... OK
* checking Rd cross-references ... OK
* checking for missing documentation entries ... OK
* checking for code/documentation mismatches ... OK
* checking Rd \usage sections ... OK
* checking Rd contents ... OK
* checking for unstated dependencies in examples ... OK
* checking contents of ‘data’ directory ... OK
* checking data for non-ASCII characters ... OK
* checking data for ASCII and uncompressed saves ... OK
* checking files in ‘vignettes’ ... OK
* checking examples ... OK
Examples with CPU (user + system) or elapsed time > 5s
user system elapsed
graphTheory 6.204 0.144 6.381
* checking for unstated dependencies in vignettes ... OK
* checking package vignettes in ‘inst/doc’ ... OK
* checking running R code from vignettes ... SKIPPED
* checking re-building of vignette outputs ... SKIPPED
* checking PDF version of manual ... OK
* DONE
Status: 3 NOTEs
See
‘/home/biocbuild/bbs-3.12-bioc/meat/PCpheno.Rcheck/00check.log’
for details.
PCpheno.Rcheck/00install.out
############################################################################## ############################################################################## ### ### Running command: ### ### /home/biocbuild/bbs-3.12-bioc/R/bin/R CMD INSTALL PCpheno ### ############################################################################## ############################################################################## * installing to library ‘/home/biocbuild/bbs-3.12-bioc/R/library’ * installing *source* package ‘PCpheno’ ... ** using staged installation ** R ** data ** byte-compile and prepare package for lazy loading No methods found in package ‘Biobase’ for request: ‘listlen’ when loading ‘RpsiXML’ No methods found in package ‘annotate’ for requests: ‘pubmed’, ‘buildPubMedAbst’ when loading ‘RpsiXML’ No methods found in package ‘BiocGenerics’ for request: ‘plot’ when loading ‘SLGI’ ** help *** installing help indices ** building package indices ** installing vignettes ** testing if installed package can be loaded from temporary location No methods found in package ‘Biobase’ for request: ‘listlen’ when loading ‘RpsiXML’ No methods found in package ‘annotate’ for requests: ‘pubmed’, ‘buildPubMedAbst’ when loading ‘RpsiXML’ No methods found in package ‘BiocGenerics’ for request: ‘plot’ when loading ‘SLGI’ ** testing if installed package can be loaded from final location No methods found in package ‘Biobase’ for request: ‘listlen’ when loading ‘RpsiXML’ No methods found in package ‘annotate’ for requests: ‘pubmed’, ‘buildPubMedAbst’ when loading ‘RpsiXML’ No methods found in package ‘BiocGenerics’ for request: ‘plot’ when loading ‘SLGI’ ** testing if installed package keeps a record of temporary installation path * DONE (PCpheno)
PCpheno.Rcheck/PCpheno-Ex.timings
| name | user | system | elapsed | |
| CoHyperGResult-class | 0.700 | 0.008 | 0.739 | |
| Dudley | 0.004 | 0.004 | 0.009 | |
| Giaever | 0.176 | 0.000 | 0.176 | |
| HI | 0.000 | 0.000 | 0.002 | |
| KEGG2SCISI | 0.084 | 0.016 | 0.130 | |
| Kastenmayer | 0.028 | 0.000 | 0.032 | |
| Lesage | 0.012 | 0.000 | 0.012 | |
| Osterberg | 0.036 | 0.000 | 0.035 | |
| SGDphenoL | 0.032 | 0.004 | 0.038 | |
| YEASTOHNOLOG | 0.012 | 0.000 | 0.015 | |
| buildFDMat | 0.212 | 0.004 | 0.219 | |
| categoryToEntrezBuilder | 0.112 | 0.020 | 0.143 | |
| complexStatus | 0.656 | 0.040 | 0.697 | |
| deResult-class | 0.100 | 0.008 | 0.107 | |
| densityEstimate | 0.604 | 0.116 | 0.722 | |
| getDescr | 0.712 | 0.020 | 0.880 | |
| getFDgene | 0.184 | 0.012 | 0.198 | |
| graphTheory | 6.204 | 0.144 | 6.381 | |
| gtResult-class | 3.932 | 0.204 | 4.147 | |
| overlap | 0.004 | 0.000 | 0.002 | |
| plot | 0.524 | 0.016 | 0.546 | |
| ppiInteraction | 4.120 | 0.040 | 4.215 | |
| reduceM | 0.004 | 0.000 | 0.001 | |
| truncName | 0 | 0 | 0 | |