| Back to Multiple platform build/check report for BioC 3.12 |
|
This page was generated on 2021-05-06 12:30:40 -0400 (Thu, 06 May 2021).
|
To the developers/maintainers of the DEP package: Please make sure to use the following settings in order to reproduce any error or warning you see on this page. |
| Package 457/1974 | Hostname | OS / Arch | INSTALL | BUILD | CHECK | BUILD BIN | ||||||||
| DEP 1.12.0 (landing page) Arne Smits
| malbec1 | Linux (Ubuntu 18.04.5 LTS) / x86_64 | OK | OK | OK | |||||||||
| tokay1 | Windows Server 2012 R2 Standard / x64 | OK | OK | OK | OK | |||||||||
| merida1 | macOS 10.14.6 Mojave / x86_64 | OK | OK | OK | OK | |||||||||
| Package: DEP |
| Version: 1.12.0 |
| Command: rm -rf DEP.buildbin-libdir && mkdir DEP.buildbin-libdir && C:\Users\biocbuild\bbs-3.12-bioc\R\bin\R.exe CMD INSTALL --merge-multiarch --build --library=DEP.buildbin-libdir DEP_1.12.0.tar.gz |
| StartedAt: 2021-05-06 08:54:02 -0400 (Thu, 06 May 2021) |
| EndedAt: 2021-05-06 08:55:03 -0400 (Thu, 06 May 2021) |
| EllapsedTime: 61.8 seconds |
| RetCode: 0 |
| Status: OK |
| PackageFile: DEP_1.12.0.zip |
| PackageFileSize: 3.209 MiB |
##############################################################################
##############################################################################
###
### Running command:
###
### rm -rf DEP.buildbin-libdir && mkdir DEP.buildbin-libdir && C:\Users\biocbuild\bbs-3.12-bioc\R\bin\R.exe CMD INSTALL --merge-multiarch --build --library=DEP.buildbin-libdir DEP_1.12.0.tar.gz
###
##############################################################################
##############################################################################
install for i386
* installing *source* package 'DEP' ...
** using staged installation
** R
** data
*** moving datasets to lazyload DB
** inst
** byte-compile and prepare package for lazy loading
** help
*** installing help indices
converting help for package 'DEP'
finding HTML links ... done
DEP html
DiUbi html
DiUbi_ExpDesign html
LFQ html
TMT html
UbiLength html
UbiLength_ExpDesign html
add_rejections html
analyze_dep html
filter_missval html
filter_proteins html
get_df_long html
get_df_wide html
get_prefix html
get_results html
get_suffix html
import_IsobarQuant html
import_MaxQuant html
impute html
make_se html
make_se_parse html
make_unique html
manual_impute html
meanSdPlot html
normalize_vsn html
plot_all html
plot_cond html
plot_cond_freq html
plot_cond_overlap html
plot_cor html
plot_coverage html
plot_detect html
plot_dist html
plot_frequency html
plot_gsea html
plot_heatmap html
plot_imputation html
plot_missval html
plot_normalization html
plot_numbers html
plot_p_hist html
plot_pca html
plot_single html
plot_volcano html
process html
report html
run_app html
se2msn html
test_diff html
test_gsea html
theme_DEP1 html
theme_DEP2 html
** building package indices
** installing vignettes
** testing if installed package can be loaded from temporary location
** testing if installed package can be loaded from final location
** testing if installed package keeps a record of temporary installation path
install for x64
* installing *source* package 'DEP' ...
** testing if installed package can be loaded
* MD5 sums
packaged installation of 'DEP' as DEP_1.12.0.zip
* DONE (DEP)