| Back to Multiple platform build/check report for BioC 3.12 |
|
This page was generated on 2021-05-06 12:27:19 -0400 (Thu, 06 May 2021).
|
To the developers/maintainers of the DEP package: Please make sure to use the following settings in order to reproduce any error or warning you see on this page. |
| Package 457/1974 | Hostname | OS / Arch | INSTALL | BUILD | CHECK | BUILD BIN | ||||||||
| DEP 1.12.0 (landing page) Arne Smits
| malbec1 | Linux (Ubuntu 18.04.5 LTS) / x86_64 | OK | OK | OK | |||||||||
| tokay1 | Windows Server 2012 R2 Standard / x64 | OK | OK | OK | OK | |||||||||
| merida1 | macOS 10.14.6 Mojave / x86_64 | OK | OK | OK | OK | |||||||||
| Package: DEP |
| Version: 1.12.0 |
| Command: /home/biocbuild/bbs-3.12-bioc/R/bin/R CMD check --install=check:DEP.install-out.txt --library=/home/biocbuild/bbs-3.12-bioc/R/library --no-vignettes --timings DEP_1.12.0.tar.gz |
| StartedAt: 2021-05-06 00:50:15 -0400 (Thu, 06 May 2021) |
| EndedAt: 2021-05-06 00:56:48 -0400 (Thu, 06 May 2021) |
| EllapsedTime: 392.2 seconds |
| RetCode: 0 |
| Status: OK |
| CheckDir: DEP.Rcheck |
| Warnings: 0 |
##############################################################################
##############################################################################
###
### Running command:
###
### /home/biocbuild/bbs-3.12-bioc/R/bin/R CMD check --install=check:DEP.install-out.txt --library=/home/biocbuild/bbs-3.12-bioc/R/library --no-vignettes --timings DEP_1.12.0.tar.gz
###
##############################################################################
##############################################################################
* using log directory ‘/home/biocbuild/bbs-3.12-bioc/meat/DEP.Rcheck’
* using R version 4.0.5 (2021-03-31)
* using platform: x86_64-pc-linux-gnu (64-bit)
* using session charset: UTF-8
* using option ‘--no-vignettes’
* checking for file ‘DEP/DESCRIPTION’ ... OK
* this is package ‘DEP’ version ‘1.12.0’
* package encoding: UTF-8
* checking package namespace information ... OK
* checking package dependencies ... OK
* checking if this is a source package ... OK
* checking if there is a namespace ... OK
* checking for hidden files and directories ... OK
* checking for portable file names ... OK
* checking for sufficient/correct file permissions ... OK
* checking whether package ‘DEP’ can be installed ... OK
* checking installed package size ... OK
* checking package directory ... OK
* checking ‘build’ directory ... OK
* checking DESCRIPTION meta-information ... OK
* checking top-level files ... OK
* checking for left-over files ... OK
* checking index information ... OK
* checking package subdirectories ... OK
* checking R files for non-ASCII characters ... OK
* checking R files for syntax errors ... OK
* checking whether the package can be loaded ... OK
* checking whether the package can be loaded with stated dependencies ... OK
* checking whether the package can be unloaded cleanly ... OK
* checking whether the namespace can be loaded with stated dependencies ... OK
* checking whether the namespace can be unloaded cleanly ... OK
* checking dependencies in R code ... OK
* checking S3 generic/method consistency ... OK
* checking replacement functions ... OK
* checking foreign function calls ... OK
* checking R code for possible problems ... OK
* checking Rd files ... OK
* checking Rd metadata ... OK
* checking Rd cross-references ... OK
* checking for missing documentation entries ... OK
* checking for code/documentation mismatches ... OK
* checking Rd \usage sections ... OK
* checking Rd contents ... OK
* checking for unstated dependencies in examples ... OK
* checking contents of ‘data’ directory ... OK
* checking data for non-ASCII characters ... OK
* checking data for ASCII and uncompressed saves ... OK
* checking R/sysdata.rda ... OK
* checking files in ‘vignettes’ ... OK
* checking examples ... OK
Examples with CPU (user + system) or elapsed time > 5s
user system elapsed
plot_dist 6.072 0.008 6.102
* checking for unstated dependencies in ‘tests’ ... OK
* checking tests ...
Running ‘testthat.R’
OK
* checking for unstated dependencies in vignettes ... OK
* checking package vignettes in ‘inst/doc’ ... OK
* checking running R code from vignettes ... SKIPPED
* checking re-building of vignette outputs ... SKIPPED
* checking PDF version of manual ... OK
* DONE
Status: OK
DEP.Rcheck/00install.out
############################################################################## ############################################################################## ### ### Running command: ### ### /home/biocbuild/bbs-3.12-bioc/R/bin/R CMD INSTALL DEP ### ############################################################################## ############################################################################## * installing to library ‘/home/biocbuild/bbs-3.12-bioc/R/library’ * installing *source* package ‘DEP’ ... ** using staged installation ** R ** data *** moving datasets to lazyload DB ** inst ** byte-compile and prepare package for lazy loading ** help *** installing help indices ** building package indices ** installing vignettes ** testing if installed package can be loaded from temporary location ** testing if installed package can be loaded from final location ** testing if installed package keeps a record of temporary installation path * DONE (DEP)
DEP.Rcheck/tests/testthat.Rout
R version 4.0.5 (2021-03-31) -- "Shake and Throw"
Copyright (C) 2021 The R Foundation for Statistical Computing
Platform: x86_64-pc-linux-gnu (64-bit)
R is free software and comes with ABSOLUTELY NO WARRANTY.
You are welcome to redistribute it under certain conditions.
Type 'license()' or 'licence()' for distribution details.
R is a collaborative project with many contributors.
Type 'contributors()' for more information and
'citation()' on how to cite R or R packages in publications.
Type 'demo()' for some demos, 'help()' for on-line help, or
'help.start()' for an HTML browser interface to help.
Type 'q()' to quit R.
> library(testthat)
> library(DEP)
>
> test_check("DEP")
[ FAIL 0 | WARN 12 | SKIP 0 | PASS 333 ]
>
> proc.time()
user system elapsed
59.724 2.656 63.004
DEP.Rcheck/DEP-Ex.timings
| name | user | system | elapsed | |
| LFQ | 1.892 | 0.016 | 1.921 | |
| TMT | 0 | 0 | 0 | |
| add_rejections | 2.172 | 0.044 | 2.217 | |
| analyze_dep | 2.372 | 0.008 | 2.384 | |
| filter_missval | 0.976 | 0.000 | 0.987 | |
| filter_proteins | 0.632 | 0.000 | 0.639 | |
| get_df_long | 1.364 | 0.000 | 1.368 | |
| get_df_wide | 1.168 | 0.004 | 1.176 | |
| get_prefix | 0.004 | 0.000 | 0.004 | |
| get_results | 1.828 | 0.004 | 1.835 | |
| get_suffix | 0.000 | 0.000 | 0.002 | |
| import_IsobarQuant | 0 | 0 | 0 | |
| import_MaxQuant | 0.080 | 0.004 | 0.086 | |
| impute | 2.284 | 0.000 | 2.311 | |
| make_se | 0.072 | 0.000 | 0.070 | |
| make_se_parse | 0.100 | 0.000 | 0.101 | |
| make_unique | 0.032 | 0.000 | 0.035 | |
| manual_impute | 1.104 | 0.000 | 1.105 | |
| meanSdPlot | 0.784 | 0.008 | 0.794 | |
| normalize_vsn | 0.484 | 0.000 | 0.483 | |
| plot_all | 3.048 | 0.000 | 3.049 | |
| plot_cond | 1.832 | 0.008 | 1.843 | |
| plot_cond_freq | 1.788 | 0.036 | 1.828 | |
| plot_cond_overlap | 1.616 | 0.004 | 1.624 | |
| plot_cor | 2.468 | 0.004 | 2.476 | |
| plot_coverage | 0.628 | 0.004 | 0.630 | |
| plot_detect | 0.812 | 0.000 | 0.813 | |
| plot_dist | 6.072 | 0.008 | 6.102 | |
| plot_frequency | 0.552 | 0.008 | 0.563 | |
| plot_gsea | 0.984 | 0.004 | 0.987 | |
| plot_heatmap | 4.280 | 0.004 | 4.298 | |
| plot_imputation | 2.312 | 0.008 | 2.321 | |
| plot_missval | 2.432 | 0.004 | 2.436 | |
| plot_normalization | 1.376 | 0.012 | 1.387 | |
| plot_numbers | 0.880 | 0.000 | 0.884 | |
| plot_p_hist | 2.480 | 0.004 | 2.487 | |
| plot_pca | 2.296 | 0.004 | 2.300 | |
| plot_single | 2.084 | 0.008 | 2.103 | |
| plot_volcano | 4.388 | 0.008 | 4.415 | |
| process | 2.228 | 0.008 | 2.240 | |
| report | 0 | 0 | 0 | |
| run_app | 0.000 | 0.000 | 0.001 | |
| se2msn | 0.124 | 0.000 | 0.121 | |
| test_diff | 1.424 | 0.004 | 1.431 | |
| test_gsea | 1.376 | 0.000 | 1.381 | |
| theme_DEP1 | 0.816 | 0.000 | 0.815 | |
| theme_DEP2 | 0.932 | 0.004 | 0.939 | |