| Back to Multiple platform build/check report for BioC 3.12 |
|
This page was generated on 2021-05-06 12:34:47 -0400 (Thu, 06 May 2021).
|
To the developers/maintainers of the DEP package: Please make sure to use the following settings in order to reproduce any error or warning you see on this page. |
| Package 457/1974 | Hostname | OS / Arch | INSTALL | BUILD | CHECK | BUILD BIN | ||||||||
| DEP 1.12.0 (landing page) Arne Smits
| malbec1 | Linux (Ubuntu 18.04.5 LTS) / x86_64 | OK | OK | OK | |||||||||
| tokay1 | Windows Server 2012 R2 Standard / x64 | OK | OK | OK | OK | |||||||||
| merida1 | macOS 10.14.6 Mojave / x86_64 | OK | OK | OK | OK | |||||||||
| Package: DEP |
| Version: 1.12.0 |
| Command: /Library/Frameworks/R.framework/Versions/Current/Resources/bin/R CMD check --install=check:DEP.install-out.txt --library=/Library/Frameworks/R.framework/Versions/Current/Resources/library --no-vignettes --timings DEP_1.12.0.tar.gz |
| StartedAt: 2021-05-06 01:02:03 -0400 (Thu, 06 May 2021) |
| EndedAt: 2021-05-06 01:09:06 -0400 (Thu, 06 May 2021) |
| EllapsedTime: 423.0 seconds |
| RetCode: 0 |
| Status: OK |
| CheckDir: DEP.Rcheck |
| Warnings: 0 |
##############################################################################
##############################################################################
###
### Running command:
###
### /Library/Frameworks/R.framework/Versions/Current/Resources/bin/R CMD check --install=check:DEP.install-out.txt --library=/Library/Frameworks/R.framework/Versions/Current/Resources/library --no-vignettes --timings DEP_1.12.0.tar.gz
###
##############################################################################
##############################################################################
* using log directory ‘/Users/biocbuild/bbs-3.12-bioc/meat/DEP.Rcheck’
* using R version 4.0.5 (2021-03-31)
* using platform: x86_64-apple-darwin17.0 (64-bit)
* using session charset: UTF-8
* using option ‘--no-vignettes’
* checking for file ‘DEP/DESCRIPTION’ ... OK
* this is package ‘DEP’ version ‘1.12.0’
* package encoding: UTF-8
* checking package namespace information ... OK
* checking package dependencies ... OK
* checking if this is a source package ... OK
* checking if there is a namespace ... OK
* checking for hidden files and directories ... OK
* checking for portable file names ... OK
* checking for sufficient/correct file permissions ... OK
* checking whether package ‘DEP’ can be installed ... OK
* checking installed package size ... OK
* checking package directory ... OK
* checking ‘build’ directory ... OK
* checking DESCRIPTION meta-information ... OK
* checking top-level files ... OK
* checking for left-over files ... OK
* checking index information ... OK
* checking package subdirectories ... OK
* checking R files for non-ASCII characters ... OK
* checking R files for syntax errors ... OK
* checking whether the package can be loaded ... OK
* checking whether the package can be loaded with stated dependencies ... OK
* checking whether the package can be unloaded cleanly ... OK
* checking whether the namespace can be loaded with stated dependencies ... OK
* checking whether the namespace can be unloaded cleanly ... OK
* checking dependencies in R code ... OK
* checking S3 generic/method consistency ... OK
* checking replacement functions ... OK
* checking foreign function calls ... OK
* checking R code for possible problems ... OK
* checking Rd files ... OK
* checking Rd metadata ... OK
* checking Rd cross-references ... OK
* checking for missing documentation entries ... OK
* checking for code/documentation mismatches ... OK
* checking Rd \usage sections ... OK
* checking Rd contents ... OK
* checking for unstated dependencies in examples ... OK
* checking contents of ‘data’ directory ... OK
* checking data for non-ASCII characters ... OK
* checking data for ASCII and uncompressed saves ... OK
* checking R/sysdata.rda ... OK
* checking files in ‘vignettes’ ... OK
* checking examples ... OK
Examples with CPU (user + system) or elapsed time > 5s
user system elapsed
plot_dist 5.580 0.061 5.648
plot_volcano 5.472 0.078 5.563
* checking for unstated dependencies in ‘tests’ ... OK
* checking tests ...
Running ‘testthat.R’
OK
* checking for unstated dependencies in vignettes ... OK
* checking package vignettes in ‘inst/doc’ ... OK
* checking running R code from vignettes ... SKIPPED
* checking re-building of vignette outputs ... SKIPPED
* checking PDF version of manual ... OK
* DONE
Status: OK
DEP.Rcheck/00install.out
############################################################################## ############################################################################## ### ### Running command: ### ### /Library/Frameworks/R.framework/Versions/Current/Resources/bin/R CMD INSTALL DEP ### ############################################################################## ############################################################################## * installing to library ‘/Library/Frameworks/R.framework/Versions/4.0/Resources/library’ * installing *source* package ‘DEP’ ... ** using staged installation ** R ** data *** moving datasets to lazyload DB ** inst ** byte-compile and prepare package for lazy loading ** help *** installing help indices ** building package indices ** installing vignettes ** testing if installed package can be loaded from temporary location ** testing if installed package can be loaded from final location ** testing if installed package keeps a record of temporary installation path * DONE (DEP)
DEP.Rcheck/tests/testthat.Rout
R version 4.0.5 (2021-03-31) -- "Shake and Throw"
Copyright (C) 2021 The R Foundation for Statistical Computing
Platform: x86_64-apple-darwin17.0 (64-bit)
R is free software and comes with ABSOLUTELY NO WARRANTY.
You are welcome to redistribute it under certain conditions.
Type 'license()' or 'licence()' for distribution details.
R is a collaborative project with many contributors.
Type 'contributors()' for more information and
'citation()' on how to cite R or R packages in publications.
Type 'demo()' for some demos, 'help()' for on-line help, or
'help.start()' for an HTML browser interface to help.
Type 'q()' to quit R.
> library(testthat)
> library(DEP)
>
> test_check("DEP")
[ FAIL 0 | WARN 12 | SKIP 0 | PASS 333 ]
>
> proc.time()
user system elapsed
65.838 2.271 68.714
DEP.Rcheck/DEP-Ex.timings
| name | user | system | elapsed | |
| LFQ | 2.016 | 0.081 | 2.100 | |
| TMT | 0 | 0 | 0 | |
| add_rejections | 2.038 | 0.043 | 2.085 | |
| analyze_dep | 2.665 | 0.111 | 2.779 | |
| filter_missval | 0.928 | 0.046 | 0.975 | |
| filter_proteins | 0.482 | 0.026 | 0.509 | |
| get_df_long | 1.882 | 0.045 | 1.928 | |
| get_df_wide | 1.380 | 0.051 | 1.460 | |
| get_prefix | 0.004 | 0.000 | 0.004 | |
| get_results | 1.542 | 0.052 | 1.596 | |
| get_suffix | 0.002 | 0.000 | 0.001 | |
| import_IsobarQuant | 0 | 0 | 0 | |
| import_MaxQuant | 0.086 | 0.002 | 0.089 | |
| impute | 2.118 | 0.080 | 2.202 | |
| make_se | 0.075 | 0.005 | 0.081 | |
| make_se_parse | 0.092 | 0.001 | 0.094 | |
| make_unique | 0.034 | 0.001 | 0.034 | |
| manual_impute | 1.110 | 0.025 | 1.137 | |
| meanSdPlot | 0.943 | 0.020 | 0.963 | |
| normalize_vsn | 0.585 | 0.016 | 0.602 | |
| plot_all | 2.214 | 0.070 | 2.287 | |
| plot_cond | 1.826 | 0.054 | 1.886 | |
| plot_cond_freq | 1.543 | 0.046 | 1.597 | |
| plot_cond_overlap | 1.598 | 0.043 | 1.644 | |
| plot_cor | 2.068 | 0.044 | 2.115 | |
| plot_coverage | 0.892 | 0.025 | 0.919 | |
| plot_detect | 1.259 | 0.020 | 1.281 | |
| plot_dist | 5.580 | 0.061 | 5.648 | |
| plot_frequency | 0.620 | 0.016 | 0.637 | |
| plot_gsea | 1.210 | 0.036 | 1.248 | |
| plot_heatmap | 4.379 | 0.075 | 4.510 | |
| plot_imputation | 1.787 | 0.070 | 1.859 | |
| plot_missval | 2.592 | 0.070 | 2.666 | |
| plot_normalization | 1.863 | 0.074 | 1.940 | |
| plot_numbers | 0.771 | 0.025 | 0.797 | |
| plot_p_hist | 2.302 | 0.047 | 2.354 | |
| plot_pca | 1.702 | 0.035 | 1.741 | |
| plot_single | 2.115 | 0.036 | 2.154 | |
| plot_volcano | 5.472 | 0.078 | 5.563 | |
| process | 2.111 | 0.043 | 2.158 | |
| report | 0 | 0 | 0 | |
| run_app | 0.000 | 0.001 | 0.000 | |
| se2msn | 0.181 | 0.008 | 0.189 | |
| test_diff | 1.330 | 0.042 | 1.372 | |
| test_gsea | 1.322 | 0.033 | 1.357 | |
| theme_DEP1 | 0.666 | 0.022 | 0.689 | |
| theme_DEP2 | 0.811 | 0.022 | 0.834 | |