| Back to Multiple platform build/check report for BioC 3.10 |
|
This page was generated on 2019-09-20 12:36:03 -0400 (Fri, 20 Sep 2019).
| Package 1480/1770 | Hostname | OS / Arch | INSTALL | BUILD | CHECK | BUILD BIN | ||||||
| scAlign 1.1.2 Nelson Johansen
| malbec1 | Linux (Ubuntu 18.04.2 LTS) / x86_64 | OK | OK | OK | |||||||
| tokay1 | Windows Server 2012 R2 Standard / x64 | OK | OK | ERROR | [ OK ] | |||||||
| merida1 | OS X 10.11.6 El Capitan / x86_64 | ERROR | ERROR | skipped | skipped |
| Package: scAlign |
| Version: 1.1.2 |
| Command: rm -rf scAlign.buildbin-libdir && mkdir scAlign.buildbin-libdir && C:\Users\biocbuild\bbs-3.10-bioc\R\bin\R.exe CMD INSTALL --merge-multiarch --build --library=scAlign.buildbin-libdir scAlign_1.1.2.tar.gz |
| StartedAt: 2019-09-20 09:56:25 -0400 (Fri, 20 Sep 2019) |
| EndedAt: 2019-09-20 10:03:50 -0400 (Fri, 20 Sep 2019) |
| EllapsedTime: 445.1 seconds |
| RetCode: 0 |
| Status: OK |
| PackageFile: scAlign_1.1.2.zip |
| PackageFileSize: 1.016 MiB |
##############################################################################
##############################################################################
###
### Running command:
###
### rm -rf scAlign.buildbin-libdir && mkdir scAlign.buildbin-libdir && C:\Users\biocbuild\bbs-3.10-bioc\R\bin\R.exe CMD INSTALL --merge-multiarch --build --library=scAlign.buildbin-libdir scAlign_1.1.2.tar.gz
###
##############################################################################
##############################################################################
install for i386
* installing *source* package 'scAlign' ...
** using staged installation
** R
** data
** inst
** byte-compile and prepare package for lazy loading
** help
*** installing help indices
converting help for package 'scAlign'
finding HTML links ... done
PlotTSNE html
alignment_score html
cellbench html
compute_kernel_matrix html
decoderModel_add_mse_loss html
decoderModel_calc_projection html
decoderModel_create_train_op html
decoderModel_emb_to_proj html
decoderModel_train_decoder html
decoder_large html
decoder_medium html
decoder_small html
define_kernel_matrix html
dot-check_all_args html
dot-check_tensorflow html
dot-data_setup html
dot-early_stop html
dot-is.wholenumber html
dot-learning_rate html
dot-plotTSNE html
encoderModel_add_logit_loss html
encoderModel_add_semisup_loss_data_driven
html
encoderModel_calc_embedding html
encoderModel_calc_logit html
encoderModel_create_train_op html
encoderModel_data_to_embedding html
encoderModel_embedding_to_logit html
encoderModel_gaussian_kernel html
encoderModel_train_encoder html
encoderModel_train_encoder_multi html
encoder_large html
encoder_medium html
encoder_small html
gaussianKernel html
scAlign html
scAlignArguments html
scAlignCreateObject html
scAlignMulti html
scAlignOptions html
** building package indices
** installing vignettes
** testing if installed package can be loaded from temporary location
** testing if installed package can be loaded from final location
** testing if installed package keeps a record of temporary installation path
install for x64
* installing *source* package 'scAlign' ...
** testing if installed package can be loaded
* MD5 sums
packaged installation of 'scAlign' as scAlign_1.1.2.zip
* DONE (scAlign)