| Back to Multiple platform build/check report for BioC 3.10 | 
  | 
This page was generated on 2020-04-15 12:32:19 -0400 (Wed, 15 Apr 2020).
| Package 1521/1823 | Hostname | OS / Arch | INSTALL | BUILD | CHECK | BUILD BIN | ||||||
| scAlign 1.2.0 Nelson Johansen 
  | malbec1 | Linux (Ubuntu 18.04.4 LTS) / x86_64 | OK | OK | OK | |||||||
| tokay1 | Windows Server 2012 R2 Standard / x64 | [ ERROR ] | ERROR | skipped | skipped | |||||||
| merida1 | OS X 10.11.6 El Capitan / x86_64 | ERROR | ERROR | skipped | skipped | 
| Package: scAlign | 
| Version: 1.2.0 | 
| Command: C:\cygwin\bin\curl.exe -O https://malbec1.bioconductor.org/BBS/3.10/bioc/src/contrib/scAlign_1.2.0.tar.gz && rm -rf scAlign.buildbin-libdir && mkdir scAlign.buildbin-libdir && C:\Users\biocbuild\bbs-3.10-bioc\R\bin\R.exe CMD INSTALL --merge-multiarch --build --library=scAlign.buildbin-libdir scAlign_1.2.0.tar.gz && C:\Users\biocbuild\bbs-3.10-bioc\R\bin\R.exe CMD INSTALL scAlign_1.2.0.zip && rm scAlign_1.2.0.tar.gz scAlign_1.2.0.zip | 
| StartedAt: 2020-04-14 20:16:00 -0400 (Tue, 14 Apr 2020) | 
| EndedAt: 2020-04-14 20:17:00 -0400 (Tue, 14 Apr 2020) | 
| EllapsedTime: 60.0 seconds | 
| RetCode: 1 | 
| Status: ERROR | 
##############################################################################
##############################################################################
###
### Running command:
###
###   C:\cygwin\bin\curl.exe -O https://malbec1.bioconductor.org/BBS/3.10/bioc/src/contrib/scAlign_1.2.0.tar.gz && rm -rf scAlign.buildbin-libdir && mkdir scAlign.buildbin-libdir && C:\Users\biocbuild\bbs-3.10-bioc\R\bin\R.exe CMD INSTALL --merge-multiarch --build --library=scAlign.buildbin-libdir scAlign_1.2.0.tar.gz && C:\Users\biocbuild\bbs-3.10-bioc\R\bin\R.exe CMD INSTALL scAlign_1.2.0.zip && rm scAlign_1.2.0.tar.gz scAlign_1.2.0.zip
###
##############################################################################
##############################################################################
  % Total    % Received % Xferd  Average Speed   Time    Time     Time  Current
                                 Dload  Upload   Total   Spent    Left  Speed
  0     0    0     0    0     0      0      0 --:--:-- --:--:-- --:--:--     0
100  635k  100  635k    0     0  10.0M      0 --:--:-- --:--:-- --:--:-- 10.6M
install for i386
* installing *source* package 'scAlign' ...
** using staged installation
** R
** data
** byte-compile and prepare package for lazy loading
** help
*** installing help indices
  converting help for package 'scAlign'
    finding HTML links ... done
    PlotTSNE                                html  
    alignment_score                         html  
    cellbench                               html  
    compute_kernel_matrix                   html  
    decoderModel_add_mse_loss               html  
    decoderModel_calc_projection            html  
    decoderModel_create_train_op            html  
    decoderModel_emb_to_proj                html  
    decoderModel_train_decoder              html  
    decoder_large                           html  
    decoder_medium                          html  
    decoder_small                           html  
    define_kernel_matrix                    html  
    dot-check_all_args                      html  
    dot-check_tensorflow                    html  
    dot-data_setup                          html  
    dot-early_stop                          html  
    dot-is.wholenumber                      html  
    dot-learning_rate                       html  
    dot-plotTSNE                            html  
    encoderModel_add_logit_loss             html  
    encoderModel_add_semisup_loss_data_driven
                                            html  
    encoderModel_calc_embedding             html  
    encoderModel_calc_logit                 html  
    encoderModel_create_train_op            html  
    encoderModel_data_to_embedding          html  
    encoderModel_embedding_to_logit         html  
    encoderModel_gaussian_kernel            html  
    encoderModel_train_encoder              html  
    encoderModel_train_encoder_multi        html  
    encoder_large                           html  
    encoder_medium                          html  
    encoder_small                           html  
    gaussianKernel                          html  
    scAlign                                 html  
    scAlignArguments                        html  
    scAlignCreateObject                     html  
    scAlignMulti                            html  
    scAlignOptions                          html  
** building package indices
** installing vignettes
** testing if installed package can be loaded from temporary location
** testing if installed package can be loaded from final location
** testing if installed package keeps a record of temporary installation path
install for x64
* installing *source* package 'scAlign' ...
** testing if installed package can be loaded
Error: package or namespace load failed for 'tensorflow':
 .onLoad failed in loadNamespace() for 'tensorflow', details:
  call: py_module_import(module, convert = convert)
  error: ImportError: No module named tensorflow
Error : package 'tensorflow' could not be loaded
Error: loading failed
Execution halted
ERROR: loading failed
* removing 'C:/Users/biocbuild/bbs-3.10-bioc/meat/scAlign.buildbin-libdir/scAlign'
* restoring previous 'C:/Users/biocbuild/bbs-3.10-bioc/meat/scAlign.buildbin-libdir/scAlign'