| Back to Multiple platform build/check report for BioC 3.10 |
|
This page was generated on 2020-04-15 12:15:36 -0400 (Wed, 15 Apr 2020).
| Package 1521/1823 | Hostname | OS / Arch | INSTALL | BUILD | CHECK | BUILD BIN | ||||||
| scAlign 1.2.0 Nelson Johansen
| malbec1 | Linux (Ubuntu 18.04.4 LTS) / x86_64 | OK | [ OK ] | OK | |||||||
| tokay1 | Windows Server 2012 R2 Standard / x64 | ERROR | ERROR | skipped | skipped | |||||||
| merida1 | OS X 10.11.6 El Capitan / x86_64 | ERROR | ERROR | skipped | skipped |
| Package: scAlign |
| Version: 1.2.0 |
| Command: /home/biocbuild/bbs-3.10-bioc/R/bin/R CMD build --keep-empty-dirs --no-resave-data scAlign |
| StartedAt: 2020-04-14 23:36:10 -0400 (Tue, 14 Apr 2020) |
| EndedAt: 2020-04-14 23:38:31 -0400 (Tue, 14 Apr 2020) |
| EllapsedTime: 140.7 seconds |
| RetCode: 0 |
| Status: OK |
| PackageFile: scAlign_1.2.0.tar.gz |
| PackageFileSize: 864.4 KiB |
############################################################################## ############################################################################## ### ### Running command: ### ### /home/biocbuild/bbs-3.10-bioc/R/bin/R CMD build --keep-empty-dirs --no-resave-data scAlign ### ############################################################################## ############################################################################## * checking for file ‘scAlign/DESCRIPTION’ ... OK * preparing ‘scAlign’: * checking DESCRIPTION meta-information ... OK * installing the package to build vignettes * creating vignettes ... OK * checking for LF line-endings in source and make files and shell scripts * checking for empty or unneeded directories * looking to see if a ‘data/datalist’ file should be added * building ‘scAlign_1.2.0.tar.gz’