| [wilson2] |
Linux (openSUSE 11.4) / x86_64 | | | |
| moscato1 |
Windows Server 2008 R2 Enterprise SP1 (64-bit) / x64 | | | |
| pitt |
Mac OS X Leopard (10.5.8) / i386 | | | |
|
|
| A [A] B C D E F G H I J K L M N O P Q R S T U V W X Y Z |
| a4 1.2.0 | Tobias Verbeke | OK | OK | |
| a4Base 1.2.3 | Tobias Verbeke | OK | OK | |
| a4Classif 1.2.0 | Tobias Verbeke | OK | OK | |
| a4Core 1.2.0 | Tobias Verbeke | OK | OK | |
| a4Preproc 1.2.0 | Tobias Verbeke | OK | OK | |
| a4Reporting 1.2.0 | Tobias Verbeke | OK | OK | |
| ABarray 1.22.0 | Yongming Andrew Sun | OK | OK | |
| aCGH 1.32.0 | Peter Dimitrov | OK | OK | |
| ACME 2.10.0 | Sean Davis | OK | OK | |
| ADaCGH2 1.4.0 | Ramon Diaz-Uriarte | OK | OK | |
| adSplit 1.24.0 | Claudio Lottaz | OK | OK | |
| affxparser 1.26.4 | Kasper Daniel Hansen | OK | OK | |
| affy 1.32.1 | Rafael A. Irizarry | OK | OK | |
| affycomp 1.30.2 | Rafael A. Irizarry | OK | OK | |
| AffyCompatible 1.14.0 | Martin Morgan | OK | OK | |
| affyContam 1.12.0 | V. Carey | OK | OK | |
| affycoretools 1.26.0 | James W. MacDonald | OK | OK | |
| AffyExpress 1.20.0 | Xuejun Arthur Li | OK | OK | |
| affyILM 1.6.1 | Myriam Kroll and Fabrice Berger | OK | OK | |
| affyio 1.22.0 | Benjamin Milo Bolstad | OK | OK | |
| affylmGUI 1.28.0 | Keith Satterley | OK | OK | |
| affyPara 1.14.0 | Markus Schmidberger | OK | OK | |
| affypdnn 1.28.0 | Laurent Gautier | OK | OK | |
| affyPLM 1.30.0 | Ben Bolstad | OK | OK | |
| affyQCReport 1.32.0 | Craig Parman | OK | OK | |
| AffyTiling 1.12.1 | Charles G. Danko | OK | OK | |
| AGDEX 1.2.0 | Cuilan lani Gao | OK | OK | |
| Agi4x44PreProcess 1.14.0 | Pedro Lopez-Romero | OK | OK | |
| AgiMicroRna 2.4.0 | Pedro Lopez-Romero | OK | OK | |
| altcdfenvs 2.16.0 | Laurent Gautier | OK | OK | |
| annaffy 1.26.0 | Colin A. Smith | OK | OK | |
| annotate 1.32.3 | Bioconductor Package Maintainer | OK | OK | |
| AnnotationDbi 1.16.19 | Bioconductor Package Maintainer | OK | OK | |
| AnnotationFuncs 1.4.0 | Stefan McKinnon Edwards | OK | OK | |
| annotationTools 1.28.0 | Alexandre Kuhn | OK | OK | |
| anota 1.2.0 | Ola Larsson | OK | OK | |
| apComplex 2.20.0 | Denise Scholtens | OK | OK | |
| aroma.light 1.22.0 | Henrik Bengtsson | OK | OK | |
| ArrayExpress 1.14.0 | Audrey Kauffmann | OK | OK | |
| ArrayExpressHTS 1.4.0 | Angela Goncalves , Andrew Tikhonov | OK | OK | |
| arrayMvout 1.12.0 | V. Carey | OK | OK | |
| arrayQuality 1.32.0 | Agnes Paquet | OK | OK | |
| arrayQualityMetrics 3.10.0 | Audrey Kauffmann | OK | OK | |
| ArrayTools 1.14.0 | Arthur Li | OK | OK | |
| attract 1.6.0 | Jessica Mar | OK | OK | |
|
| B A [B] C D E F G H I J K L M N O P Q R S T U V W X Y Z |
| BAC 1.14.0 | Raphael Gottardo | OK | OK | |
| BayesPeak 1.6.0 | Jonathan Cairns | OK | OK | |
| baySeq 1.8.3 | Thomas J. Hardcastle | OK | OK | |
| BCRANK 1.16.0 | Adam Ameur | OK | OK | |
| beadarray 2.4.2 | Mark Dunning | OK | OK | |
| beadarraySNP 1.20.0 | Jan Oosting | OK | OK | |
| BeadDataPackR 1.6.0 | Mike Smith | OK | OK | |
| betr 1.10.0 | Martin Aryee | OK | OK | |
| bgafun 1.16.0 | Iain Wallace | OK | OK | |
| BGmix 1.14.0 | Alex Lewin | OK | OK | |
| bgx 1.18.0 | Ernest Turro | OK | OK | |
| BHC 1.6.0 | Rich Savage | OK | OK | |
| BicARE 1.12.0 | Pierre Gestraud | OK | OK | |
| Biobase 2.14.0 | Bioconductor Package Maintainer | OK | OK | |
| BiocCaseStudies 1.16.0 | Bioconductor Package Maintainer | OK | OK | |
| biocGraph 1.16.1 | Florian Hahne | OK | OK | |
| BiocInstaller 1.2.1 | Bioconductor Package Maintainer | OK | OK | |
| biocViews 1.22.0 | Bioconductor Package Maintainer | OK | OK | |
| bioDist 1.26.0 | Bioconductor Package Maintainer | OK | OK | |
| biomaRt 2.10.0 | Steffen Durinck | OK | OK | |
| BioMVCClass 1.22.0 | Elizabeth Whalen | OK | OK | |
| BioNet 1.12.0 | Marcus Dittrich | OK | OK | |
| BioSeqClass 1.12.0 | Li Hong | OK | OK | |
| Biostrings 2.22.0 | H. Pages | OK | OK | |
| biovizBase 1.0.4 | Tengfei Yin | OK | WARNINGS | |
| bridge 1.18.0 | Raphael Gottardo | OK | OK | |
| BSgenome 1.22.0 | H. Pages | OK | OK | |
| BufferedMatrix 1.18.0 | Benjamin Milo Bolstad | OK | OK | |
| BufferedMatrixMethods 1.18.0 | B. M. Bolstad | OK | OK | |
| BUS 1.10.0 | Yuanhua Liu | OK | OK | |
|
| C A B [C] D E F G H I J K L M N O P Q R S T U V W X Y Z |
| CALIB 1.20.0 | Hui Zhao | OK | OK | |
| CAMERA 1.10.0 | Carsten Kuhl | OK | OK | |
| Category 2.20.0 | Bioconductor Package Maintainer | OK | OK | |
| cellHTS 1.24.0 | Ligia Bras | OK | OK | |
| cellHTS2 2.18.0 | Joseph Barry | OK | OK | |
| CellNOptR 1.0.0 | C.Terfve | OK | OK | |
| CGEN 1.6.0 | William Wheeler | OK | OK | |
| CGHbase 1.12.0 | Sjoerd Vosse | OK | OK | |
| CGHcall 2.14.0 | Mark van de Wiel | OK | OK | |
| cghMCR 1.12.0 | J. Zhang | OK | OK | |
| CGHnormaliter 1.8.0 | Bart P.P. van Houte | OK | OK | |
| CGHregions 1.12.0 | Sjoerd Vosse | OK | OK | |
| charm 1.6.0 | Martin Aryee | OK | OK | |
| ChemmineR 2.6.1 | ChemmineR Team | OK | OK | |
| ChIPpeakAnno 2.2.0 | Lihua Julie Zhu | OK | OK | |
| chipseq 1.4.0 | Bioconductor Package Maintainer | OK | OK | |
| ChIPseqR 1.8.0 | Peter Humburg | OK | OK | |
| ChIPsim 1.8.0 | Peter Humburg | OK | OK | |
| chopsticks 1.18.6 | Hin-Tak Leung | OK | OK | |
| ChromHeatMap 1.8.0 | Tim F. Rayner | OK | OK | |
| clippda 1.4.0 | Stephen Nyangoma | OK | OK | |
| Clonality 1.2.0 | Irina Ostrovnaya | OK | OK | |
| clst 1.2.0 | Noah Hoffman | OK | OK | |
| clstutils 1.2.0 | Noah Hoffman | OK | OK | |
| clusterProfiler 1.2.1 | Guangchuang Yu | OK | OK | |
| clusterStab 1.26.0 | James W. MacDonald | OK | OK | |
| CMA 1.12.0 | Christoph Bernau | OK | OK | |
| cn.farms 1.3.5 | Andreas Mitterecker | OK | OK | |
| cn.mops 1.0.7 | Guenter Klambauer | OK | OK | |
| CNAnorm 1.0.0 | Stefano Berri | OK | OK | |
| CNTools 1.10.0 | J. Zhang | OK | OK | |
| CNVtools 1.48.0 | Chris Barnes | OK | OK | |
| CoCiteStats 1.26.0 | Bioconductor Package Maintainer | OK | OK | |
| codelink 1.22.0 | Diego Diez | OK | OK | |
| CoGAPS 1.4.0 | Elana J. Fertig , Michael F. Ochs | OK | OK | |
| ConsensusClusterPlus 1.6.0 | Matt Wilkerson | OK | OK | |
| convert 1.30.0 | Yee Hwa (Jean) Yang | OK | OK | |
| copa 1.22.0 | James W. MacDonald | OK | OK | |
| Cormotif 1.0.0 | Yingying Wei | OK | OK | |
| coRNAi 1.4.0 | Elin Axelsson | OK | OK | |
| CORREP 1.20.0 | Dongxiao Zhu | OK | OK | |
| cosmo 1.20.0 | Oliver Bembom | OK | OK | |
| cosmoGUI 1.20.0 | Oliver Bembom | OK | OK | |
| cqn 1.0.1 | Kasper Daniel Hansen | OK | OK | |
| CRImage 1.4.0 | Henrik Failmezger , Yinyin Yuan | OK | OK | |
| crlmm 1.12.1 | Benilton S Carvalho , Robert Scharpf , Matt Ritchie | OK | OK | |
| CSAR 1.6.0 | Jose M Muino | OK | OK | |
| ctc 1.28.0 | Antoine Lucas | OK | OK | |
| cummeRbund 1.0.0 | Loyal A. Goff | OK | OK | |
| cycle 1.8.0 | Matthias Futschik | OK | OK | |
|
| D A B C [D] E F G H I J K L M N O P Q R S T U V W X Y Z |
| daMA 1.26.0 | Jobst Landgrebe | OK | OK | |
| DAVIDQuery 1.14.0 | Roger Day | OK | OK | |
| ddCt 1.8.0 | Jitao David Zhang | OK | OK | |
| DECIPHER 1.0.0 | Erik Wright | OK | OK | |
| DEDS 1.28.0 | Yuanyuan Xiao | OK | OK | |
| DEGraph 1.6.0 | Laurent Jacob | OK | OK | |
| DEGseq 1.8.0 | Likun Wang | OK | OK | |
| DESeq 1.6.1 | Simon Anders | OK | OK | |
| DEXSeq 1.0.2 | Alejandro Reyes | OK | OK | |
| DFP 1.12.0 | Rodrigo Alvarez-Glez | OK | OK | |
| DiffBind 1.0.9 | Rory Stark | OK | OK | |
| diffGeneAnalysis 1.36.0 | Choudary Jagarlamudi | OK | OK | |
| dks 1.0.0 | Jeffrey T. Leek | OK | OK | |
| DNAcopy 1.28.0 | Venkatraman E. Seshan | OK | OK | |
| domainsignatures 1.14.0 | Florian Hahne | OK | OK | |
| DOSE 1.0.0 | Guangchuang Yu | OK | OK | |
| DTA 1.0.0 | Bjoern Schwalb | OK | OK | |
| dualKS 1.14.0 | Eric J. Kort | OK | OK | |
| dyebias 1.12.0 | Philip Lijnzaad | OK | OK | |
| DynDoc 1.32.0 | Bioconductor Package Maintainer | OK | OK | |
|
| E A B C D [E] F G H I J K L M N O P Q R S T U V W X Y Z |
| EBarrays 2.18.0 | Ming Yuan | OK | OK | |
| EBImage 3.10.0 | Gregoire Pau | OK | OK | |
| ecolitk 1.26.0 | Laurent Gautier | OK | OK | |
| EDASeq 1.0.0 | Davide Risso | OK | OK | |
| edd 1.32.0 | Vince Carey | OK | OK | |
| edgeR 2.4.6 | Mark Robinson , Davis McCarthy , Yunshun Chen , Gordon Smyth | OK | OK | |
| eisa 1.6.0 | Gabor Csardi | OK | OK | |
| ENVISIONQuery 1.2.0 | Alex Lisovich , Roger Day | OK | OK | |
| ExiMiR 1.2.0 | Sylvain Gubian | OK | OK | |
| exomeCopy 1.0.3 | Michael Love | OK | OK | |
| explorase 1.18.0 | Michael Lawrence | OK | OK | |
| ExpressionView 1.6.0 | Gabor Csardi | OK | OK | |
| externalVector 1.20.0 | Bioconductor Package Maintainer | OK | OK | |
|
| F A B C D E [F] G H I J K L M N O P Q R S T U V W X Y Z |
| fabia 2.0.0 | Sepp Hochreiter | OK | OK | |
| factDesign 1.30.0 | Denise Scholtens | OK | OK | |
| farms 1.6.0 | Djork-Arne Clevert | OK | OK | |
| fastseg 1.0.4 | Guenter Klambauer | OK | OK | |
| fdrame 1.26.0 | Effi Kenigsberg | OK | OK | |
| flagme 1.10.0 | Mark Robinson | OK | OK | |
| flowClust 2.12.1 | Raphael Gottardo | OK | WARNINGS | |
| flowCore 1.20.0 | Mike Jiang | OK | OK | |
| flowFlowJo 1.12.0 | John J. Gosink | OK | OK | |
| flowFP 1.12.1 | Herb Holyst | OK | OK | |
| flowMeans 1.6.0 | Nima Aghaeepour | OK | OK | |
| flowMerge 2.2.0 | Greg Finak | OK | OK | |
| flowPhyto 1.6.0 | David M. Schruth | OK | OK | |
| flowPlots 1.2.0 | N. Hawkins | OK | OK | |
| flowQ 1.14.1 | M.Jiang | OK | OK | |
| flowStats 1.12.0 | Greg Finak and Mike Jiang | OK | OK | |
| flowTrans 1.6.0 | Greg Finak | OK | OK | |
| flowType 1.0.0 | Nima Aghaeepour | OK | OK | |
| flowUtils 1.14.0 | Nishant Gopalakrishnan | OK | OK | |
| flowViz 1.18.0 | Mike Jiang | OK | WARNINGS | |
| flowWorkspace 1.0.2 | Greg Finak | OK | OK | |
| frma 1.6.0 | Matthew N. McCall | OK | OK | |
| frmaTools 1.6.0 | Matthew N. McCall | OK | OK | |
|
| G A B C D E F [G] H I J K L M N O P Q R S T U V W X Y Z |
| gaga 2.0.0 | David Rossell | OK | OK | |
| gage 2.4.0 | Weijun Luo | OK | OK | |
| gaggle 1.22.0 | Christopher Bare | OK | OK | |
| gaia 1.8.0 | S. Morganella | OK | OK | |
| gcrma 2.26.0 | Z. Wu | OK | OK | |
| genArise 1.30.0 | IFC Development Team | OK | OK | |
| gene2pathway 2.6.0 | Holger Froehlich | ERROR | skipped | |
| GeneAnswers 1.10.0 | Gang Feng , Pan Du and Tian Xia | OK | OK | |
| GeneExpressionSignature 1.0.0 | Yang Cao , Fei Li | OK | OK | |
| genefilter 1.36.0 | Bioconductor Package Maintainer | OK | OK | |
| genefu 1.4.0 | Benjamin Haibe-Kains , Markus Schroeder | OK | OK | |
| GeneGA 1.4.0 | Zhenpeng Li | OK | OK | |
| GeneMeta 1.26.0 | Bioconductor Package Maintainer | OK | OK | |
| geneplotter 1.32.1 | Bioconductor Package Maintainer | OK | OK | |
| GeneR 2.24.0 | Y. d'Aubenton-Carafa | OK | OK | |
| geneRecommender 1.26.0 | Greg Hather | OK | OK | |
| GeneRegionScan 1.10.0 | Lasse Folkersen | OK | OK | |
| GeneRfold 1.12.0 | Antoine Lucas | OK | OK | |
| GeneSelectMMD 1.10.0 | Weiliang Qiu | OK | OK | |
| GeneSelector 2.4.0 | Martin Slawski | OK | OK | |
| GeneticsDesign 1.22.0 | The R Genetics Project | OK | OK | |
| GeneticsPed 1.16.0 | David Henderson | OK | WARNINGS | |
| genoCN 1.6.0 | Wei Sun | OK | OK | |
| GenomeGraphs 1.14.0 | Steffen Durinck | OK | OK | |
| genomeIntervals 1.10.0 | Julien Gagneur | OK | OK | |
| genomes 2.0.0 | Chris Stubben | OK | OK | |
| GenomicFeatures 1.6.9 | Bioconductor Package Maintainer | OK | OK | |
| GenomicRanges 1.6.7 | Bioconductor Package Maintainer | OK | OK | |
| Genominator 1.8.0 | James Bullard | OK | OK | |
| genoset 1.2.0 | Peter M. Haverty | OK | OK | |
| GEOmetadb 1.14.2 | Jack Zhu | OK | OK | |
| GEOquery 2.21.9 | Sean Davis | OK | OK | |
| GEOsubmission 1.6.0 | Alexandre Kuhn | OK | OK | |
| GGBase 3.14.0 | Vince Carey | OK | OK | |
| ggbio 1.0.4 | Tengfei Yin | OK | OK | |
| GGtools 4.0.0 | Vince Carey | OK | OK | |
| girafe 1.6.0 | J. Toedling | OK | OK | |
| GLAD 2.16.2 | Philippe Hupe | OK | OK | |
| GlobalAncova 3.22.0 | Manuela Hummel | OK | OK | |
| globaltest 5.8.1 | Jelle Goeman | OK | OK | |
| GOFunction 1.0.0 | Zheng Guo | OK | OK | |
| goProfiles 1.16.0 | Alex Sanchez | OK | OK | |
| GOSemSim 1.12.1 | Guangchuang Yu | OK | OK | |
| goseq 1.6.1 | Matthew Young | OK | OK | |
| GOstats 2.20.0 | Bioconductor Package Maintainer | OK | OK | |
| goTools 1.28.0 | Agnes Paquet | OK | OK | |
| gpls 1.26.0 | Bioconductor Package Maintainer | OK | OK | |
| graph 1.32.0 | Seth Falcon | OK | OK | |
| GraphAlignment 1.16.0 | Joern P. Meier | OK | OK | |
| GraphAT 1.26.0 | Thomas LaFramboise | OK | OK | |
| graphite 1.0.0 | Gabriele Sales | OK | OK | |
| GRENITS 1.6.0 | Edward Morrissey | ERROR | skipped | |
| GSEABase 1.16.1 | Bioconductor Package Maintainer | OK | OK | |
| GSEAlm 1.14.0 | Assaf Oron | OK | OK | |
| GSRI 2.2.0 | Julian Gehring | OK | OK | |
| GSVA 1.2.4 | Justin Guinney | OK | OK | |
| GWASTools 1.0.0 | Stephanie Gogarten | OK | OK | |
|
| H A B C D E F G [H] I J K L M N O P Q R S T U V W X Y Z |
| Harshlight 1.26.0 | Maurizio Pellegrino | OK | OK | |
| Heatplus 2.1.0 | Alexander Ploner | OK | OK | |
| HELP 1.12.0 | Reid F. Thompson | OK | OK | |
| HEM 1.26.0 | HyungJun Cho | OK | OK | |
| HilbertVis 1.12.0 | Simon Anders | OK | OK | |
| HilbertVisGUI 1.12.1 | Simon Anders | OK | OK | |
| hopach 2.14.0 | Katherine S. Pollard | OK | OK | |
| HTqPCR 1.8.0 | Heidi Dvinge | OK | OK | |
| HTSanalyzeR 2.6.1 | Xin Wang | OK | OK | |
| htSeqTools 1.0.0 | Oscar Reina | OK | OK | |
| hyperdraw 1.6.0 | Paul Murrell | OK | OK | |
| hypergraph 1.26.0 | Bioconductor Package Maintainer | OK | OK | |
|
| I A B C D E F G H [I] J K L M N O P Q R S T U V W X Y Z |
| ibh 1.2.0 | Kircicegi Korkmaz | OK | OK | |
| Icens 1.26.0 | Bioconductor Package Maintainer | OK | OK | |
| iChip 1.8.0 | Qianxing Mo | OK | OK | |
| idiogram 1.30.0 | Karl J. Dykema | OK | OK | |
| IdMappingRetrieval 1.0.0 | Alex Lisovich , Roger Day | OK | OK | |
| iFlow 2.6.0 | Kyongryun Lee | OK | WARNINGS | |
| imageHTS 1.4.0 | Gregoire Pau | OK | OK | |
| impute 1.28.0 | Balasubramanian Narasimhan | OK | OK | |
| inSilicoDb 1.2.0 | Jonatan Taminau , David Steenhoff | OK | OK | |
| inveRsion 1.2.0 | Alejandro Caceres | OK | OK | |
| iontree 1.0.0 | Mingshu Cao | OK | OK | |
| IPPD 1.2.0 | Martin Slawski | OK | OK | |
| IRanges 1.12.6 | Bioconductor Package Maintainer | OK | WARNINGS | |
| iSeq 1.6.0 | Qianxing Mo | OK | OK | |
| isobar 1.1.1 | Florian P Breitwieser | OK | OK | |
| IsoGeneGUI 1.6.0 | Setia Pramana | OK | OK | |
| ITALICS 2.14.0 | Guillem Rigaill | OK | OK | |
| iterativeBMA 1.12.0 | Ka Yee Yeung | OK | OK | |
| iterativeBMAsurv 1.12.0 | Ka Yee Yeung | OK | OK | |
|
| J A B C D E F G H I [J] K L M N O P Q R S T U V W X Y Z |
| joda 1.2.0 | Ewa Szczurek | OK | OK | |
|
| K A B C D E F G H I J [K] L M N O P Q R S T U V W X Y Z |
| KCsmart 2.12.0 | Jorma de Ronde | OK | OK | |
| KEGGgraph 1.10.0 | Jitao David Zhang | OK | OK | |
| keggorthology 2.6.0 | VJ Carey | OK | OK | |
| KEGGSOAP 1.28.0 | Bioconductor Package Maintainer | OK | OK | |
|
| L A B C D E F G H I J K [L] M N O P Q R S T U V W X Y Z |
| lapmix 1.20.0 | Yann Ruffieux | OK | OK | |
| LBE 1.22.0 | Cyril Dalmasso | OK | OK | |
| les 1.4.0 | Julian Gehring | OK | OK | |
| limma 3.10.3 | Gordon Smyth | OK | WARNINGS | |
| limmaGUI 1.30.0 | Keith Satterley | OK | OK | |
| LiquidAssociation 1.8.0 | Yen-Yi Ho | OK | OK | |
| LMGene 2.10.0 | Blythe Durbin-Johnson | OK | OK | |
| logicFS 1.24.0 | Holger Schwender | OK | OK | |
| logitT 1.12.0 | Tobias Guennel | OK | OK | |
| lol 1.2.0 | Yinyin Yuan | OK | OK | |
| LPE 1.28.0 | Nitin Jain | OK | OK | |
| LPEadj 1.14.0 | Carl Murie | OK | OK | |
| lumi 2.6.0 | Pan Du | OK | OK | |
| LVSmiRNA 1.4.0 | Stefano Calza | OK | OK | |
|
| M A B C D E F G H I J K L [M] N O P Q R S T U V W X Y Z |
| maanova 1.24.0 | Keith Sheppard | OK | OK | |
| macat 1.28.0 | Joern Toedling | OK | OK | |
| maCorrPlot 1.24.0 | Alexander Ploner | OK | OK | |
| maDB 1.26.0 | Johannes Rainer | OK | OK | |
| made4 1.28.0 | Aedin Culhane | OK | OK | |
| maigesPack 1.18.0 | Gustavo H. Esteves | OK | OK | |
| makecdfenv 1.32.0 | James W. MacDonald | OK | OK | |
| MANOR 1.26.0 | Pierre Neuvial | OK | OK | |
| MantelCorr 1.24.0 | Brian Steinmeyer | OK | OK | |
| marray 1.32.0 | Yee Hwa (Jean) Yang | OK | OK | |
| maSigPro 1.26.0 | Maria Jose Nueda | OK | OK | |
| MassArray 1.6.0 | Reid F. Thompson | OK | OK | |
| MassSpecWavelet 1.20.0 | Pan Du | OK | OK | |
| MBCB 1.8.0 | Jeff Allen | OK | OK | |
| mBPCR 1.8.0 | P.M.V. Rancoita | OK | OK | |
| mcaGUI 1.2.0 | Wade K. Copeland | OK | OK | |
| MCRestimate 2.10.0 | Marc Johannes | OK | OK | |
| mdqc 1.16.0 | Gabriela Cohen-Freue | OK | OK | |
| MeasurementError.cor 1.26.0 | Beiying Ding | OK | OK | |
| MEDIPS 1.4.0 | Lukas Chavez | OK | OK | |
| MEDME 1.14.0 | Mattia Pelizzola | OK | OK | |
| MergeMaid 2.26.0 | Xiaogang Zhong | OK | OK | |
| metaArray 1.32.0 | Hyungwon Choi | OK | OK | |
| metahdep 1.12.0 | John R. Stevens | OK | OK | |
| methVisual 1.6.0 | Arie Zackay | OK | OK | |
| methylumi 2.0.13 | Sean Davis | OK | WARNINGS | |
| Mfuzz 2.12.0 | Matthias Futschik | OK | OK | |
| mgsa 1.2.0 | Sebastian Bauer | OK | OK | |
| MiChip 1.8.0 | Jonathon Blake | OK | OK | |
| microRNA 1.12.0 | "James F. Reid" | OK | OK | |
| minet 3.8.0 | Patrick E. Meyer | OK | OK | |
| minfi 1.0.0 | Kasper Daniel Hansen | OK | OK | |
| MiPP 1.26.0 | Sukwoo Kim | OK | OK | |
| miRNApath 1.14.0 | James M. Ward | OK | OK | |
| MLInterfaces 1.34.2 | V. Carey | OK | OK | |
| MLP 1.2.1 | Tobias Verbeke | OK | OK | |
| MmPalateMiRNA 1.2.0 | Guy Brock | OK | OK | |
| mosaics 1.2.5 | Dongjun Chung | OK | OK | |
| MotIV 1.8.1 | Eloi Mercier , Raphael Gottardo | OK | OK | |
| MSnbase 1.2.3 | Laurent Gatto | OK | OK | |
| Mulcom 1.4.0 | Claudio Isella | OK | OK | |
| multiscan 1.14.0 | Mizanur Khondoker | OK | OK | |
| multtest 2.10.0 | Katherine S. Pollard | OK | OK | |
| MVCClass 1.28.0 | Elizabeth Whalen | OK | OK | |
| mzR 1.0.2 | Bernd Fischer | OK | OK | |
|
| N A B C D E F G H I J K L M [N] O P Q R S T U V W X Y Z |
| ncdfFlow 1.0.5 | M. Jiang | OK | OK | |
| NCIgraph 1.2.0 | Laurent Jacob | OK | OK | |
| nem 2.18.0 | Holger Froehlich | OK | OK | |
| netresponse 1.6.0 | Leo Lahti | OK | OK | |
| nnNorm 2.18.0 | Adi Laurentiu Tarca | OK | OK | |
| NormqPCR 1.0.0 | James Perkins | OK | OK | |
| NTW 1.4.0 | Yuanhua Liu | OK | OK | |
| nucleR 1.0.0 | Oscar Flores | OK | OK | |
| nudge 1.20.0 | N. Dean | OK | OK | |
| NuPoP 1.4.0 | Ji-Ping Wang | OK | OK | |
|
| O A B C D E F G H I J K L M N [O] P Q R S T U V W X Y Z |
| occugene 1.14.0 | Oliver Will | OK | OK | |
| OCplus 1.28.0 | Alexander Ploner | OK | OK | |
| oligo 1.18.1 | Benilton Carvalho | OK | WARNINGS | |
| oligoClasses 1.16.0 | Benilton Carvalho and Robert Scharpf | OK | OK | |
| OLIN 1.32.0 | Matthias Futschik | OK | OK | |
| OLINgui 1.28.0 | Matthias Futschik | OK | OK | |
| oneChannelGUI 1.20.19 | Raffaele A Calogero | OK | OK | |
| ontoCAT 1.6.0 | Natalja Kurbatova | OK | OK | |
| ontoTools 1.32.0 | Vince Carey | OK | OK | |
| OrderedList 1.26.0 | Claudio Lottaz | OK | OK | |
| OTUbase 1.4.0 | Daniel Beck | OK | OK | |
| OutlierD 1.18.0 | Sukwoo Kim | OK | OK | |
|
| P A B C D E F G H I J K L M N O [P] Q R S T U V W X Y Z |
| PAnnBuilder 1.18.0 | Li Hong | OK | OK | |
| panp 1.24.0 | Peter Warren | OK | OK | |
| PANR 1.0.2 | Xin Wang | OK | OK | |
| parody 1.12.0 | VJ Carey | OK | OK | |
| pathRender 1.22.0 | Li Long | OK | OK | |
| PatientGeneSets 1.4.0 | Simina M. Boca | OK | OK | |
| pcaMethods 1.40.0 | Wolfram Stacklies | OK | OK | |
| pcot2 1.22.0 | Sarah Song | OK | OK | |
| PCpheno 1.16.0 | Nolwenn Le Meur | OK | OK | |
| pdInfoBuilder 1.18.0 | Benilton Carvalho | OK | OK | |
| pdmclass 1.26.0 | James W. MacDonald | OK | OK | |
| PGSEA 1.28.0 | Karl Dykema | OK | OK | |
| pgUtils 1.26.0 | Johannes Rainer | OK | OK | |
| phenoDist 1.2.0 | Xian Zhang | OK | OK | |
| phenoTest 1.2.0 | Evarist Planet | OK | OK | |
| pickgene 1.26.0 | Brian S. Yandell | OK | OK | |
| PICS 1.8.0 | Arnaud Droit | OK | OK | |
| pint 1.6.0 | Olli-Pekka Huovilainen | OK | OK | |
| pkgDepTools 1.20.0 | Seth Falcon | OK | OK | |
| plateCore 1.12.0 | Errol Strain | OK | OK | |
| plgem 1.26.0 | Norman Pavelka | OK | OK | |
| plier 1.24.0 | Crispin Miller | OK | OK | |
| PLPE 1.14.0 | Soo-heang Eo | OK | OK | |
| plw 1.14.0 | Magnus Astrand | OK | OK | |
| ppiStats 1.20.0 | Tony Chiang | OK | OK | |
| prada 1.30.0 | Florian Hahne | OK | OK | |
| PREDA 1.0.0 | Francesco Ferrari | OK | OK | |
| predictionet 1.0.0 | Benjamin Haibe-Kains , Catharina Olsen | OK | OK | |
| preprocessCore 1.16.0 | Benjamin Milo Bolstad | OK | OK | |
| PROcess 1.30.0 | Xiaochun Li | OK | OK | |
| procoil 1.4.0 | Ulrich Bodenhofer | OK | OK | |
| PROMISE 1.6.0 | Xueyuan Cao | OK | OK | |
| puma 2.6.0 | Richard Pearson | OK | OK | |
| pvac 1.2.0 | Jun Lu , Pierre R. Bushel | OK | OK | |
|
| Q A B C D E F G H I J K L M N O P [Q] R S T U V W X Y Z |
| qpcrNorm 1.12.0 | Jessica Mar | OK | OK | |
| qpgraph 1.10.1 | Robert Castelo | OK | OK | |
| qrqc 1.2.0 | Vince Buffalo | OK | OK | |
| quantsmooth 1.20.0 | Jan Oosting | OK | OK | |
| qvalue 1.28.0 | John D. Storey | OK | OK | |
|
| R A B C D E F G H I J K L M N O P Q [R] S T U V W X Y Z |
| r3Cseq 1.0.0 | Supat Thongjuea | OK | OK | |
| R453Plus1Toolbox 1.4.0 | Hans-Ulrich Klein | OK | OK | |
| rama 1.28.0 | Raphael Gottardo | OK | OK | |
| RamiGO 1.0.0 | Markus Schroeder | OK | OK | |
| randPack 1.0.0 | Robert Gentleman | OK | OK | |
| RankProd 2.26.0 | Fangxin Hong | OK | OK | |
| RbcBook1 1.22.0 | Vince Carey | OK | OK | |
| RBGL 1.30.1 | Bioconductor Package Maintainer | OK | OK | |
| RBioinf 1.14.0 | Robert Gentleman | OK | OK | |
| rbsurv 2.12.0 | Soo-heang Eo | OK | OK | |
| RCASPAR 1.0.0 | Douaa Mugahid , Lars Kaderali | OK | OK | |
| RCytoscape 1.4.4 | Paul Shannon | OK | OK | |
| Rdisop 1.14.0 | Steffen Neumann | OK | OK | |
| RDRToolbox 1.4.0 | Christoph Bartenhagen | OK | OK | |
| ReadqPCR 1.0.0 | James Perkins | OK | OK | |
| reb 1.30.0 | Karl J. Dykema | OK | OK | |
| RedeR 1.0.14 | Mauro Castro | OK | OK | |
| REDseq 1.0.0 | Lihua Julie Zhu | OK | OK | |
| RefPlus 1.24.0 | Kai-Ming Chang | OK | OK | |
| Repitools 1.0.11 | Mark Robinson | OK | OK | |
| ReQON 1.0.0 | Christopher Cabanski | OK | OK | |
| Resourcerer 1.28.0 | Jianhua Zhang | OK | OK | |
| rGADEM 2.2.0 | Arnaud Droit | OK | OK | |
| Rgraphviz 1.32.0 | Kasper Hansen | OK | OK | |
| rHVDM 1.20.0 | Martino Barenco | OK | OK | |
| Ringo 1.18.0 | J. Toedling | OK | OK | |
| RLMM 1.16.0 | Nusrat Rabbee | OK | OK | |
| RMAGEML 2.28.0 | Steffen Durinck | OK | OK | |
| Rmagpie 1.10.0 | Camille Maumet | OK | OK | |
| RMAPPER 1.4.0 | Heike Sichtig , Alberto Riva | OK | OK | |
| rMAT 3.4.1 | Arnaud Droit and Raphael Gottardo | OK | OK | |
| RmiR 1.10.0 | Francesco Favero | OK | OK | |
| RNAinteract 1.2.0 | Bernd Fischer | OK | OK | |
| RNAither 2.2.0 | Nora Rieber | OK | OK | |
| rnaSeqMap 2.8.0 | Michal Okoniewski | OK | OK | |
| ROC 1.30.0 | Vince Carey | OK | OK | |
| Rolexa 1.10.0 | Jacques Rougemont | OK | OK | |
| RPA 1.10.0 | Leo Lahti | OK | OK | |
| RpsiXML 1.14.0 | Jitao David Zhang | OK | OK | |
| rqubic 1.0.0 | Jitao David Zhang | OK | OK | |
| Rsamtools 1.6.3 | Bioconductor Package Maintainer | OK | OK | |
| rsbml 2.12.0 | Michael Lawrence | OK | OK | |
| Rsubread 1.4.4 | Wei Shi | OK | OK | |
| RTCA 1.6-1 | Jitao David Zhang | OK | OK | |
| RTools4TB 1.10.0 | Aurelie Bergon | OK | OK | |
| RTopper 1.0.0 | Luigi Marchionni | OK | OK | |
| rtracklayer 1.14.4 | Michael Lawrence | OK | OK | |
| Rtreemix 1.16.0 | Jasmina Bogojeska | OK | OK | |
| RWebServices 1.18.0 | Martin Morgan | OK | OK | |
|
| S A B C D E F G H I J K L M N O P Q R [S] T U V W X Y Z |
| safe 2.14.0 | William T. Barry | OK | OK | |
| sagenhaft 1.24.0 | Tim Beissbarth | OK | OK | |
| SAGx 1.28.0 | Per Broberg, | OK | OK | |
| SamSPECTRAL 1.8.0 | Habil Zare | OK | WARNINGS | |
| SBMLR 1.50.0 | Tomas Radivoyevitch | OK | OK | |
| ScISI 1.26.0 | Tony Chiang | OK | OK | |
| segmentSeq 1.6.2 | Thomas J. Hardcastle | OK | OK | |
| seqbias 1.2.0 | Daniel Jones | OK | OK | |
| seqLogo 1.20.0 | Oliver Bembom | OK | OK | |
| ShortRead 1.12.4 | Bioconductor Package Maintainer | OK | OK | |
| siggenes 1.28.0 | Holger Schwender | OK | OK | |
| sigPathway 1.22.0 | Weil Lai | OK | OK | |
| SIM 1.24.0 | Maarten van Iterson | OK | OK | |
| simpleaffy 2.30.0 | Crispin Miller | OK | OK | |
| sizepower 1.24.0 | Weiliang Qiu | OK | OK | |
| SJava 0.80.0 | Martin Morgan | OK | OK | |
| SLGI 1.14.0 | Nolwenn Le Meur | OK | OK | |
| SLqPCR 1.20.0 | Matthias Kohl | OK | OK | |
| SMAP 1.18.0 | Robin Andersson | OK | OK | |
| snapCGH 1.24.0 | John Marioni | OK | OK | |
| snm 1.2.0 | Brig Mecham | OK | OK | |
| SNPchip 1.18.1 | Robert Scharpf | OK | OK | |
| snpStats 1.4.1 | David Clayton | OK | OK | |
| SpeCond 1.8.0 | Florence Cavalli | OK | OK | |
| SPIA 2.4.0 | Adi Laurentiu Tarca | OK | OK | |
| spikeLI 2.14.0 | Enrico Carlon | OK | OK | |
| spkTools 1.10.0 | Matthew N McCall | OK | OK | |
| splicegear 1.26.0 | Laurent Gautier | OK | OK | |
| splots 1.20.0 | Wolfgang Huber | OK | OK | |
| spotSegmentation 1.28.0 | Chris Fraley | OK | OK | |
| SQUADD 1.4.0 | Martial Sankar | OK | OK | |
| SRAdb 1.8.0 | Jack Zhu | OK | OK | |
| sscore 1.26.0 | Richard Kennedy | OK | OK | |
| ssize 1.28.0 | Gregory R. Warnes | OK | OK | |
| SSPA 1.10.0 | Maarten van Iterson | OK | OK | |
| Starr 1.10.0 | Benedikt Zacher | OK | OK | |
| stepNorm 1.26.0 | Yuanyuan Xiao | OK | OK | |
| stepwiseCM 1.0.0 | Askar Obulkasim | OK | OK | |
| Streamer 1.0.0 | Martin Morgan | OK | OK | |
| survcomp 1.4.0 | Benjamin Haibe-Kains , Markus Schroeder | OK | ERROR | |
| sva 3.0.3 | Jeffrey T. Leek | OK | OK | |
|
| T A B C D E F G H I J K L M N O P Q R S [T] U V W X Y Z |
| TargetSearch 1.10.1 | Alvaro Cuadros-Inostroza | OK | OK | |
| TDARACNE 1.4.0 | Zoppoli Pietro | OK | OK | |
| TEQC 2.2.0 | Manuela Hummel | OK | OK | |
| tigre 1.8.0 | Antti Honkela | OK | OK | |
| tilingArray 1.32.0 | Zhenyu Xu | OK | OK | |
| timecourse 1.26.0 | Yu Chuan Tai | OK | OK | |
| tkWidgets 1.32.0 | J. Zhang | OK | OK | |
| topGO 2.6.0 | Adrian Alexa | OK | OK | |
| trigger 1.0.2 | John D. Storey | OK | OK | |
| tspair 1.12.0 | Jeffrey T. Leek | OK | OK | |
| TSSi 1.0.0 | Julian Gehring | OK | OK | |
| TurboNorm 1.2.0 | Maarten van Iterson | OK | OK | |
| tweeDEseq 1.0.14 | Juan R Gonzalez | OK | OK | |
| twilight 1.30.0 | Stefanie Scheid | OK | OK | |
| TypeInfo 1.20.0 | Duncan Temple Lang | OK | OK | |
|
| V A B C D E F G H I J K L M N O P Q R S T U [V] W X Y Z |
| VanillaICE 1.16.1 | Robert Scharpf | OK | OK | |
| VariantAnnotation 1.0.5 | Valerie Obenchain | OK | OK | |
| vbmp 1.22.0 | Nicola Lama | OK | OK | |
| Vega 1.2.0 | Sandro Morganella | OK | OK | |
| vsn 3.22.0 | Wolfgang Huber | OK | OK | |
|
| W A B C D E F G H I J K L M N O P Q R S T U V [W] X Y Z |
| weaver 1.20.0 | Seth Falcon | OK | OK | |
| webbioc 1.26.0 | Colin A. Smith | OK | OK | |
| widgetTools 1.32.0 | Jianhua Zhang | OK | OK | |
|
| X A B C D E F G H I J K L M N O P Q R S T U V W [X] Y Z |
| xcms 1.30.3 | Ralf Tautenhahn | OK | OK | |
| XDE 2.0.0 | Robert Scharpf | OK | OK | |
| xmapbridge 1.12.0 | Tim Yates | OK | OK | |
| xmapcore 1.8.0 | Tim Yates | OK | OK | |
| xps 1.14.0 | Christian Stratowa | OK | OK | |
|
| Y A B C D E F G H I J K L M N O P Q R S T U V W X [Y] Z |
| yaqcaffy 1.14.0 | Laurent Gatto | OK | OK | |
|
| Z A B C D E F G H I J K L M N O P Q R S T U V W X Y [Z] |
| zlibbioc 1.0.1 | Bioconductor Package Maintainer | OK | OK | |