| Back to the "Multiple platform build/check report" | A B C D [E] F G H I J K L M N O P Q R S T U V W X Y Z |
| Package 158/514 | Hostname | OS / Arch | BUILD | CHECK | BUILD BIN | ||||
| externalVector 1.20.0 Bioconductor Package Maintainer
| wilson2 | Linux (openSUSE 11.4) / x86_64 | [ OK ] | OK | |||||
| moscato1 | Windows Server 2008 R2 Enterprise SP1 (64-bit) / x64 | OK | OK | OK | |||||
| pitt | Mac OS X Leopard (10.5.8) / i386 | OK | OK | OK |
| Package: externalVector |
| Version: 1.20.0 |
| Command: /home/biocbuild/bbs-2.9-bioc/R/bin/R CMD build --keep-empty-dirs --no-resave-data externalVector |
| StartedAt: 2012-03-23 20:36:00 -0700 (Fri, 23 Mar 2012) |
| EndedAt: 2012-03-23 20:36:02 -0700 (Fri, 23 Mar 2012) |
| EllapsedTime: 1.8 seconds |
| RetCode: 0 |
| Status: OK |
| PackageFile: externalVector_1.20.0.tar.gz |
| PackageFileSize: 84.32 KiB |
* checking for file ‘externalVector/DESCRIPTION’ ... OK * preparing ‘externalVector’: * checking DESCRIPTION meta-information ... OK * cleaning src * checking for LF line-endings in source and make files * checking for empty or unneeded directories * building ‘externalVector_1.20.0.tar.gz’