| Back to the "Multiple platform build/check report" | A B C D E F G H I J K L M N O P Q R [S] T U V W X Y Z |
| Package 459/514 | Hostname | OS / Arch | BUILD | CHECK | BUILD BIN | ||||
| SJava 0.80.0 Martin Morgan
| wilson2 | Linux (openSUSE 11.4) / x86_64 | [ OK ] | OK | |||||
| moscato1 | Windows Server 2008 R2 Enterprise SP1 (64-bit) / x64 | N O T S U P P O R T E D | |||||||
| pitt | Mac OS X Leopard (10.5.8) / i386 | N O T S U P P O R T E D | |||||||
| Package: SJava |
| Version: 0.80.0 |
| Command: /home/biocbuild/bbs-2.9-bioc/R/bin/R CMD build --keep-empty-dirs --no-resave-data SJava |
| StartedAt: 2012-03-23 21:39:16 -0700 (Fri, 23 Mar 2012) |
| EndedAt: 2012-03-23 21:39:18 -0700 (Fri, 23 Mar 2012) |
| EllapsedTime: 1.8 seconds |
| RetCode: 0 |
| Status: OK |
| PackageFile: SJava_0.80.0.tar.gz |
| PackageFileSize: 2.11 MiB |
* checking for file ‘SJava/DESCRIPTION’ ... OK * preparing ‘SJava’: * checking DESCRIPTION meta-information ... OK * cleaning src * checking for LF line-endings in source and make files * checking for empty or unneeded directories * building ‘SJava_0.80.0.tar.gz’