rfcdmin 1.6.11 N. Le Meur
 | Snapshot Date: 2010-11-11 12:27:34 -0800 (Thu, 11 Nov 2010) |  | URL: https://hedgehog.fhcrc.org/bioc-data/trunk/experiment/pkgs/rfcdmin |  | Last Changed Rev: 1077 / Revision: 1384 |  | Last Changed Date: 2009-10-14 00:44:20 -0700 (Wed, 14 Oct 2009) |  
  | lamb2  | Linux (openSUSE 11.2) / x86_64  |  OK  |  OK  |  | 
| liverpool  | Windows Server 2003 R2 (32-bit) / x64  |  OK  |  OK  | [ OK ] | 
| pelham  | Mac OS X Leopard (10.5.8) / i386  |  OK  |  OK  |  OK  | 
* installing *source* package 'rfcdmin' ...
  Using auto-selected zip option '--use-zip-data'
** data
** inst
** help
*** installing help indices
** building package indices ...
** testing if installed package can be loaded
* MD5 sums
packaged installation of 'rfcdmin' as rfcdmin_1.6.11.zip
* DONE (rfcdmin)