rfcdmin 1.6.11 N. Le Meur
 | Snapshot Date: 2011-02-27 12:29:13 -0800 (Sun, 27 Feb 2011) |  | URL: https://hedgehog.fhcrc.org/bioc-data/trunk/experiment/pkgs/rfcdmin |  | Last Changed Rev: 1077 / Revision: 1436 |  | Last Changed Date: 2009-10-14 00:44:20 -0700 (Wed, 14 Oct 2009) |  
  | lamb2  | Linux (openSUSE 11.2) / x86_64  |  OK  |  OK  |  | 
| gewurz  | Windows Server 2008 R2 Enterprise (64-bit) / x64  |  OK  |  OK  |  OK  | 
| pelham  | Mac OS X Leopard (10.5.8) / i386  |  OK  |  OK  | [ OK ] | 
>>>>>>> 
>>>>>>> INSTALLATION WITH 'R CMD INSTALL --preclean --library=rfcdmin.buildbin-libdir rfcdmin_1.6.11.tar.gz'
>>>>>>> 
* installing *source* package ‘rfcdmin’ ...
** data
** inst
** help
*** installing help indices
** building package indices ...
** testing if installed package can be loaded
* DONE (rfcdmin)