| wilson1 |
Linux (openSUSE 11.1) / x86_64 | | | |
| liverpool |
Windows Server 2003 R2 (32-bit) / x64 | | | |
| gewurz |
Windows Server 2008 R2 Enterprise (64-bit) / x64 | | | |
| pelham |
Mac OS X Leopard (10.5.8) / i386 | | | |
|
| A [A] B C D E F G H I J K L M N O P Q R S T U V W X Y Z |
ABarray 1.16.0 Yongming Andrew Sun
| Last Changed Rev: 46401 / Revision: 49923 | | Last Changed Date: 2010-04-22 11:21:23 -0700 |
| wilson1 | Linux (openSUSE 11.1) / x86_64 | OK | OK | |
| liverpool | Windows Server 2003 R2 (32-bit) / x64 | OK | OK | OK |
| gewurz | Windows Server 2008 R2 Enterprise (64-bit) / x64 | OK | ERROR | OK |
| pelham | Mac OS X Leopard (10.5.8) / i386 | OK | OK | OK |
aCGH 1.26.0 Peter Dimitrov
| Last Changed Rev: 46401 / Revision: 49923 | | Last Changed Date: 2010-04-22 11:21:23 -0700 |
| wilson1 | Linux (openSUSE 11.1) / x86_64 | OK | OK | |
| liverpool | Windows Server 2003 R2 (32-bit) / x64 | OK | OK | OK |
| gewurz | Windows Server 2008 R2 Enterprise (64-bit) / x64 | OK | OK | OK |
| pelham | Mac OS X Leopard (10.5.8) / i386 | OK | OK | OK |
ACME 2.4.0 Sean Davis
| Last Changed Rev: 46401 / Revision: 49923 | | Last Changed Date: 2010-04-22 11:21:23 -0700 |
| wilson1 | Linux (openSUSE 11.1) / x86_64 | OK | OK | |
| liverpool | Windows Server 2003 R2 (32-bit) / x64 | OK | OK | OK |
| gewurz | Windows Server 2008 R2 Enterprise (64-bit) / x64 | OK | OK | OK |
| pelham | Mac OS X Leopard (10.5.8) / i386 | OK | OK | OK |
adSplit 1.18.0 Claudio Lottaz
| Last Changed Rev: 46401 / Revision: 49923 | | Last Changed Date: 2010-04-22 11:21:23 -0700 |
| wilson1 | Linux (openSUSE 11.1) / x86_64 | OK | OK | |
| liverpool | Windows Server 2003 R2 (32-bit) / x64 | OK | OK | OK |
| gewurz | Windows Server 2008 R2 Enterprise (64-bit) / x64 | OK | OK | OK |
| pelham | Mac OS X Leopard (10.5.8) / i386 | OK | OK | OK |
affxparser 1.20.0 Kasper Daniel Hansen
| Last Changed Rev: 46509 / Revision: 49923 | | Last Changed Date: 2010-04-24 07:30:04 -0700 |
| wilson1 | Linux (openSUSE 11.1) / x86_64 | OK | OK | |
| liverpool | Windows Server 2003 R2 (32-bit) / x64 | OK | OK | OK |
| gewurz | Windows Server 2008 R2 Enterprise (64-bit) / x64 | OK | OK | OK |
| pelham | Mac OS X Leopard (10.5.8) / i386 | OK | OK | OK |
affy 1.26.1 Rafael A. Irizarry
| Last Changed Rev: 46757 / Revision: 49923 | | Last Changed Date: 2010-05-08 13:59:15 -0700 |
| wilson1 | Linux (openSUSE 11.1) / x86_64 | OK | OK | |
| liverpool | Windows Server 2003 R2 (32-bit) / x64 | OK | OK | OK |
| gewurz | Windows Server 2008 R2 Enterprise (64-bit) / x64 | OK | OK | OK |
| pelham | Mac OS X Leopard (10.5.8) / i386 | OK | OK | OK |
affycomp 1.24.0 Rafael A. Irizarry
| Last Changed Rev: 46401 / Revision: 49923 | | Last Changed Date: 2010-04-22 11:21:23 -0700 |
| wilson1 | Linux (openSUSE 11.1) / x86_64 | OK | OK | |
| liverpool | Windows Server 2003 R2 (32-bit) / x64 | OK | OK | OK |
| gewurz | Windows Server 2008 R2 Enterprise (64-bit) / x64 | OK | OK | OK |
| pelham | Mac OS X Leopard (10.5.8) / i386 | OK | OK | OK |
AffyCompatible 1.8.0 Martin Morgan
| Last Changed Rev: 46401 / Revision: 49923 | | Last Changed Date: 2010-04-22 11:21:23 -0700 |
| wilson1 | Linux (openSUSE 11.1) / x86_64 | OK | OK | |
| liverpool | Windows Server 2003 R2 (32-bit) / x64 | OK | OK | OK |
| gewurz | Windows Server 2008 R2 Enterprise (64-bit) / x64 | OK | OK | OK |
| pelham | Mac OS X Leopard (10.5.8) / i386 | OK | OK | OK |
affyContam 1.6.0 V. Carey
| Last Changed Rev: 46401 / Revision: 49923 | | Last Changed Date: 2010-04-22 11:21:23 -0700 |
| wilson1 | Linux (openSUSE 11.1) / x86_64 | OK | OK | |
| liverpool | Windows Server 2003 R2 (32-bit) / x64 | OK | OK | OK |
| gewurz | Windows Server 2008 R2 Enterprise (64-bit) / x64 | OK | OK | OK |
| pelham | Mac OS X Leopard (10.5.8) / i386 | OK | OK | OK |
affycoretools 1.20.0 James W. MacDonald
| Last Changed Rev: 46401 / Revision: 49923 | | Last Changed Date: 2010-04-22 11:21:23 -0700 |
| wilson1 | Linux (openSUSE 11.1) / x86_64 | OK | WARNINGS | |
| liverpool | Windows Server 2003 R2 (32-bit) / x64 | OK | WARNINGS | OK |
| gewurz | Windows Server 2008 R2 Enterprise (64-bit) / x64 | OK | WARNINGS | OK |
| pelham | Mac OS X Leopard (10.5.8) / i386 | OK | WARNINGS | OK |
AffyExpress 1.14.0 Xuejun Arthur Li
| Last Changed Rev: 46401 / Revision: 49923 | | Last Changed Date: 2010-04-22 11:21:23 -0700 |
| wilson1 | Linux (openSUSE 11.1) / x86_64 | OK | OK | |
| liverpool | Windows Server 2003 R2 (32-bit) / x64 | OK | OK | OK |
| gewurz | Windows Server 2008 R2 Enterprise (64-bit) / x64 | OK | OK | OK |
| pelham | Mac OS X Leopard (10.5.8) / i386 | OK | OK | OK |
affyILM 1.0.0 Myriam Kroll and Fabrice Berger
| Last Changed Rev: 47184 / Revision: 49923 | | Last Changed Date: 2010-05-27 17:19:41 -0700 |
| wilson1 | Linux (openSUSE 11.1) / x86_64 | OK | OK | |
| liverpool | Windows Server 2003 R2 (32-bit) / x64 | OK | OK | OK |
| gewurz | Windows Server 2008 R2 Enterprise (64-bit) / x64 | OK | OK | OK |
| pelham | Mac OS X Leopard (10.5.8) / i386 | OK | WARNINGS | OK |
affyio 1.16.0 Benjamin Milo Bolstad
| Last Changed Rev: 46401 / Revision: 49923 | | Last Changed Date: 2010-04-22 11:21:23 -0700 |
| wilson1 | Linux (openSUSE 11.1) / x86_64 | OK | OK | |
| liverpool | Windows Server 2003 R2 (32-bit) / x64 | OK | OK | OK |
| gewurz | Windows Server 2008 R2 Enterprise (64-bit) / x64 | OK | OK | OK |
| pelham | Mac OS X Leopard (10.5.8) / i386 | OK | OK | OK |
affylmGUI 1.22.0 Keith Satterley
| Last Changed Rev: 46401 / Revision: 49923 | | Last Changed Date: 2010-04-22 11:21:23 -0700 |
| wilson1 | Linux (openSUSE 11.1) / x86_64 | OK | OK | |
| liverpool | Windows Server 2003 R2 (32-bit) / x64 | OK | OK | OK |
| gewurz | Windows Server 2008 R2 Enterprise (64-bit) / x64 | OK | OK | OK |
| pelham | Mac OS X Leopard (10.5.8) / i386 | OK | OK | OK |
affyPara 1.8.0 Markus Schmidberger
| Last Changed Rev: 46401 / Revision: 49923 | | Last Changed Date: 2010-04-22 11:21:23 -0700 |
| wilson1 | Linux (openSUSE 11.1) / x86_64 | OK | OK | |
| liverpool | Windows Server 2003 R2 (32-bit) / x64 | OK | OK | OK |
| gewurz | Windows Server 2008 R2 Enterprise (64-bit) / x64 | OK | OK | OK |
| pelham | Mac OS X Leopard (10.5.8) / i386 | OK | OK | OK |
affypdnn 1.22.0 Laurent Gautier
| Last Changed Rev: 46401 / Revision: 49923 | | Last Changed Date: 2010-04-22 11:21:23 -0700 |
| wilson1 | Linux (openSUSE 11.1) / x86_64 | OK | OK | |
| liverpool | Windows Server 2003 R2 (32-bit) / x64 | OK | OK | OK |
| gewurz | Windows Server 2008 R2 Enterprise (64-bit) / x64 | OK | OK | OK |
| pelham | Mac OS X Leopard (10.5.8) / i386 | OK | OK | OK |
affyPLM 1.24.1 Ben Bolstad
| Last Changed Rev: 48479 / Revision: 49923 | | Last Changed Date: 2010-07-27 18:56:47 -0700 |
| wilson1 | Linux (openSUSE 11.1) / x86_64 | OK | OK | |
| liverpool | Windows Server 2003 R2 (32-bit) / x64 | OK | WARNINGS | OK |
| gewurz | Windows Server 2008 R2 Enterprise (64-bit) / x64 | OK | OK | OK |
| pelham | Mac OS X Leopard (10.5.8) / i386 | OK | OK | OK |
affyQCReport 1.26.0 Craig Parman
| Last Changed Rev: 46401 / Revision: 49923 | | Last Changed Date: 2010-04-22 11:21:23 -0700 |
| wilson1 | Linux (openSUSE 11.1) / x86_64 | OK | OK | |
| liverpool | Windows Server 2003 R2 (32-bit) / x64 | OK | OK | OK |
| gewurz | Windows Server 2008 R2 Enterprise (64-bit) / x64 | OK | OK | OK |
| pelham | Mac OS X Leopard (10.5.8) / i386 | OK | OK | OK |
AffyTiling 1.6.0 Charles G. Danko
| Last Changed Rev: 46401 / Revision: 49923 | | Last Changed Date: 2010-04-22 11:21:23 -0700 |
| wilson1 | Linux (openSUSE 11.1) / x86_64 | OK | OK | |
| liverpool | Windows Server 2003 R2 (32-bit) / x64 | OK | OK | OK |
| gewurz | Windows Server 2008 R2 Enterprise (64-bit) / x64 | OK | OK | OK |
| pelham | Mac OS X Leopard (10.5.8) / i386 | OK | OK | OK |
Agi4x44PreProcess 1.8.0 Pedro Lopez-Romero
| Last Changed Rev: 46401 / Revision: 49923 | | Last Changed Date: 2010-04-22 11:21:23 -0700 |
| wilson1 | Linux (openSUSE 11.1) / x86_64 | OK | OK | |
| liverpool | Windows Server 2003 R2 (32-bit) / x64 | OK | OK | OK |
| gewurz | Windows Server 2008 R2 Enterprise (64-bit) / x64 | OK | OK | OK |
| pelham | Mac OS X Leopard (10.5.8) / i386 | OK | OK | OK |
AgiMicroRna 1.2.0 Pedro Lopez-Romero
| Last Changed Rev: 46401 / Revision: 49923 | | Last Changed Date: 2010-04-22 11:21:23 -0700 |
| wilson1 | Linux (openSUSE 11.1) / x86_64 | OK | OK | |
| liverpool | Windows Server 2003 R2 (32-bit) / x64 | OK | OK | OK |
| gewurz | Windows Server 2008 R2 Enterprise (64-bit) / x64 | OK | OK | OK |
| pelham | Mac OS X Leopard (10.5.8) / i386 | OK | OK | OK |
altcdfenvs 2.10.0 Laurent Gautier
| Last Changed Rev: 46401 / Revision: 49923 | | Last Changed Date: 2010-04-22 11:21:23 -0700 |
| wilson1 | Linux (openSUSE 11.1) / x86_64 | OK | OK | |
| liverpool | Windows Server 2003 R2 (32-bit) / x64 | OK | OK | OK |
| gewurz | Windows Server 2008 R2 Enterprise (64-bit) / x64 | OK | OK | OK |
| pelham | Mac OS X Leopard (10.5.8) / i386 | OK | OK | OK |
annaffy 1.20.0 Colin A. Smith
| Last Changed Rev: 46401 / Revision: 49923 | | Last Changed Date: 2010-04-22 11:21:23 -0700 |
| wilson1 | Linux (openSUSE 11.1) / x86_64 | OK | OK | |
| liverpool | Windows Server 2003 R2 (32-bit) / x64 | OK | OK | OK |
| gewurz | Windows Server 2008 R2 Enterprise (64-bit) / x64 | OK | OK | OK |
| pelham | Mac OS X Leopard (10.5.8) / i386 | OK | OK | OK |
annotate 1.26.1 Biocore Team c/o BioC user list
| Last Changed Rev: 47944 / Revision: 49923 | | Last Changed Date: 2010-07-06 15:40:46 -0700 |
| wilson1 | Linux (openSUSE 11.1) / x86_64 | OK | OK | |
| liverpool | Windows Server 2003 R2 (32-bit) / x64 | OK | OK | OK |
| gewurz | Windows Server 2008 R2 Enterprise (64-bit) / x64 | OK | OK | OK |
| pelham | Mac OS X Leopard (10.5.8) / i386 | OK | OK | OK |
AnnotationDbi 1.10.2 Biocore Team c/o BioC user list
| Last Changed Rev: 48027 / Revision: 49923 | | Last Changed Date: 2010-07-08 17:51:40 -0700 |
| wilson1 | Linux (openSUSE 11.1) / x86_64 | OK | OK | |
| liverpool | Windows Server 2003 R2 (32-bit) / x64 | OK | OK | OK |
| gewurz | Windows Server 2008 R2 Enterprise (64-bit) / x64 | OK | OK | OK |
| pelham | Mac OS X Leopard (10.5.8) / i386 | OK | OK | OK |
annotationTools 1.20.0 Alexandre Kuhn
| Last Changed Rev: 46401 / Revision: 49923 | | Last Changed Date: 2010-04-22 11:21:23 -0700 |
| wilson1 | Linux (openSUSE 11.1) / x86_64 | OK | OK | |
| liverpool | Windows Server 2003 R2 (32-bit) / x64 | OK | OK | OK |
| gewurz | Windows Server 2008 R2 Enterprise (64-bit) / x64 | OK | OK | OK |
| pelham | Mac OS X Leopard (10.5.8) / i386 | OK | OK | OK |
apComplex 2.14.0 Denise Scholtens
| Last Changed Rev: 46401 / Revision: 49923 | | Last Changed Date: 2010-04-22 11:21:23 -0700 |
| wilson1 | Linux (openSUSE 11.1) / x86_64 | OK | OK | |
| liverpool | Windows Server 2003 R2 (32-bit) / x64 | OK | OK | OK |
| gewurz | Windows Server 2008 R2 Enterprise (64-bit) / x64 | OK | OK | OK |
| pelham | Mac OS X Leopard (10.5.8) / i386 | OK | OK | OK |
aroma.light 1.16.1 Henrik Bengtsson
| Last Changed Rev: 48372 / Revision: 49923 | | Last Changed Date: 2010-07-23 06:03:37 -0700 |
| wilson1 | Linux (openSUSE 11.1) / x86_64 | OK | OK | |
| liverpool | Windows Server 2003 R2 (32-bit) / x64 | OK | OK | OK |
| gewurz | Windows Server 2008 R2 Enterprise (64-bit) / x64 | OK | OK | OK |
| pelham | Mac OS X Leopard (10.5.8) / i386 | OK | OK | OK |
ArrayExpress 1.8.0 Audrey Kauffmann
| Last Changed Rev: 46401 / Revision: 49923 | | Last Changed Date: 2010-04-22 11:21:23 -0700 |
| wilson1 | Linux (openSUSE 11.1) / x86_64 | ERROR | skipped | |
| liverpool | Windows Server 2003 R2 (32-bit) / x64 | ERROR | skipped | skipped |
| gewurz | Windows Server 2008 R2 Enterprise (64-bit) / x64 | ERROR | skipped | skipped |
| pelham | Mac OS X Leopard (10.5.8) / i386 | ERROR | skipped | skipped |
arrayMvout 1.6.0 V. Carey
| Last Changed Rev: 46401 / Revision: 49923 | | Last Changed Date: 2010-04-22 11:21:23 -0700 |
| wilson1 | Linux (openSUSE 11.1) / x86_64 | OK | OK | |
| liverpool | Windows Server 2003 R2 (32-bit) / x64 | OK | OK | OK |
| gewurz | Windows Server 2008 R2 Enterprise (64-bit) / x64 | OK | OK | OK |
| pelham | Mac OS X Leopard (10.5.8) / i386 | OK | OK | OK |
arrayQuality 1.26.0 Agnes Paquet
| Last Changed Rev: 46401 / Revision: 49923 | | Last Changed Date: 2010-04-22 11:21:23 -0700 |
| wilson1 | Linux (openSUSE 11.1) / x86_64 | OK | OK | |
| liverpool | Windows Server 2003 R2 (32-bit) / x64 | OK | OK | OK |
| gewurz | Windows Server 2008 R2 Enterprise (64-bit) / x64 | OK | OK | OK |
| pelham | Mac OS X Leopard (10.5.8) / i386 | OK | OK | OK |
arrayQualityMetrics 2.6.0 Audrey Kauffmann
| Last Changed Rev: 46401 / Revision: 49923 | | Last Changed Date: 2010-04-22 11:21:23 -0700 |
| wilson1 | Linux (openSUSE 11.1) / x86_64 | OK | OK | |
| liverpool | Windows Server 2003 R2 (32-bit) / x64 | OK | OK | OK |
| gewurz | Windows Server 2008 R2 Enterprise (64-bit) / x64 | OK | OK | OK |
| pelham | Mac OS X Leopard (10.5.8) / i386 | OK | OK | OK |
ArrayTools 1.8.0 Arthur Li
| Last Changed Rev: 46467 / Revision: 49923 | | Last Changed Date: 2010-04-23 09:18:01 -0700 |
| wilson1 | Linux (openSUSE 11.1) / x86_64 | OK | OK | |
| liverpool | Windows Server 2003 R2 (32-bit) / x64 | OK | OK | OK |
| gewurz | Windows Server 2008 R2 Enterprise (64-bit) / x64 | OK | OK | OK |
| pelham | Mac OS X Leopard (10.5.8) / i386 | OK | OK | OK |
|
| B A [B] C D E F G H I J K L M N O P Q R S T U V W X Y Z |
BAC 1.8.0 Raphael Gottardo
| Last Changed Rev: 46401 / Revision: 49923 | | Last Changed Date: 2010-04-22 11:21:23 -0700 |
| wilson1 | Linux (openSUSE 11.1) / x86_64 | OK | OK | |
| liverpool | Windows Server 2003 R2 (32-bit) / x64 | OK | OK | OK |
| gewurz | Windows Server 2008 R2 Enterprise (64-bit) / x64 | OK | OK | OK |
| pelham | Mac OS X Leopard (10.5.8) / i386 | OK | OK | OK |
BayesPeak 1.0.1 Jonathan Cairns
| Last Changed Rev: 49592 / Revision: 49923 | | Last Changed Date: 2010-09-24 06:18:30 -0700 |
| wilson1 | Linux (openSUSE 11.1) / x86_64 | OK | OK | |
| liverpool | Windows Server 2003 R2 (32-bit) / x64 | OK | OK | OK |
| gewurz | Windows Server 2008 R2 Enterprise (64-bit) / x64 | OK | OK | OK |
| pelham | Mac OS X Leopard (10.5.8) / i386 | OK | OK | OK |
baySeq 1.2.0 Thomas J. Hardcastle
| Last Changed Rev: 46401 / Revision: 49923 | | Last Changed Date: 2010-04-22 11:21:23 -0700 |
| wilson1 | Linux (openSUSE 11.1) / x86_64 | OK | OK | |
| liverpool | Windows Server 2003 R2 (32-bit) / x64 | OK | WARNINGS | OK |
| gewurz | Windows Server 2008 R2 Enterprise (64-bit) / x64 | OK | WARNINGS | OK |
| pelham | Mac OS X Leopard (10.5.8) / i386 | OK | OK | OK |
BCRANK 1.10.0 Adam Ameur
| Last Changed Rev: 46401 / Revision: 49923 | | Last Changed Date: 2010-04-22 11:21:23 -0700 |
| wilson1 | Linux (openSUSE 11.1) / x86_64 | OK | OK | |
| liverpool | Windows Server 2003 R2 (32-bit) / x64 | OK | OK | OK |
| gewurz | Windows Server 2008 R2 Enterprise (64-bit) / x64 | OK | OK | OK |
| pelham | Mac OS X Leopard (10.5.8) / i386 | OK | OK | OK |
beadarray 1.16.0 Mark Dunning
| Last Changed Rev: 46401 / Revision: 49923 | | Last Changed Date: 2010-04-22 11:21:23 -0700 |
| wilson1 | Linux (openSUSE 11.1) / x86_64 | OK | OK | |
| liverpool | Windows Server 2003 R2 (32-bit) / x64 | OK | OK | OK |
| gewurz | Windows Server 2008 R2 Enterprise (64-bit) / x64 | OK | OK | OK |
| pelham | Mac OS X Leopard (10.5.8) / i386 | OK | OK | OK |
beadarraySNP 1.14.0 Jan Oosting
| Last Changed Rev: 47149 / Revision: 49923 | | Last Changed Date: 2010-05-26 11:24:55 -0700 |
| wilson1 | Linux (openSUSE 11.1) / x86_64 | OK | OK | |
| liverpool | Windows Server 2003 R2 (32-bit) / x64 | OK | OK | OK |
| gewurz | Windows Server 2008 R2 Enterprise (64-bit) / x64 | OK | OK | OK |
| pelham | Mac OS X Leopard (10.5.8) / i386 | OK | OK | OK |
BeadDataPackR 1.0.1 Mike Smith
| Last Changed Rev: 48681 / Revision: 49923 | | Last Changed Date: 2010-08-05 06:02:43 -0700 |
| wilson1 | Linux (openSUSE 11.1) / x86_64 | OK | OK | |
| liverpool | Windows Server 2003 R2 (32-bit) / x64 | OK | OK | OK |
| gewurz | Windows Server 2008 R2 Enterprise (64-bit) / x64 | OK | OK | OK |
| pelham | Mac OS X Leopard (10.5.8) / i386 | OK | OK | OK |
betr 1.4.0 Martin Aryee
| Last Changed Rev: 46401 / Revision: 49923 | | Last Changed Date: 2010-04-22 11:21:23 -0700 |
| wilson1 | Linux (openSUSE 11.1) / x86_64 | OK | OK | |
| liverpool | Windows Server 2003 R2 (32-bit) / x64 | OK | OK | OK |
| gewurz | Windows Server 2008 R2 Enterprise (64-bit) / x64 | OK | OK | OK |
| pelham | Mac OS X Leopard (10.5.8) / i386 | OK | OK | OK |
bgafun 1.10.0 Iain Wallace
| Last Changed Rev: 46401 / Revision: 49923 | | Last Changed Date: 2010-04-22 11:21:23 -0700 |
| wilson1 | Linux (openSUSE 11.1) / x86_64 | OK | OK | |
| liverpool | Windows Server 2003 R2 (32-bit) / x64 | OK | OK | OK |
| gewurz | Windows Server 2008 R2 Enterprise (64-bit) / x64 | OK | OK | OK |
| pelham | Mac OS X Leopard (10.5.8) / i386 | OK | OK | OK |
BGmix 1.8.0 Alex Lewin
| Last Changed Rev: 46401 / Revision: 49923 | | Last Changed Date: 2010-04-22 11:21:23 -0700 |
| wilson1 | Linux (openSUSE 11.1) / x86_64 | OK | OK | |
| liverpool | Windows Server 2003 R2 (32-bit) / x64 | OK | OK | OK |
| gewurz | Windows Server 2008 R2 Enterprise (64-bit) / x64 | ERROR | skipped | skipped |
| pelham | Mac OS X Leopard (10.5.8) / i386 | OK | OK | OK |
bgx 1.12.0 Ernest Turro
| Last Changed Rev: 46401 / Revision: 49923 | | Last Changed Date: 2010-04-22 11:21:23 -0700 |
| wilson1 | Linux (openSUSE 11.1) / x86_64 | OK | OK | |
| liverpool | Windows Server 2003 R2 (32-bit) / x64 | OK | OK | OK |
| gewurz | Windows Server 2008 R2 Enterprise (64-bit) / x64 | OK | OK | OK |
| pelham | Mac OS X Leopard (10.5.8) / i386 | OK | OK | OK |
BicARE 1.6.0 Pierre Gestraud
| Last Changed Rev: 46401 / Revision: 49923 | | Last Changed Date: 2010-04-22 11:21:23 -0700 |
| wilson1 | Linux (openSUSE 11.1) / x86_64 | OK | OK | |
| liverpool | Windows Server 2003 R2 (32-bit) / x64 | OK | OK | OK |
| gewurz | Windows Server 2008 R2 Enterprise (64-bit) / x64 | OK | OK | OK |
| pelham | Mac OS X Leopard (10.5.8) / i386 | OK | OK | OK |
Biobase 2.8.0 Biocore Team c/o BioC user list
| Last Changed Rev: 46401 / Revision: 49923 | | Last Changed Date: 2010-04-22 11:21:23 -0700 |
| wilson1 | Linux (openSUSE 11.1) / x86_64 | OK | OK | |
| liverpool | Windows Server 2003 R2 (32-bit) / x64 | OK | OK | OK |
| gewurz | Windows Server 2008 R2 Enterprise (64-bit) / x64 | OK | OK | OK |
| pelham | Mac OS X Leopard (10.5.8) / i386 | OK | OK | OK |
BiocCaseStudies 1.10.0 Biocore Team c/o BioC user list
| Last Changed Rev: 46401 / Revision: 49923 | | Last Changed Date: 2010-04-22 11:21:23 -0700 |
| wilson1 | Linux (openSUSE 11.1) / x86_64 | OK | OK | |
| liverpool | Windows Server 2003 R2 (32-bit) / x64 | OK | OK | OK |
| gewurz | Windows Server 2008 R2 Enterprise (64-bit) / x64 | OK | OK | OK |
| pelham | Mac OS X Leopard (10.5.8) / i386 | OK | OK | OK |
biocDatasets 1.4.0 L. Gautier
| Last Changed Rev: 46401 / Revision: 49923 | | Last Changed Date: 2010-04-22 11:21:23 -0700 |
| wilson1 | Linux (openSUSE 11.1) / x86_64 | OK | OK | |
| liverpool | Windows Server 2003 R2 (32-bit) / x64 | OK | OK | OK |
| gewurz | Windows Server 2008 R2 Enterprise (64-bit) / x64 | OK | OK | OK |
| pelham | Mac OS X Leopard (10.5.8) / i386 | OK | OK | OK |
biocGraph 1.10.0 Florian Hahne
| Last Changed Rev: 46401 / Revision: 49923 | | Last Changed Date: 2010-04-22 11:21:23 -0700 |
| wilson1 | Linux (openSUSE 11.1) / x86_64 | OK | OK | |
| liverpool | Windows Server 2003 R2 (32-bit) / x64 | OK | OK | OK |
| gewurz | Windows Server 2008 R2 Enterprise (64-bit) / x64 | OK | OK | OK |
| pelham | Mac OS X Leopard (10.5.8) / i386 | OK | OK | OK |
biocViews 1.16.2 Biocore Team c/o BioC user list
| Last Changed Rev: 49709 / Revision: 49923 | | Last Changed Date: 2010-09-29 11:28:38 -0700 |
| wilson1 | Linux (openSUSE 11.1) / x86_64 | OK | OK | |
| liverpool | Windows Server 2003 R2 (32-bit) / x64 | OK | OK | OK |
| gewurz | Windows Server 2008 R2 Enterprise (64-bit) / x64 | OK | OK | OK |
| pelham | Mac OS X Leopard (10.5.8) / i386 | OK | OK | OK |
bioDist 1.20.0 Biocore Team c/o BioC user list
| Last Changed Rev: 46401 / Revision: 49923 | | Last Changed Date: 2010-04-22 11:21:23 -0700 |
| wilson1 | Linux (openSUSE 11.1) / x86_64 | OK | OK | |
| liverpool | Windows Server 2003 R2 (32-bit) / x64 | OK | OK | OK |
| gewurz | Windows Server 2008 R2 Enterprise (64-bit) / x64 | OK | OK | OK |
| pelham | Mac OS X Leopard (10.5.8) / i386 | OK | OK | OK |
biomaRt 2.4.0 Steffen Durinck
| Last Changed Rev: 46401 / Revision: 49923 | | Last Changed Date: 2010-04-22 11:21:23 -0700 |
| wilson1 | Linux (openSUSE 11.1) / x86_64 | OK | OK | |
| liverpool | Windows Server 2003 R2 (32-bit) / x64 | OK | OK | OK |
| gewurz | Windows Server 2008 R2 Enterprise (64-bit) / x64 | OK | OK | OK |
| pelham | Mac OS X Leopard (10.5.8) / i386 | OK | OK | OK |
BioMVCClass 1.16.0 Elizabeth Whalen
| Last Changed Rev: 46401 / Revision: 49923 | | Last Changed Date: 2010-04-22 11:21:23 -0700 |
| wilson1 | Linux (openSUSE 11.1) / x86_64 | OK | OK | |
| liverpool | Windows Server 2003 R2 (32-bit) / x64 | OK | OK | OK |
| gewurz | Windows Server 2008 R2 Enterprise (64-bit) / x64 | OK | OK | OK |
| pelham | Mac OS X Leopard (10.5.8) / i386 | OK | OK | OK |
BioSeqClass 1.6.0 Li Hong
| Last Changed Rev: 46401 / Revision: 49923 | | Last Changed Date: 2010-04-22 11:21:23 -0700 |
| wilson1 | Linux (openSUSE 11.1) / x86_64 | OK | OK | |
| liverpool | Windows Server 2003 R2 (32-bit) / x64 | OK | OK | OK |
| gewurz | Windows Server 2008 R2 Enterprise (64-bit) / x64 | OK | OK | OK |
| pelham | Mac OS X Leopard (10.5.8) / i386 | OK | OK | OK |
Biostrings 2.16.9 H. Pages
| Last Changed Rev: 48219 / Revision: 49923 | | Last Changed Date: 2010-07-19 12:27:16 -0700 |
| wilson1 | Linux (openSUSE 11.1) / x86_64 | OK | OK | |
| liverpool | Windows Server 2003 R2 (32-bit) / x64 | OK | WARNINGS | OK |
| gewurz | Windows Server 2008 R2 Enterprise (64-bit) / x64 | OK | OK | OK |
| pelham | Mac OS X Leopard (10.5.8) / i386 | OK | WARNINGS | OK |
bridge 1.12.1 Raphael Gottardo
| Last Changed Rev: 47192 / Revision: 49923 | | Last Changed Date: 2010-05-28 10:51:50 -0700 |
| wilson1 | Linux (openSUSE 11.1) / x86_64 | OK | OK | |
| liverpool | Windows Server 2003 R2 (32-bit) / x64 | OK | OK | OK |
| gewurz | Windows Server 2008 R2 Enterprise (64-bit) / x64 | OK | OK | OK |
| pelham | Mac OS X Leopard (10.5.8) / i386 | OK | OK | OK |
BSgenome 1.16.5 H. Pages
| Last Changed Rev: 47700 / Revision: 49923 | | Last Changed Date: 2010-06-29 02:23:16 -0700 |
| wilson1 | Linux (openSUSE 11.1) / x86_64 | OK | OK | |
| liverpool | Windows Server 2003 R2 (32-bit) / x64 | OK | OK | OK |
| gewurz | Windows Server 2008 R2 Enterprise (64-bit) / x64 | OK | OK | OK |
| pelham | Mac OS X Leopard (10.5.8) / i386 | OK | OK | OK |
BufferedMatrix 1.12.0 Benjamin Milo Bolstad
| Last Changed Rev: 46401 / Revision: 49923 | | Last Changed Date: 2010-04-22 11:21:23 -0700 |
| wilson1 | Linux (openSUSE 11.1) / x86_64 | OK | OK | |
| liverpool | Windows Server 2003 R2 (32-bit) / x64 | OK | OK | OK |
| gewurz | Windows Server 2008 R2 Enterprise (64-bit) / x64 | OK | OK | OK |
| pelham | Mac OS X Leopard (10.5.8) / i386 | OK | OK | OK |
BufferedMatrixMethods 1.12.0 B. M. Bolstad
| Last Changed Rev: 46401 / Revision: 49923 | | Last Changed Date: 2010-04-22 11:21:23 -0700 |
| wilson1 | Linux (openSUSE 11.1) / x86_64 | OK | OK | |
| liverpool | Windows Server 2003 R2 (32-bit) / x64 | OK | OK | OK |
| gewurz | Windows Server 2008 R2 Enterprise (64-bit) / x64 | OK | OK | OK |
| pelham | Mac OS X Leopard (10.5.8) / i386 | OK | OK | OK |
BUS 1.4.0 Yuanhua Liu
| Last Changed Rev: 46401 / Revision: 49923 | | Last Changed Date: 2010-04-22 11:21:23 -0700 |
| wilson1 | Linux (openSUSE 11.1) / x86_64 | OK | OK | |
| liverpool | Windows Server 2003 R2 (32-bit) / x64 | OK | OK | OK |
| gewurz | Windows Server 2008 R2 Enterprise (64-bit) / x64 | OK | OK | OK |
| pelham | Mac OS X Leopard (10.5.8) / i386 | OK | OK | OK |
|
| C A B [C] D E F G H I J K L M N O P Q R S T U V W X Y Z |
CALIB 1.14.0 Hui Zhao
| Last Changed Rev: 46401 / Revision: 49923 | | Last Changed Date: 2010-04-22 11:21:23 -0700 |
| wilson1 | Linux (openSUSE 11.1) / x86_64 | OK | OK | |
| liverpool | Windows Server 2003 R2 (32-bit) / x64 | OK | OK | OK |
| gewurz | Windows Server 2008 R2 Enterprise (64-bit) / x64 | OK | OK | OK |
| pelham | Mac OS X Leopard (10.5.8) / i386 | OK | OK | OK |
CAMERA 1.4.3 Carsten Kuhl
| Last Changed Rev: 46981 / Revision: 49923 | | Last Changed Date: 2010-05-19 05:16:03 -0700 |
| wilson1 | Linux (openSUSE 11.1) / x86_64 | OK | ERROR | |
| liverpool | Windows Server 2003 R2 (32-bit) / x64 | OK | ERROR | OK |
| gewurz | Windows Server 2008 R2 Enterprise (64-bit) / x64 | OK | ERROR | OK |
| pelham | Mac OS X Leopard (10.5.8) / i386 | OK | ERROR | OK |
Category 2.14.0 Robert Gentleman
| Last Changed Rev: 46401 / Revision: 49923 | | Last Changed Date: 2010-04-22 11:21:23 -0700 |
| wilson1 | Linux (openSUSE 11.1) / x86_64 | OK | OK | |
| liverpool | Windows Server 2003 R2 (32-bit) / x64 | OK | OK | OK |
| gewurz | Windows Server 2008 R2 Enterprise (64-bit) / x64 | OK | OK | OK |
| pelham | Mac OS X Leopard (10.5.8) / i386 | OK | OK | OK |
cellHTS 1.18.0 Ligia Bras
| Last Changed Rev: 46401 / Revision: 49923 | | Last Changed Date: 2010-04-22 11:21:23 -0700 |
| wilson1 | Linux (openSUSE 11.1) / x86_64 | OK | OK | |
| liverpool | Windows Server 2003 R2 (32-bit) / x64 | OK | OK | OK |
| gewurz | Windows Server 2008 R2 Enterprise (64-bit) / x64 | OK | OK | OK |
| pelham | Mac OS X Leopard (10.5.8) / i386 | OK | OK | OK |
cellHTS2 2.12.0 Florian Hahne
| Last Changed Rev: 46401 / Revision: 49923 | | Last Changed Date: 2010-04-22 11:21:23 -0700 |
| wilson1 | Linux (openSUSE 11.1) / x86_64 | OK | OK | |
| liverpool | Windows Server 2003 R2 (32-bit) / x64 | OK | WARNINGS | OK |
| gewurz | Windows Server 2008 R2 Enterprise (64-bit) / x64 | OK | WARNINGS | OK |
| pelham | Mac OS X Leopard (10.5.8) / i386 | OK | OK | OK |
CGHbase 1.6.0 Sjoerd Vosse
| Last Changed Rev: 46401 / Revision: 49923 | | Last Changed Date: 2010-04-22 11:21:23 -0700 |
| wilson1 | Linux (openSUSE 11.1) / x86_64 | OK | OK | |
| liverpool | Windows Server 2003 R2 (32-bit) / x64 | OK | OK | OK |
| gewurz | Windows Server 2008 R2 Enterprise (64-bit) / x64 | OK | OK | OK |
| pelham | Mac OS X Leopard (10.5.8) / i386 | OK | OK | OK |
CGHcall 2.8.0 Mark van de Wiel
| Last Changed Rev: 46401 / Revision: 49923 | | Last Changed Date: 2010-04-22 11:21:23 -0700 |
| wilson1 | Linux (openSUSE 11.1) / x86_64 | OK | OK | |
| liverpool | Windows Server 2003 R2 (32-bit) / x64 | OK | OK | OK |
| gewurz | Windows Server 2008 R2 Enterprise (64-bit) / x64 | OK | OK | OK |
| pelham | Mac OS X Leopard (10.5.8) / i386 | OK | OK | OK |
cghMCR 1.6.0 J. Zhang
| Last Changed Rev: 46401 / Revision: 49923 | | Last Changed Date: 2010-04-22 11:21:23 -0700 |
| wilson1 | Linux (openSUSE 11.1) / x86_64 | OK | OK | |
| liverpool | Windows Server 2003 R2 (32-bit) / x64 | OK | OK | OK |
| gewurz | Windows Server 2008 R2 Enterprise (64-bit) / x64 | OK | OK | OK |
| pelham | Mac OS X Leopard (10.5.8) / i386 | OK | OK | OK |
CGHnormaliter 1.2.0 Bart P.P. van Houte
| Last Changed Rev: 46401 / Revision: 49923 | | Last Changed Date: 2010-04-22 11:21:23 -0700 |
| wilson1 | Linux (openSUSE 11.1) / x86_64 | OK | OK | |
| liverpool | Windows Server 2003 R2 (32-bit) / x64 | OK | OK | OK |
| gewurz | Windows Server 2008 R2 Enterprise (64-bit) / x64 | OK | OK | OK |
| pelham | Mac OS X Leopard (10.5.8) / i386 | OK | OK | OK |
CGHregions 1.6.0 Mark van de Wiel
| Last Changed Rev: 46401 / Revision: 49923 | | Last Changed Date: 2010-04-22 11:21:23 -0700 |
| wilson1 | Linux (openSUSE 11.1) / x86_64 | OK | OK | |
| liverpool | Windows Server 2003 R2 (32-bit) / x64 | OK | OK | OK |
| gewurz | Windows Server 2008 R2 Enterprise (64-bit) / x64 | OK | OK | OK |
| pelham | Mac OS X Leopard (10.5.8) / i386 | OK | OK | OK |
charm 1.0.1 Martin Aryee
| Last Changed Rev: 47049 / Revision: 49923 | | Last Changed Date: 2010-05-20 06:37:44 -0700 |
| wilson1 | Linux (openSUSE 11.1) / x86_64 | OK | OK | |
| liverpool | Windows Server 2003 R2 (32-bit) / x64 | OK | OK | OK |
| gewurz | Windows Server 2008 R2 Enterprise (64-bit) / x64 | OK | OK | OK |
| pelham | Mac OS X Leopard (10.5.8) / i386 | OK | OK | OK |
ChemmineR 1.8.0 Y. Eddie Cao
| Last Changed Rev: 46401 / Revision: 49923 | | Last Changed Date: 2010-04-22 11:21:23 -0700 |
| wilson1 | Linux (openSUSE 11.1) / x86_64 | OK | OK | |
| liverpool | Windows Server 2003 R2 (32-bit) / x64 | OK | OK | OK |
| gewurz | Windows Server 2008 R2 Enterprise (64-bit) / x64 | OK | OK | OK |
| pelham | Mac OS X Leopard (10.5.8) / i386 | OK | OK | OK |
ChIPpeakAnno 1.4.2 Lihua Julie Zhu
| Last Changed Rev: 49234 / Revision: 49923 | | Last Changed Date: 2010-09-05 19:23:13 -0700 |
| wilson1 | Linux (openSUSE 11.1) / x86_64 | OK | OK | |
| liverpool | Windows Server 2003 R2 (32-bit) / x64 | OK | OK | OK |
| gewurz | Windows Server 2008 R2 Enterprise (64-bit) / x64 | OK | OK | OK |
| pelham | Mac OS X Leopard (10.5.8) / i386 | OK | OK | OK |
chipseq 0.4.1 Biocore Team c/o BioC user list
| Last Changed Rev: 48570 / Revision: 49923 | | Last Changed Date: 2010-07-29 09:44:34 -0700 |
| wilson1 | Linux (openSUSE 11.1) / x86_64 | OK | OK | |
| liverpool | Windows Server 2003 R2 (32-bit) / x64 | OK | OK | OK |
| gewurz | Windows Server 2008 R2 Enterprise (64-bit) / x64 | OK | OK | OK |
| pelham | Mac OS X Leopard (10.5.8) / i386 | OK | OK | OK |
ChIPseqR 1.2.0 Peter Humburg
| Last Changed Rev: 48051 / Revision: 49923 | | Last Changed Date: 2010-07-09 16:15:59 -0700 |
| wilson1 | Linux (openSUSE 11.1) / x86_64 | OK | OK | |
| liverpool | Windows Server 2003 R2 (32-bit) / x64 | OK | OK | OK |
| gewurz | Windows Server 2008 R2 Enterprise (64-bit) / x64 | OK | OK | OK |
| pelham | Mac OS X Leopard (10.5.8) / i386 | OK | OK | OK |
ChIPsim 1.2.0 Peter Humburg
| Last Changed Rev: 46401 / Revision: 49923 | | Last Changed Date: 2010-04-22 11:21:23 -0700 |
| wilson1 | Linux (openSUSE 11.1) / x86_64 | OK | OK | |
| liverpool | Windows Server 2003 R2 (32-bit) / x64 | OK | OK | OK |
| gewurz | Windows Server 2008 R2 Enterprise (64-bit) / x64 | OK | OK | OK |
| pelham | Mac OS X Leopard (10.5.8) / i386 | OK | OK | OK |
ChromHeatMap 1.2.0 Tim F. Rayner
| Last Changed Rev: 46401 / Revision: 49923 | | Last Changed Date: 2010-04-22 11:21:23 -0700 |
| wilson1 | Linux (openSUSE 11.1) / x86_64 | OK | OK | |
| liverpool | Windows Server 2003 R2 (32-bit) / x64 | OK | OK | OK |
| gewurz | Windows Server 2008 R2 Enterprise (64-bit) / x64 | OK | OK | OK |
| pelham | Mac OS X Leopard (10.5.8) / i386 | OK | OK | OK |
clippda 1.2.0 Stephen Nyangoma
| Last Changed Rev: 46401 / Revision: 49923 | | Last Changed Date: 2010-04-22 11:21:23 -0700 |
| wilson1 | Linux (openSUSE 11.1) / x86_64 | OK | OK | |
| liverpool | Windows Server 2003 R2 (32-bit) / x64 | OK | OK | OK |
| gewurz | Windows Server 2008 R2 Enterprise (64-bit) / x64 | OK | OK | OK |
| pelham | Mac OS X Leopard (10.5.8) / i386 | OK | OK | OK |
clusterStab 1.20.0 James W. MacDonald
| Last Changed Rev: 46401 / Revision: 49923 | | Last Changed Date: 2010-04-22 11:21:23 -0700 |
| wilson1 | Linux (openSUSE 11.1) / x86_64 | OK | OK | |
| liverpool | Windows Server 2003 R2 (32-bit) / x64 | OK | OK | OK |
| gewurz | Windows Server 2008 R2 Enterprise (64-bit) / x64 | OK | OK | OK |
| pelham | Mac OS X Leopard (10.5.8) / i386 | OK | OK | OK |
CMA 1.6.0 Christoph Bernau
| Last Changed Rev: 46401 / Revision: 49923 | | Last Changed Date: 2010-04-22 11:21:23 -0700 |
| wilson1 | Linux (openSUSE 11.1) / x86_64 | OK | OK | |
| liverpool | Windows Server 2003 R2 (32-bit) / x64 | OK | OK | OK |
| gewurz | Windows Server 2008 R2 Enterprise (64-bit) / x64 | OK | OK | OK |
| pelham | Mac OS X Leopard (10.5.8) / i386 | OK | OK | OK |
CNTools 1.4.0 J. Zhang
| Last Changed Rev: 46401 / Revision: 49923 | | Last Changed Date: 2010-04-22 11:21:23 -0700 |
| wilson1 | Linux (openSUSE 11.1) / x86_64 | OK | OK | |
| liverpool | Windows Server 2003 R2 (32-bit) / x64 | OK | OK | OK |
| gewurz | Windows Server 2008 R2 Enterprise (64-bit) / x64 | OK | OK | OK |
| pelham | Mac OS X Leopard (10.5.8) / i386 | OK | OK | OK |
CNVtools 1.42.0 Chris Barnes
| Last Changed Rev: 46401 / Revision: 49923 | | Last Changed Date: 2010-04-22 11:21:23 -0700 |
| wilson1 | Linux (openSUSE 11.1) / x86_64 | OK | OK | |
| liverpool | Windows Server 2003 R2 (32-bit) / x64 | OK | OK | OK |
| gewurz | Windows Server 2008 R2 Enterprise (64-bit) / x64 | OK | OK | OK |
| pelham | Mac OS X Leopard (10.5.8) / i386 | OK | OK | OK |
CoCiteStats 1.20.0 R. Gentleman
| Last Changed Rev: 46401 / Revision: 49923 | | Last Changed Date: 2010-04-22 11:21:23 -0700 |
| wilson1 | Linux (openSUSE 11.1) / x86_64 | OK | OK | |
| liverpool | Windows Server 2003 R2 (32-bit) / x64 | OK | OK | OK |
| gewurz | Windows Server 2008 R2 Enterprise (64-bit) / x64 | OK | OK | OK |
| pelham | Mac OS X Leopard (10.5.8) / i386 | OK | OK | OK |
codelink 1.16.0 Diego Diez
| Last Changed Rev: 46401 / Revision: 49923 | | Last Changed Date: 2010-04-22 11:21:23 -0700 |
| wilson1 | Linux (openSUSE 11.1) / x86_64 | OK | OK | |
| liverpool | Windows Server 2003 R2 (32-bit) / x64 | OK | OK | OK |
| gewurz | Windows Server 2008 R2 Enterprise (64-bit) / x64 | OK | OK | OK |
| pelham | Mac OS X Leopard (10.5.8) / i386 | OK | OK | OK |
ConsensusClusterPlus 1.0.1 Matt Wilkerson
| Last Changed Rev: 46827 / Revision: 49923 | | Last Changed Date: 2010-05-13 13:35:54 -0700 |
| wilson1 | Linux (openSUSE 11.1) / x86_64 | OK | OK | |
| liverpool | Windows Server 2003 R2 (32-bit) / x64 | OK | OK | OK |
| gewurz | Windows Server 2008 R2 Enterprise (64-bit) / x64 | OK | OK | OK |
| pelham | Mac OS X Leopard (10.5.8) / i386 | OK | OK | OK |
convert 1.24.0 Yee Hwa (Jean) Yang
| Last Changed Rev: 46401 / Revision: 49923 | | Last Changed Date: 2010-04-22 11:21:23 -0700 |
| wilson1 | Linux (openSUSE 11.1) / x86_64 | OK | OK | |
| liverpool | Windows Server 2003 R2 (32-bit) / x64 | OK | OK | OK |
| gewurz | Windows Server 2008 R2 Enterprise (64-bit) / x64 | OK | OK | OK |
| pelham | Mac OS X Leopard (10.5.8) / i386 | OK | OK | OK |
copa 1.16.0 James W. MacDonald
| Last Changed Rev: 46401 / Revision: 49923 | | Last Changed Date: 2010-04-22 11:21:23 -0700 |
| wilson1 | Linux (openSUSE 11.1) / x86_64 | OK | OK | |
| liverpool | Windows Server 2003 R2 (32-bit) / x64 | OK | OK | OK |
| gewurz | Windows Server 2008 R2 Enterprise (64-bit) / x64 | OK | OK | OK |
| pelham | Mac OS X Leopard (10.5.8) / i386 | OK | OK | OK |
CORREP 1.14.0 Dongxiao Zhu
| Last Changed Rev: 46401 / Revision: 49923 | | Last Changed Date: 2010-04-22 11:21:23 -0700 |
| wilson1 | Linux (openSUSE 11.1) / x86_64 | OK | OK | |
| liverpool | Windows Server 2003 R2 (32-bit) / x64 | OK | OK | OK |
| gewurz | Windows Server 2008 R2 Enterprise (64-bit) / x64 | OK | OK | OK |
| pelham | Mac OS X Leopard (10.5.8) / i386 | OK | OK | OK |
cosmo 1.14.0 Oliver Bembom
| Last Changed Rev: 46401 / Revision: 49923 | | Last Changed Date: 2010-04-22 11:21:23 -0700 |
| wilson1 | Linux (openSUSE 11.1) / x86_64 | OK | OK | |
| liverpool | Windows Server 2003 R2 (32-bit) / x64 | OK | OK | OK |
| gewurz | Windows Server 2008 R2 Enterprise (64-bit) / x64 | OK | OK | OK |
| pelham | Mac OS X Leopard (10.5.8) / i386 | OK | OK | OK |
cosmoGUI 1.14.0 Oliver Bembom
| Last Changed Rev: 46401 / Revision: 49923 | | Last Changed Date: 2010-04-22 11:21:23 -0700 |
| wilson1 | Linux (openSUSE 11.1) / x86_64 | OK | OK | |
| liverpool | Windows Server 2003 R2 (32-bit) / x64 | OK | OK | OK |
| gewurz | Windows Server 2008 R2 Enterprise (64-bit) / x64 | OK | OK | OK |
| pelham | Mac OS X Leopard (10.5.8) / i386 | OK | OK | OK |
crlmm 1.6.6 Benilton S Carvalho , Robert Scharpf , Matt Ritchie
| Last Changed Rev: 49659 / Revision: 49923 | | Last Changed Date: 2010-09-27 18:36:19 -0700 |
| wilson1 | Linux (openSUSE 11.1) / x86_64 | OK | OK | |
| liverpool | Windows Server 2003 R2 (32-bit) / x64 | OK | OK | OK |
| gewurz | Windows Server 2008 R2 Enterprise (64-bit) / x64 | OK | OK | OK |
| pelham | Mac OS X Leopard (10.5.8) / i386 | OK | OK | OK |
CSAR 1.0.0 Jose M Muino
| Last Changed Rev: 46401 / Revision: 49923 | | Last Changed Date: 2010-04-22 11:21:23 -0700 |
| wilson1 | Linux (openSUSE 11.1) / x86_64 | OK | OK | |
| liverpool | Windows Server 2003 R2 (32-bit) / x64 | OK | OK | OK |
| gewurz | Windows Server 2008 R2 Enterprise (64-bit) / x64 | OK | OK | OK |
| pelham | Mac OS X Leopard (10.5.8) / i386 | OK | OK | OK |
ctc 1.22.0 Antoine Lucas
| Last Changed Rev: 46401 / Revision: 49923 | | Last Changed Date: 2010-04-22 11:21:23 -0700 |
| wilson1 | Linux (openSUSE 11.1) / x86_64 | OK | OK | |
| liverpool | Windows Server 2003 R2 (32-bit) / x64 | OK | OK | OK |
| gewurz | Windows Server 2008 R2 Enterprise (64-bit) / x64 | OK | OK | OK |
| pelham | Mac OS X Leopard (10.5.8) / i386 | OK | OK | OK |
cycle 1.2.0 Matthias Futschik
| Last Changed Rev: 46401 / Revision: 49923 | | Last Changed Date: 2010-04-22 11:21:23 -0700 |
| wilson1 | Linux (openSUSE 11.1) / x86_64 | OK | OK | |
| liverpool | Windows Server 2003 R2 (32-bit) / x64 | OK | OK | OK |
| gewurz | Windows Server 2008 R2 Enterprise (64-bit) / x64 | OK | OK | OK |
| pelham | Mac OS X Leopard (10.5.8) / i386 | OK | OK | OK |
|
| D A B C [D] E F G H I J K L M N O P Q R S T U V W X Y Z |
daMA 1.20.0 Jobst Landgrebe
| Last Changed Rev: 46401 / Revision: 49923 | | Last Changed Date: 2010-04-22 11:21:23 -0700 |
| wilson1 | Linux (openSUSE 11.1) / x86_64 | OK | OK | |
| liverpool | Windows Server 2003 R2 (32-bit) / x64 | OK | OK | OK |
| gewurz | Windows Server 2008 R2 Enterprise (64-bit) / x64 | OK | OK | OK |
| pelham | Mac OS X Leopard (10.5.8) / i386 | OK | OK | OK |
DAVIDQuery 1.8.1 Roger Day
| Last Changed Rev: 47464 / Revision: 49923 | | Last Changed Date: 2010-06-14 20:16:02 -0700 |
| wilson1 | Linux (openSUSE 11.1) / x86_64 | OK | OK | |
| liverpool | Windows Server 2003 R2 (32-bit) / x64 | OK | OK | OK |
| gewurz | Windows Server 2008 R2 Enterprise (64-bit) / x64 | OK | OK | OK |
| pelham | Mac OS X Leopard (10.5.8) / i386 | OK | OK | OK |
ddCt 1.2.0 Jitao David Zhang
| Last Changed Rev: 46401 / Revision: 49923 | | Last Changed Date: 2010-04-22 11:21:23 -0700 |
| wilson1 | Linux (openSUSE 11.1) / x86_64 | OK | OK | |
| liverpool | Windows Server 2003 R2 (32-bit) / x64 | OK | OK | OK |
| gewurz | Windows Server 2008 R2 Enterprise (64-bit) / x64 | OK | OK | OK |
| pelham | Mac OS X Leopard (10.5.8) / i386 | OK | OK | OK |
DEDS 1.22.0 Yuanyuan Xiao
| Last Changed Rev: 46401 / Revision: 49923 | | Last Changed Date: 2010-04-22 11:21:23 -0700 |
| wilson1 | Linux (openSUSE 11.1) / x86_64 | OK | OK | |
| liverpool | Windows Server 2003 R2 (32-bit) / x64 | OK | OK | OK |
| gewurz | Windows Server 2008 R2 Enterprise (64-bit) / x64 | OK | OK | OK |
| pelham | Mac OS X Leopard (10.5.8) / i386 | OK | OK | OK |
DEGseq 1.2.2 Likun Wang
| Last Changed Rev: 47091 / Revision: 49923 | | Last Changed Date: 2010-05-24 08:05:30 -0700 |
| wilson1 | Linux (openSUSE 11.1) / x86_64 | OK | OK | |
| liverpool | Windows Server 2003 R2 (32-bit) / x64 | OK | OK | OK |
| gewurz | Windows Server 2008 R2 Enterprise (64-bit) / x64 | OK | OK | OK |
| pelham | Mac OS X Leopard (10.5.8) / i386 | OK | OK | OK |
DESeq 1.0.6 Simon Anders
| Last Changed Rev: 49240 / Revision: 49923 | | Last Changed Date: 2010-09-06 05:18:28 -0700 |
| wilson1 | Linux (openSUSE 11.1) / x86_64 | OK | WARNINGS | |
| liverpool | Windows Server 2003 R2 (32-bit) / x64 | OK | WARNINGS | OK |
| gewurz | Windows Server 2008 R2 Enterprise (64-bit) / x64 | OK | WARNINGS | OK |
| pelham | Mac OS X Leopard (10.5.8) / i386 | OK | WARNINGS | OK |
DFP 1.6.0 Rodrigo Alvarez-Glez
| Last Changed Rev: 46401 / Revision: 49923 | | Last Changed Date: 2010-04-22 11:21:23 -0700 |
| wilson1 | Linux (openSUSE 11.1) / x86_64 | OK | OK | |
| liverpool | Windows Server 2003 R2 (32-bit) / x64 | OK | OK | OK |
| gewurz | Windows Server 2008 R2 Enterprise (64-bit) / x64 | OK | OK | OK |
| pelham | Mac OS X Leopard (10.5.8) / i386 | OK | OK | OK |
diffGeneAnalysis 1.30.0 Choudary Jagarlamudi
| Last Changed Rev: 46401 / Revision: 49923 | | Last Changed Date: 2010-04-22 11:21:23 -0700 |
| wilson1 | Linux (openSUSE 11.1) / x86_64 | OK | OK | |
| liverpool | Windows Server 2003 R2 (32-bit) / x64 | OK | OK | OK |
| gewurz | Windows Server 2008 R2 Enterprise (64-bit) / x64 | OK | OK | OK |
| pelham | Mac OS X Leopard (10.5.8) / i386 | OK | OK | OK |
DNAcopy 1.22.1 Venkatraman E. Seshan
| Last Changed Rev: 46873 / Revision: 49923 | | Last Changed Date: 2010-05-14 13:34:58 -0700 |
| wilson1 | Linux (openSUSE 11.1) / x86_64 | OK | OK | |
| liverpool | Windows Server 2003 R2 (32-bit) / x64 | OK | OK | OK |
| gewurz | Windows Server 2008 R2 Enterprise (64-bit) / x64 | OK | OK | OK |
| pelham | Mac OS X Leopard (10.5.8) / i386 | OK | OK | OK |
domainsignatures 1.8.0 Florian Hahne
| Last Changed Rev: 46401 / Revision: 49923 | | Last Changed Date: 2010-04-22 11:21:23 -0700 |
| wilson1 | Linux (openSUSE 11.1) / x86_64 | OK | OK | |
| liverpool | Windows Server 2003 R2 (32-bit) / x64 | OK | OK | OK |
| gewurz | Windows Server 2008 R2 Enterprise (64-bit) / x64 | OK | OK | OK |
| pelham | Mac OS X Leopard (10.5.8) / i386 | OK | OK | OK |
dualKS 1.8.0 Eric J. Kort
| Last Changed Rev: 46401 / Revision: 49923 | | Last Changed Date: 2010-04-22 11:21:23 -0700 |
| wilson1 | Linux (openSUSE 11.1) / x86_64 | OK | OK | |
| liverpool | Windows Server 2003 R2 (32-bit) / x64 | OK | OK | OK |
| gewurz | Windows Server 2008 R2 Enterprise (64-bit) / x64 | OK | OK | OK |
| pelham | Mac OS X Leopard (10.5.8) / i386 | OK | OK | OK |
dyebias 1.6.0 Philip Lijnzaad
| Last Changed Rev: 46401 / Revision: 49923 | | Last Changed Date: 2010-04-22 11:21:23 -0700 |
| wilson1 | Linux (openSUSE 11.1) / x86_64 | OK | OK | |
| liverpool | Windows Server 2003 R2 (32-bit) / x64 | OK | OK | OK |
| gewurz | Windows Server 2008 R2 Enterprise (64-bit) / x64 | OK | OK | OK |
| pelham | Mac OS X Leopard (10.5.8) / i386 | OK | OK | OK |
DynDoc 1.26.0 Biocore Team c/o BioC user list
| Last Changed Rev: 46401 / Revision: 49923 | | Last Changed Date: 2010-04-22 11:21:23 -0700 |
| wilson1 | Linux (openSUSE 11.1) / x86_64 | OK | OK | |
| liverpool | Windows Server 2003 R2 (32-bit) / x64 | OK | OK | OK |
| gewurz | Windows Server 2008 R2 Enterprise (64-bit) / x64 | OK | OK | OK |
| pelham | Mac OS X Leopard (10.5.8) / i386 | OK | OK | OK |
|
| E A B C D [E] F G H I J K L M N O P Q R S T U V W X Y Z |
EBarrays 2.12.0 Ming Yuan
| Last Changed Rev: 46401 / Revision: 49923 | | Last Changed Date: 2010-04-22 11:21:23 -0700 |
| wilson1 | Linux (openSUSE 11.1) / x86_64 | OK | OK | |
| liverpool | Windows Server 2003 R2 (32-bit) / x64 | OK | OK | OK |
| gewurz | Windows Server 2008 R2 Enterprise (64-bit) / x64 | OK | OK | OK |
| pelham | Mac OS X Leopard (10.5.8) / i386 | OK | OK | OK |
EBImage 3.4.0 Gregoire Pau
| Last Changed Rev: 46401 / Revision: 49923 | | Last Changed Date: 2010-04-22 11:21:23 -0700 |
| wilson1 | Linux (openSUSE 11.1) / x86_64 | OK | OK | |
| liverpool | Windows Server 2003 R2 (32-bit) / x64 | OK | OK | OK |
| gewurz | Windows Server 2008 R2 Enterprise (64-bit) / x64 | N O T S U P P O R T E D |
| pelham | Mac OS X Leopard (10.5.8) / i386 | ERROR | skipped | skipped |
ecolitk 1.20.0 Laurent Gautier
| Last Changed Rev: 46401 / Revision: 49923 | | Last Changed Date: 2010-04-22 11:21:23 -0700 |
| wilson1 | Linux (openSUSE 11.1) / x86_64 | OK | OK | |
| liverpool | Windows Server 2003 R2 (32-bit) / x64 | OK | OK | OK |
| gewurz | Windows Server 2008 R2 Enterprise (64-bit) / x64 | OK | OK | OK |
| pelham | Mac OS X Leopard (10.5.8) / i386 | OK | OK | OK |
edd 1.26.0 Vince Carey
| Last Changed Rev: 46401 / Revision: 49923 | | Last Changed Date: 2010-04-22 11:21:23 -0700 |
| wilson1 | Linux (openSUSE 11.1) / x86_64 | OK | OK | |
| liverpool | Windows Server 2003 R2 (32-bit) / x64 | OK | OK | OK |
| gewurz | Windows Server 2008 R2 Enterprise (64-bit) / x64 | OK | OK | OK |
| pelham | Mac OS X Leopard (10.5.8) / i386 | OK | OK | OK |
edgeR 1.6.15 Mark Robinson , Davis McCarthy , Gordon Smyth
| Last Changed Rev: 49887 / Revision: 49923 | | Last Changed Date: 2010-10-03 01:58:16 -0700 |
| wilson1 | Linux (openSUSE 11.1) / x86_64 | OK | OK | |
| liverpool | Windows Server 2003 R2 (32-bit) / x64 | OK | OK | OK |
| gewurz | Windows Server 2008 R2 Enterprise (64-bit) / x64 | OK | OK | OK |
| pelham | Mac OS X Leopard (10.5.8) / i386 | OK | OK | OK |
eisa 1.0.0 Gabor Csardi
| Last Changed Rev: 46467 / Revision: 49923 | | Last Changed Date: 2010-04-23 09:18:01 -0700 |
| wilson1 | Linux (openSUSE 11.1) / x86_64 | OK | OK | |
| liverpool | Windows Server 2003 R2 (32-bit) / x64 | OK | OK | OK |
| gewurz | Windows Server 2008 R2 Enterprise (64-bit) / x64 | OK | OK | OK |
| pelham | Mac OS X Leopard (10.5.8) / i386 | OK | OK | OK |
exonmap 2.6.1 Crispin Miller
| Last Changed Rev: 48370 / Revision: 49923 | | Last Changed Date: 2010-07-23 05:24:34 -0700 |
| wilson1 | Linux (openSUSE 11.1) / x86_64 | OK | OK | |
| liverpool | Windows Server 2003 R2 (32-bit) / x64 | OK | OK | OK |
| gewurz | Windows Server 2008 R2 Enterprise (64-bit) / x64 | N O T S U P P O R T E D |
| pelham | Mac OS X Leopard (10.5.8) / i386 | OK | OK | OK |
explorase 1.12.0 Michael Lawrence
| Last Changed Rev: 46401 / Revision: 49923 | | Last Changed Date: 2010-04-22 11:21:23 -0700 |
| wilson1 | Linux (openSUSE 11.1) / x86_64 | OK | OK | |
| liverpool | Windows Server 2003 R2 (32-bit) / x64 | OK | OK | OK |
| gewurz | Windows Server 2008 R2 Enterprise (64-bit) / x64 | N O T S U P P O R T E D |
| pelham | Mac OS X Leopard (10.5.8) / i386 | OK | OK | OK |
ExpressionView 1.1.0 Gabor Csardi
| Last Changed Rev: 47194 / Revision: 49923 | | Last Changed Date: 2010-05-28 11:24:43 -0700 |
| wilson1 | Linux (openSUSE 11.1) / x86_64 | OK | OK | |
| liverpool | Windows Server 2003 R2 (32-bit) / x64 | OK | OK | OK |
| gewurz | Windows Server 2008 R2 Enterprise (64-bit) / x64 | OK | OK | OK |
| pelham | Mac OS X Leopard (10.5.8) / i386 | OK | OK | OK |
externalVector 1.14.0 Biocore Team c/o BioC user list
| Last Changed Rev: 46401 / Revision: 49923 | | Last Changed Date: 2010-04-22 11:21:23 -0700 |
| wilson1 | Linux (openSUSE 11.1) / x86_64 | OK | OK | |
| liverpool | Windows Server 2003 R2 (32-bit) / x64 | OK | OK | OK |
| gewurz | Windows Server 2008 R2 Enterprise (64-bit) / x64 | OK | OK | OK |
| pelham | Mac OS X Leopard (10.5.8) / i386 | OK | OK | OK |
|
| F A B C D E [F] G H I J K L M N O P Q R S T U V W X Y Z |
factDesign 1.24.0 Denise Scholtens
| Last Changed Rev: 46401 / Revision: 49923 | | Last Changed Date: 2010-04-22 11:21:23 -0700 |
| wilson1 | Linux (openSUSE 11.1) / x86_64 | OK | OK | |
| liverpool | Windows Server 2003 R2 (32-bit) / x64 | OK | OK | OK |
| gewurz | Windows Server 2008 R2 Enterprise (64-bit) / x64 | OK | OK | OK |
| pelham | Mac OS X Leopard (10.5.8) / i386 | OK | OK | OK |
fbat 1.12.0 The R Genetics Project
| Last Changed Rev: 46401 / Revision: 49923 | | Last Changed Date: 2010-04-22 11:21:23 -0700 |
| wilson1 | Linux (openSUSE 11.1) / x86_64 | OK | OK | |
| liverpool | Windows Server 2003 R2 (32-bit) / x64 | OK | OK | OK |
| gewurz | Windows Server 2008 R2 Enterprise (64-bit) / x64 | OK | OK | OK |
| pelham | Mac OS X Leopard (10.5.8) / i386 | OK | OK | OK |
fdrame 1.20.0 Effi Kenigsberg
| Last Changed Rev: 46401 / Revision: 49923 | | Last Changed Date: 2010-04-22 11:21:23 -0700 |
| wilson1 | Linux (openSUSE 11.1) / x86_64 | OK | OK | |
| liverpool | Windows Server 2003 R2 (32-bit) / x64 | OK | OK | OK |
| gewurz | Windows Server 2008 R2 Enterprise (64-bit) / x64 | OK | OK | OK |
| pelham | Mac OS X Leopard (10.5.8) / i386 | OK | OK | OK |
flagme 1.4.0 Mark Robinson
| Last Changed Rev: 46401 / Revision: 49923 | | Last Changed Date: 2010-04-22 11:21:23 -0700 |
| wilson1 | Linux (openSUSE 11.1) / x86_64 | OK | OK | |
| liverpool | Windows Server 2003 R2 (32-bit) / x64 | OK | OK | OK |
| gewurz | Windows Server 2008 R2 Enterprise (64-bit) / x64 | OK | OK | OK |
| pelham | Mac OS X Leopard (10.5.8) / i386 | OK | OK | OK |
flowClust 2.6.0 Raphael Gottardo
| Last Changed Rev: 47149 / Revision: 49923 | | Last Changed Date: 2010-05-26 11:24:55 -0700 |
| wilson1 | Linux (openSUSE 11.1) / x86_64 | OK | WARNINGS | |
| liverpool | Windows Server 2003 R2 (32-bit) / x64 | OK | WARNINGS | OK |
| gewurz | Windows Server 2008 R2 Enterprise (64-bit) / x64 | OK | WARNINGS | OK |
| pelham | Mac OS X Leopard (10.5.8) / i386 | OK | WARNINGS | OK |
flowCore 1.14.1 F. Hahne
| Last Changed Rev: 46647 / Revision: 49923 | | Last Changed Date: 2010-04-30 12:30:16 -0700 |
| wilson1 | Linux (openSUSE 11.1) / x86_64 | OK | OK | |
| liverpool | Windows Server 2003 R2 (32-bit) / x64 | OK | OK | OK |
| gewurz | Windows Server 2008 R2 Enterprise (64-bit) / x64 | OK | OK | OK |
| pelham | Mac OS X Leopard (10.5.8) / i386 | OK | OK | OK |
flowFlowJo 1.6.0 John J. Gosink
| Last Changed Rev: 46401 / Revision: 49923 | | Last Changed Date: 2010-04-22 11:21:23 -0700 |
| wilson1 | Linux (openSUSE 11.1) / x86_64 | OK | OK | |
| liverpool | Windows Server 2003 R2 (32-bit) / x64 | OK | OK | OK |
| gewurz | Windows Server 2008 R2 Enterprise (64-bit) / x64 | OK | OK | OK |
| pelham | Mac OS X Leopard (10.5.8) / i386 | OK | OK | OK |
flowFP 1.4.0 Herb Holyst
| Last Changed Rev: 46401 / Revision: 49923 | | Last Changed Date: 2010-04-22 11:21:23 -0700 |
| wilson1 | Linux (openSUSE 11.1) / x86_64 | OK | OK | |
| liverpool | Windows Server 2003 R2 (32-bit) / x64 | OK | OK | OK |
| gewurz | Windows Server 2008 R2 Enterprise (64-bit) / x64 | OK | OK | OK |
| pelham | Mac OS X Leopard (10.5.8) / i386 | OK | OK | OK |
flowMeans 1.0.1 Nima Aghaeepour
| Last Changed Rev: 46791 / Revision: 49923 | | Last Changed Date: 2010-05-11 11:30:27 -0700 |
| wilson1 | Linux (openSUSE 11.1) / x86_64 | OK | OK | |
| liverpool | Windows Server 2003 R2 (32-bit) / x64 | OK | OK | OK |
| gewurz | Windows Server 2008 R2 Enterprise (64-bit) / x64 | OK | OK | OK |
| pelham | Mac OS X Leopard (10.5.8) / i386 | OK | OK | OK |
flowMerge 1.2.1 Greg Finak
| Last Changed Rev: 47382 / Revision: 49923 | | Last Changed Date: 2010-06-09 13:27:07 -0700 |
| wilson1 | Linux (openSUSE 11.1) / x86_64 | OK | OK | |
| liverpool | Windows Server 2003 R2 (32-bit) / x64 | OK | OK | OK |
| gewurz | Windows Server 2008 R2 Enterprise (64-bit) / x64 | OK | OK | OK |
| pelham | Mac OS X Leopard (10.5.8) / i386 | OK | OK | OK |
flowQ 1.8.0 F. Hahne
| Last Changed Rev: 46401 / Revision: 49923 | | Last Changed Date: 2010-04-22 11:21:23 -0700 |
| wilson1 | Linux (openSUSE 11.1) / x86_64 | OK | OK | |
| liverpool | Windows Server 2003 R2 (32-bit) / x64 | OK | OK | OK |
| gewurz | Windows Server 2008 R2 Enterprise (64-bit) / x64 | ERROR | skipped | skipped |
| pelham | Mac OS X Leopard (10.5.8) / i386 | OK | OK | OK |
flowStats 1.6.0 Florian Hahne and Chao-Jen Wong
| Last Changed Rev: 46401 / Revision: 49923 | | Last Changed Date: 2010-04-22 11:21:23 -0700 |
| wilson1 | Linux (openSUSE 11.1) / x86_64 | OK | OK | |
| liverpool | Windows Server 2003 R2 (32-bit) / x64 | OK | OK | OK |
| gewurz | Windows Server 2008 R2 Enterprise (64-bit) / x64 | OK | OK | OK |
| pelham | Mac OS X Leopard (10.5.8) / i386 | OK | OK | OK |
flowTrans 1.0.0 Greg Finak
| Last Changed Rev: 46401 / Revision: 49923 | | Last Changed Date: 2010-04-22 11:21:23 -0700 |
| wilson1 | Linux (openSUSE 11.1) / x86_64 | OK | OK | |
| liverpool | Windows Server 2003 R2 (32-bit) / x64 | OK | OK | OK |
| gewurz | Windows Server 2008 R2 Enterprise (64-bit) / x64 | OK | OK | OK |
| pelham | Mac OS X Leopard (10.5.8) / i386 | OK | OK | OK |
flowUtils 1.8.0 Nishant Gopalakrishnan
| Last Changed Rev: 46401 / Revision: 49923 | | Last Changed Date: 2010-04-22 11:21:23 -0700 |
| wilson1 | Linux (openSUSE 11.1) / x86_64 | OK | OK | |
| liverpool | Windows Server 2003 R2 (32-bit) / x64 | OK | OK | OK |
| gewurz | Windows Server 2008 R2 Enterprise (64-bit) / x64 | OK | OK | OK |
| pelham | Mac OS X Leopard (10.5.8) / i386 | OK | OK | OK |
flowViz 1.12.0 Florian Hahne
| Last Changed Rev: 46401 / Revision: 49923 | | Last Changed Date: 2010-04-22 11:21:23 -0700 |
| wilson1 | Linux (openSUSE 11.1) / x86_64 | OK | OK | |
| liverpool | Windows Server 2003 R2 (32-bit) / x64 | OK | OK | OK |
| gewurz | Windows Server 2008 R2 Enterprise (64-bit) / x64 | OK | OK | OK |
| pelham | Mac OS X Leopard (10.5.8) / i386 | OK | OK | OK |
frma 1.0.0 Matthew N. McCall
| Last Changed Rev: 46401 / Revision: 49923 | | Last Changed Date: 2010-04-22 11:21:23 -0700 |
| wilson1 | Linux (openSUSE 11.1) / x86_64 | OK | OK | |
| liverpool | Windows Server 2003 R2 (32-bit) / x64 | OK | OK | OK |
| gewurz | Windows Server 2008 R2 Enterprise (64-bit) / x64 | OK | OK | OK |
| pelham | Mac OS X Leopard (10.5.8) / i386 | OK | OK | OK |
frmaTools 1.0.0 Matthew N. McCall
| Last Changed Rev: 46401 / Revision: 49923 | | Last Changed Date: 2010-04-22 11:21:23 -0700 |
| wilson1 | Linux (openSUSE 11.1) / x86_64 | OK | OK | |
| liverpool | Windows Server 2003 R2 (32-bit) / x64 | OK | OK | OK |
| gewurz | Windows Server 2008 R2 Enterprise (64-bit) / x64 | OK | OK | OK |
| pelham | Mac OS X Leopard (10.5.8) / i386 | OK | OK | OK |
|
| G A B C D E F [G] H I J K L M N O P Q R S T U V W X Y Z |
gaga 1.8.0 David Rossell
| Last Changed Rev: 46401 / Revision: 49923 | | Last Changed Date: 2010-04-22 11:21:23 -0700 |
| wilson1 | Linux (openSUSE 11.1) / x86_64 | OK | OK | |
| liverpool | Windows Server 2003 R2 (32-bit) / x64 | OK | OK | OK |
| gewurz | Windows Server 2008 R2 Enterprise (64-bit) / x64 | OK | OK | OK |
| pelham | Mac OS X Leopard (10.5.8) / i386 | OK | OK | OK |
gaggle 1.16.0 Dan Tenenbaum
| Last Changed Rev: 46401 / Revision: 49923 | | Last Changed Date: 2010-04-22 11:21:23 -0700 |
| wilson1 | Linux (openSUSE 11.1) / x86_64 | OK | OK | |
| liverpool | Windows Server 2003 R2 (32-bit) / x64 | OK | OK | OK |
| gewurz | Windows Server 2008 R2 Enterprise (64-bit) / x64 | OK | OK | OK |
| pelham | Mac OS X Leopard (10.5.8) / i386 | OK | OK | OK |
gcrma 2.20.0 Z. Wu
| Last Changed Rev: 46401 / Revision: 49923 | | Last Changed Date: 2010-04-22 11:21:23 -0700 |
| wilson1 | Linux (openSUSE 11.1) / x86_64 | OK | OK | |
| liverpool | Windows Server 2003 R2 (32-bit) / x64 | OK | OK | OK |
| gewurz | Windows Server 2008 R2 Enterprise (64-bit) / x64 | OK | OK | OK |
| pelham | Mac OS X Leopard (10.5.8) / i386 | OK | OK | OK |
genArise 1.24.0 IFC Development Team
| Last Changed Rev: 46401 / Revision: 49923 | | Last Changed Date: 2010-04-22 11:21:23 -0700 |
| wilson1 | Linux (openSUSE 11.1) / x86_64 | OK | OK | |
| liverpool | Windows Server 2003 R2 (32-bit) / x64 | OK | OK | OK |
| gewurz | Windows Server 2008 R2 Enterprise (64-bit) / x64 | OK | OK | OK |
| pelham | Mac OS X Leopard (10.5.8) / i386 | OK | OK | OK |
gene2pathway 1.6.0 Marc Johannes
| Last Changed Rev: 46401 / Revision: 49923 | | Last Changed Date: 2010-04-22 11:21:23 -0700 |
| wilson1 | Linux (openSUSE 11.1) / x86_64 | OK | OK | |
| liverpool | Windows Server 2003 R2 (32-bit) / x64 | OK | OK | OK |
| gewurz | Windows Server 2008 R2 Enterprise (64-bit) / x64 | OK | OK | OK |
| pelham | Mac OS X Leopard (10.5.8) / i386 | OK | OK | OK |
GeneAnswers 1.4.2 Gang Feng and Pan Du
| Last Changed Rev: 46955 / Revision: 49923 | | Last Changed Date: 2010-05-18 12:41:18 -0700 |
| wilson1 | Linux (openSUSE 11.1) / x86_64 | OK | OK | |
| liverpool | Windows Server 2003 R2 (32-bit) / x64 | OK | OK | OK |
| gewurz | Windows Server 2008 R2 Enterprise (64-bit) / x64 | OK | OK | OK |
| pelham | Mac OS X Leopard (10.5.8) / i386 | OK | OK | OK |
genefilter 1.30.0 Biocore Team c/o BioC user list
| Last Changed Rev: 46401 / Revision: 49923 | | Last Changed Date: 2010-04-22 11:21:23 -0700 |
| wilson1 | Linux (openSUSE 11.1) / x86_64 | OK | OK | |
| liverpool | Windows Server 2003 R2 (32-bit) / x64 | OK | OK | OK |
| gewurz | Windows Server 2008 R2 Enterprise (64-bit) / x64 | OK | OK | OK |
| pelham | Mac OS X Leopard (10.5.8) / i386 | OK | OK | OK |
GeneMeta 1.20.0 Biocore Team c/o BioC user list
| Last Changed Rev: 46401 / Revision: 49923 | | Last Changed Date: 2010-04-22 11:21:23 -0700 |
| wilson1 | Linux (openSUSE 11.1) / x86_64 | OK | OK | |
| liverpool | Windows Server 2003 R2 (32-bit) / x64 | OK | OK | OK |
| gewurz | Windows Server 2008 R2 Enterprise (64-bit) / x64 | OK | OK | OK |
| pelham | Mac OS X Leopard (10.5.8) / i386 | OK | OK | OK |
geneplotter 1.26.0 Biocore Team c/o BioC user list
| Last Changed Rev: 46401 / Revision: 49923 | | Last Changed Date: 2010-04-22 11:21:23 -0700 |
| wilson1 | Linux (openSUSE 11.1) / x86_64 | OK | OK | |
| liverpool | Windows Server 2003 R2 (32-bit) / x64 | OK | OK | OK |
| gewurz | Windows Server 2008 R2 Enterprise (64-bit) / x64 | OK | OK | OK |
| pelham | Mac OS X Leopard (10.5.8) / i386 | OK | OK | OK |
GeneR 2.18.1 Y. d'Aubenton-Carafa
| Last Changed Rev: 47904 / Revision: 49923 | | Last Changed Date: 2010-07-03 07:59:58 -0700 |
| wilson1 | Linux (openSUSE 11.1) / x86_64 | OK | OK | |
| liverpool | Windows Server 2003 R2 (32-bit) / x64 | OK | OK | OK |
| gewurz | Windows Server 2008 R2 Enterprise (64-bit) / x64 | OK | ERROR | OK |
| pelham | Mac OS X Leopard (10.5.8) / i386 | OK | OK | OK |
geneRecommender 1.20.0 Greg Hather
| Last Changed Rev: 46401 / Revision: 49923 | | Last Changed Date: 2010-04-22 11:21:23 -0700 |
| wilson1 | Linux (openSUSE 11.1) / x86_64 | OK | OK | |
| liverpool | Windows Server 2003 R2 (32-bit) / x64 | OK | OK | OK |
| gewurz | Windows Server 2008 R2 Enterprise (64-bit) / x64 | OK | OK | OK |
| pelham | Mac OS X Leopard (10.5.8) / i386 | OK | OK | OK |
GeneRegionScan 1.4.0 Lasse Folkersen
| Last Changed Rev: 46401 / Revision: 49923 | | Last Changed Date: 2010-04-22 11:21:23 -0700 |
| wilson1 | Linux (openSUSE 11.1) / x86_64 | OK | OK | |
| liverpool | Windows Server 2003 R2 (32-bit) / x64 | OK | OK | OK |
| gewurz | Windows Server 2008 R2 Enterprise (64-bit) / x64 | OK | OK | OK |
| pelham | Mac OS X Leopard (10.5.8) / i386 | OK | OK | OK |
GeneRfold 1.6.0 Antoine Lucas
| Last Changed Rev: 46401 / Revision: 49923 | | Last Changed Date: 2010-04-22 11:21:23 -0700 |
| wilson1 | Linux (openSUSE 11.1) / x86_64 | OK | OK | |
| liverpool | Windows Server 2003 R2 (32-bit) / x64 | N O T S U P P O R T E D |
| gewurz | Windows Server 2008 R2 Enterprise (64-bit) / x64 | N O T S U P P O R T E D |
| pelham | Mac OS X Leopard (10.5.8) / i386 | OK | OK | OK |
GeneSelectMMD 1.4.0 Weiliang Qiu
| Last Changed Rev: 46401 / Revision: 49923 | | Last Changed Date: 2010-04-22 11:21:23 -0700 |
| wilson1 | Linux (openSUSE 11.1) / x86_64 | OK | OK | |
| liverpool | Windows Server 2003 R2 (32-bit) / x64 | OK | OK | OK |
| gewurz | Windows Server 2008 R2 Enterprise (64-bit) / x64 | OK | OK | OK |
| pelham | Mac OS X Leopard (10.5.8) / i386 | OK | OK | OK |
GeneSelector 2.4.0 Martin Slawski
| Last Changed Rev: 46401 / Revision: 49923 | | Last Changed Date: 2010-04-22 11:21:23 -0700 |
| wilson1 | Linux (openSUSE 11.1) / x86_64 | OK | OK | |
| liverpool | Windows Server 2003 R2 (32-bit) / x64 | OK | OK | OK |
| gewurz | Windows Server 2008 R2 Enterprise (64-bit) / x64 | OK | OK | OK |
| pelham | Mac OS X Leopard (10.5.8) / i386 | OK | OK | OK |
GeneSpring 2.22.0 Thon de Boer
| Last Changed Rev: 46401 / Revision: 49923 | | Last Changed Date: 2010-04-22 11:21:23 -0700 |
| wilson1 | Linux (openSUSE 11.1) / x86_64 | OK | OK | |
| liverpool | Windows Server 2003 R2 (32-bit) / x64 | OK | OK | OK |
| gewurz | Windows Server 2008 R2 Enterprise (64-bit) / x64 | OK | OK | OK |
| pelham | Mac OS X Leopard (10.5.8) / i386 | OK | OK | OK |
GeneticsBase 1.14.0 The R Genetics Project
| Last Changed Rev: 46401 / Revision: 49923 | | Last Changed Date: 2010-04-22 11:21:23 -0700 |
| wilson1 | Linux (openSUSE 11.1) / x86_64 | OK | WARNINGS | |
| liverpool | Windows Server 2003 R2 (32-bit) / x64 | OK | WARNINGS | OK |
| gewurz | Windows Server 2008 R2 Enterprise (64-bit) / x64 | OK | WARNINGS | OK |
| pelham | Mac OS X Leopard (10.5.8) / i386 | OK | WARNINGS | OK |
GeneticsDesign 1.16.0 The R Genetics Project
| Last Changed Rev: 46401 / Revision: 49923 | | Last Changed Date: 2010-04-22 11:21:23 -0700 |
| wilson1 | Linux (openSUSE 11.1) / x86_64 | OK | OK | |
| liverpool | Windows Server 2003 R2 (32-bit) / x64 | OK | OK | OK |
| gewurz | Windows Server 2008 R2 Enterprise (64-bit) / x64 | OK | OK | OK |
| pelham | Mac OS X Leopard (10.5.8) / i386 | OK | OK | OK |
GeneticsPed 1.10.0 David Henderson
| Last Changed Rev: 46401 / Revision: 49923 | | Last Changed Date: 2010-04-22 11:21:23 -0700 |
| wilson1 | Linux (openSUSE 11.1) / x86_64 | OK | OK | |
| liverpool | Windows Server 2003 R2 (32-bit) / x64 | OK | OK | OK |
| gewurz | Windows Server 2008 R2 Enterprise (64-bit) / x64 | OK | OK | OK |
| pelham | Mac OS X Leopard (10.5.8) / i386 | OK | OK | OK |
GeneTraffic 1.20.0 Daniel Iordan
| Last Changed Rev: 46401 / Revision: 49923 | | Last Changed Date: 2010-04-22 11:21:23 -0700 |
| wilson1 | Linux (openSUSE 11.1) / x86_64 | OK | OK | |
| liverpool | Windows Server 2003 R2 (32-bit) / x64 | OK | OK | OK |
| gewurz | Windows Server 2008 R2 Enterprise (64-bit) / x64 | OK | OK | OK |
| pelham | Mac OS X Leopard (10.5.8) / i386 | OK | OK | OK |
genoCN 1.0.0 Wei Sun
| Last Changed Rev: 46401 / Revision: 49923 | | Last Changed Date: 2010-04-22 11:21:23 -0700 |
| wilson1 | Linux (openSUSE 11.1) / x86_64 | OK | OK | |
| liverpool | Windows Server 2003 R2 (32-bit) / x64 | OK | OK | OK |
| gewurz | Windows Server 2008 R2 Enterprise (64-bit) / x64 | OK | OK | OK |
| pelham | Mac OS X Leopard (10.5.8) / i386 | OK | OK | OK |
GenomeGraphs 1.8.0 Steffen Durinck
| Last Changed Rev: 46401 / Revision: 49923 | | Last Changed Date: 2010-04-22 11:21:23 -0700 |
| wilson1 | Linux (openSUSE 11.1) / x86_64 | OK | OK | |
| liverpool | Windows Server 2003 R2 (32-bit) / x64 | OK | OK | OK |
| gewurz | Windows Server 2008 R2 Enterprise (64-bit) / x64 | OK | OK | OK |
| pelham | Mac OS X Leopard (10.5.8) / i386 | OK | OK | OK |
genomeIntervals 1.4.0 Julien Gagneur
| Last Changed Rev: 46401 / Revision: 49923 | | Last Changed Date: 2010-04-22 11:21:23 -0700 |
| wilson1 | Linux (openSUSE 11.1) / x86_64 | OK | OK | |
| liverpool | Windows Server 2003 R2 (32-bit) / x64 | OK | OK | OK |
| gewurz | Windows Server 2008 R2 Enterprise (64-bit) / x64 | OK | OK | OK |
| pelham | Mac OS X Leopard (10.5.8) / i386 | OK | OK | OK |
genomes 1.4.0 Chris Stubben
| Last Changed Rev: 48051 / Revision: 49923 | | Last Changed Date: 2010-07-09 16:15:59 -0700 |
| wilson1 | Linux (openSUSE 11.1) / x86_64 | OK | OK | |
| liverpool | Windows Server 2003 R2 (32-bit) / x64 | OK | OK | OK |
| gewurz | Windows Server 2008 R2 Enterprise (64-bit) / x64 | OK | OK | OK |
| pelham | Mac OS X Leopard (10.5.8) / i386 | OK | OK | OK |
GenomicFeatures 1.0.10 Biocore Team c/o BioC user list
| Last Changed Rev: 48832 / Revision: 49923 | | Last Changed Date: 2010-08-16 11:38:04 -0700 |
| wilson1 | Linux (openSUSE 11.1) / x86_64 | OK | ERROR | |
| liverpool | Windows Server 2003 R2 (32-bit) / x64 | OK | ERROR | OK |
| gewurz | Windows Server 2008 R2 Enterprise (64-bit) / x64 | OK | ERROR | OK |
| pelham | Mac OS X Leopard (10.5.8) / i386 | OK | ERROR | OK |
GenomicRanges 1.0.9 Biocore Team c/o BioC user list
| Last Changed Rev: 49071 / Revision: 49923 | | Last Changed Date: 2010-08-27 19:20:48 -0700 |
| wilson1 | Linux (openSUSE 11.1) / x86_64 | OK | OK | |
| liverpool | Windows Server 2003 R2 (32-bit) / x64 | OK | OK | OK |
| gewurz | Windows Server 2008 R2 Enterprise (64-bit) / x64 | OK | OK | OK |
| pelham | Mac OS X Leopard (10.5.8) / i386 | OK | OK | OK |
Genominator 1.2.0 James Bullard
| Last Changed Rev: 46401 / Revision: 49923 | | Last Changed Date: 2010-04-22 11:21:23 -0700 |
| wilson1 | Linux (openSUSE 11.1) / x86_64 | OK | OK | |
| liverpool | Windows Server 2003 R2 (32-bit) / x64 | ERROR | skipped | skipped |
| gewurz | Windows Server 2008 R2 Enterprise (64-bit) / x64 | ERROR | skipped | skipped |
| pelham | Mac OS X Leopard (10.5.8) / i386 | OK | OK | OK |
GEOmetadb 1.8.0 Jack Zhu
| Last Changed Rev: 46401 / Revision: 49923 | | Last Changed Date: 2010-04-22 11:21:23 -0700 |
| wilson1 | Linux (openSUSE 11.1) / x86_64 | OK | OK | |
| liverpool | Windows Server 2003 R2 (32-bit) / x64 | OK | OK | OK |
| gewurz | Windows Server 2008 R2 Enterprise (64-bit) / x64 | OK | OK | OK |
| pelham | Mac OS X Leopard (10.5.8) / i386 | OK | OK | OK |
GEOquery 2.13.7 Sean Davis
| Last Changed Rev: 49720 / Revision: 49923 | | Last Changed Date: 2010-09-30 00:38:52 -0700 |
| wilson1 | Linux (openSUSE 11.1) / x86_64 | ERROR | skipped | |
| liverpool | Windows Server 2003 R2 (32-bit) / x64 | OK | OK | OK |
| gewurz | Windows Server 2008 R2 Enterprise (64-bit) / x64 | OK | OK | OK |
| pelham | Mac OS X Leopard (10.5.8) / i386 | OK | OK | OK |
GEOsubmission 1.0.0 Alexandre Kuhn
| Last Changed Rev: 46401 / Revision: 49923 | | Last Changed Date: 2010-04-22 11:21:23 -0700 |
| wilson1 | Linux (openSUSE 11.1) / x86_64 | OK | OK | |
| liverpool | Windows Server 2003 R2 (32-bit) / x64 | OK | OK | OK |
| gewurz | Windows Server 2008 R2 Enterprise (64-bit) / x64 | OK | OK | OK |
| pelham | Mac OS X Leopard (10.5.8) / i386 | OK | OK | OK |
GGBase 3.8.0 Vince Carey
| Last Changed Rev: 46401 / Revision: 49923 | | Last Changed Date: 2010-04-22 11:21:23 -0700 |
| wilson1 | Linux (openSUSE 11.1) / x86_64 | OK | OK | |
| liverpool | Windows Server 2003 R2 (32-bit) / x64 | OK | OK | OK |
| gewurz | Windows Server 2008 R2 Enterprise (64-bit) / x64 | OK | OK | OK |
| pelham | Mac OS X Leopard (10.5.8) / i386 | OK | OK | OK |
GGtools 3.6.1 Vince Carey
| Last Changed Rev: 48838 / Revision: 49923 | | Last Changed Date: 2010-08-17 07:24:37 -0700 |
| wilson1 | Linux (openSUSE 11.1) / x86_64 | OK | OK | |
| liverpool | Windows Server 2003 R2 (32-bit) / x64 | OK | OK | OK |
| gewurz | Windows Server 2008 R2 Enterprise (64-bit) / x64 | OK | OK | OK |
| pelham | Mac OS X Leopard (10.5.8) / i386 | OK | OK | OK |
girafe 1.0.0 J. Toedling
| Last Changed Rev: 46401 / Revision: 49923 | | Last Changed Date: 2010-04-22 11:21:23 -0700 |
| wilson1 | Linux (openSUSE 11.1) / x86_64 | OK | OK | |
| liverpool | Windows Server 2003 R2 (32-bit) / x64 | OK | OK | OK |
| gewurz | Windows Server 2008 R2 Enterprise (64-bit) / x64 | OK | OK | OK |
| pelham | Mac OS X Leopard (10.5.8) / i386 | OK | OK | OK |
GLAD 2.10.0 Philippe Hupe
| Last Changed Rev: 47149 / Revision: 49923 | | Last Changed Date: 2010-05-26 11:24:55 -0700 |
| wilson1 | Linux (openSUSE 11.1) / x86_64 | OK | OK | |
| liverpool | Windows Server 2003 R2 (32-bit) / x64 | OK | OK | OK |
| gewurz | Windows Server 2008 R2 Enterprise (64-bit) / x64 | OK | OK | OK |
| pelham | Mac OS X Leopard (10.5.8) / i386 | OK | OK | OK |
GlobalAncova 3.16.0 R. Meister
| Last Changed Rev: 46467 / Revision: 49923 | | Last Changed Date: 2010-04-23 09:18:01 -0700 |
| wilson1 | Linux (openSUSE 11.1) / x86_64 | OK | OK | |
| liverpool | Windows Server 2003 R2 (32-bit) / x64 | OK | OK | OK |
| gewurz | Windows Server 2008 R2 Enterprise (64-bit) / x64 | OK | OK | OK |
| pelham | Mac OS X Leopard (10.5.8) / i386 | OK | OK | OK |
globaltest 5.2.0 Jelle Goeman
| Last Changed Rev: 46401 / Revision: 49923 | | Last Changed Date: 2010-04-22 11:21:23 -0700 |
| wilson1 | Linux (openSUSE 11.1) / x86_64 | OK | OK | |
| liverpool | Windows Server 2003 R2 (32-bit) / x64 | OK | OK | OK |
| gewurz | Windows Server 2008 R2 Enterprise (64-bit) / x64 | OK | OK | OK |
| pelham | Mac OS X Leopard (10.5.8) / i386 | OK | OK | OK |
goProfiles 1.10.0 Alex Sanchez
| Last Changed Rev: 46401 / Revision: 49923 | | Last Changed Date: 2010-04-22 11:21:23 -0700 |
| wilson1 | Linux (openSUSE 11.1) / x86_64 | OK | OK | |
| liverpool | Windows Server 2003 R2 (32-bit) / x64 | OK | OK | OK |
| gewurz | Windows Server 2008 R2 Enterprise (64-bit) / x64 | OK | OK | OK |
| pelham | Mac OS X Leopard (10.5.8) / i386 | OK | OK | OK |
GOSemSim 1.6.8 Guangchuang Yu
| Last Changed Rev: 49185 / Revision: 49923 | | Last Changed Date: 2010-09-01 04:00:10 -0700 |
| wilson1 | Linux (openSUSE 11.1) / x86_64 | OK | OK | |
| liverpool | Windows Server 2003 R2 (32-bit) / x64 | OK | OK | OK |
| gewurz | Windows Server 2008 R2 Enterprise (64-bit) / x64 | OK | OK | OK |
| pelham | Mac OS X Leopard (10.5.8) / i386 | OK | OK | OK |
goseq 1.0.3 Matthew Young
| Last Changed Rev: 47750 / Revision: 49923 | | Last Changed Date: 2010-06-29 21:12:50 -0700 |
| wilson1 | Linux (openSUSE 11.1) / x86_64 | OK | OK | |
| liverpool | Windows Server 2003 R2 (32-bit) / x64 | OK | OK | OK |
| gewurz | Windows Server 2008 R2 Enterprise (64-bit) / x64 | OK | OK | OK |
| pelham | Mac OS X Leopard (10.5.8) / i386 | OK | OK | OK |
GOstats 2.14.0 Robert Gentleman
| Last Changed Rev: 46401 / Revision: 49923 | | Last Changed Date: 2010-04-22 11:21:23 -0700 |
| wilson1 | Linux (openSUSE 11.1) / x86_64 | OK | OK | |
| liverpool | Windows Server 2003 R2 (32-bit) / x64 | OK | OK | OK |
| gewurz | Windows Server 2008 R2 Enterprise (64-bit) / x64 | OK | OK | OK |
| pelham | Mac OS X Leopard (10.5.8) / i386 | OK | OK | OK |
goTools 1.22.0 Agnes Paquet
| Last Changed Rev: 46401 / Revision: 49923 | | Last Changed Date: 2010-04-22 11:21:23 -0700 |
| wilson1 | Linux (openSUSE 11.1) / x86_64 | OK | OK | |
| liverpool | Windows Server 2003 R2 (32-bit) / x64 | OK | OK | OK |
| gewurz | Windows Server 2008 R2 Enterprise (64-bit) / x64 | OK | OK | OK |
| pelham | Mac OS X Leopard (10.5.8) / i386 | OK | OK | OK |
gpls 1.20.0 Biocore Team c/o BioC user list
| Last Changed Rev: 46401 / Revision: 49923 | | Last Changed Date: 2010-04-22 11:21:23 -0700 |
| wilson1 | Linux (openSUSE 11.1) / x86_64 | OK | OK | |
| liverpool | Windows Server 2003 R2 (32-bit) / x64 | OK | OK | OK |
| gewurz | Windows Server 2008 R2 Enterprise (64-bit) / x64 | OK | OK | OK |
| pelham | Mac OS X Leopard (10.5.8) / i386 | OK | OK | OK |
graph 1.26.0 Seth Falcon
| Last Changed Rev: 46401 / Revision: 49923 | | Last Changed Date: 2010-04-22 11:21:23 -0700 |
| wilson1 | Linux (openSUSE 11.1) / x86_64 | OK | OK | |
| liverpool | Windows Server 2003 R2 (32-bit) / x64 | OK | WARNINGS | OK |
| gewurz | Windows Server 2008 R2 Enterprise (64-bit) / x64 | OK | WARNINGS | OK |
| pelham | Mac OS X Leopard (10.5.8) / i386 | OK | OK | OK |
GraphAlignment 1.10.0 Joern P. Meier
| Last Changed Rev: 46401 / Revision: 49923 | | Last Changed Date: 2010-04-22 11:21:23 -0700 |
| wilson1 | Linux (openSUSE 11.1) / x86_64 | OK | OK | |
| liverpool | Windows Server 2003 R2 (32-bit) / x64 | OK | OK | OK |
| gewurz | Windows Server 2008 R2 Enterprise (64-bit) / x64 | OK | OK | OK |
| pelham | Mac OS X Leopard (10.5.8) / i386 | OK | OK | OK |
GraphAT 1.20.0 Thomas LaFramboise
| Last Changed Rev: 46401 / Revision: 49923 | | Last Changed Date: 2010-04-22 11:21:23 -0700 |
| wilson1 | Linux (openSUSE 11.1) / x86_64 | OK | OK | |
| liverpool | Windows Server 2003 R2 (32-bit) / x64 | OK | OK | OK |
| gewurz | Windows Server 2008 R2 Enterprise (64-bit) / x64 | OK | OK | OK |
| pelham | Mac OS X Leopard (10.5.8) / i386 | OK | OK | OK |
GSEABase 1.10.0 Biocore Team c/o BioC user list
| Last Changed Rev: 46401 / Revision: 49923 | | Last Changed Date: 2010-04-22 11:21:23 -0700 |
| wilson1 | Linux (openSUSE 11.1) / x86_64 | OK | OK | |
| liverpool | Windows Server 2003 R2 (32-bit) / x64 | OK | OK | OK |
| gewurz | Windows Server 2008 R2 Enterprise (64-bit) / x64 | OK | OK | OK |
| pelham | Mac OS X Leopard (10.5.8) / i386 | OK | OK | OK |
GSEAlm 1.8.0 Assaf Oron
| Last Changed Rev: 46401 / Revision: 49923 | | Last Changed Date: 2010-04-22 11:21:23 -0700 |
| wilson1 | Linux (openSUSE 11.1) / x86_64 | OK | OK | |
| liverpool | Windows Server 2003 R2 (32-bit) / x64 | OK | OK | OK |
| gewurz | Windows Server 2008 R2 Enterprise (64-bit) / x64 | OK | OK | OK |
| pelham | Mac OS X Leopard (10.5.8) / i386 | OK | OK | OK |
GSRI 1.0.0 Julian Gehring
| Last Changed Rev: 46401 / Revision: 49923 | | Last Changed Date: 2010-04-22 11:21:23 -0700 |
| wilson1 | Linux (openSUSE 11.1) / x86_64 | OK | OK | |
| liverpool | Windows Server 2003 R2 (32-bit) / x64 | OK | OK | OK |
| gewurz | Windows Server 2008 R2 Enterprise (64-bit) / x64 | OK | OK | OK |
| pelham | Mac OS X Leopard (10.5.8) / i386 | OK | OK | OK |
|
| H A B C D E F G [H] I J K L M N O P Q R S T U V W X Y Z |
Harshlight 1.18.0 Maurizio Pellegrino
| Last Changed Rev: 46401 / Revision: 49923 | | Last Changed Date: 2010-04-22 11:21:23 -0700 |
| wilson1 | Linux (openSUSE 11.1) / x86_64 | OK | OK | |
| liverpool | Windows Server 2003 R2 (32-bit) / x64 | OK | OK | OK |
| gewurz | Windows Server 2008 R2 Enterprise (64-bit) / x64 | OK | OK | OK |
| pelham | Mac OS X Leopard (10.5.8) / i386 | OK | OK | OK |
Heatplus 1.18.0 Alexander Ploner
| Last Changed Rev: 46401 / Revision: 49923 | | Last Changed Date: 2010-04-22 11:21:23 -0700 |
| wilson1 | Linux (openSUSE 11.1) / x86_64 | OK | OK | |
| liverpool | Windows Server 2003 R2 (32-bit) / x64 | OK | OK | OK |
| gewurz | Windows Server 2008 R2 Enterprise (64-bit) / x64 | OK | OK | OK |
| pelham | Mac OS X Leopard (10.5.8) / i386 | OK | OK | OK |
HELP 1.6.0 Reid F. Thompson
| Last Changed Rev: 46401 / Revision: 49923 | | Last Changed Date: 2010-04-22 11:21:23 -0700 |
| wilson1 | Linux (openSUSE 11.1) / x86_64 | OK | OK | |
| liverpool | Windows Server 2003 R2 (32-bit) / x64 | OK | OK | OK |
| gewurz | Windows Server 2008 R2 Enterprise (64-bit) / x64 | OK | OK | OK |
| pelham | Mac OS X Leopard (10.5.8) / i386 | OK | OK | OK |
HEM 1.20.0 HyungJun Cho
| Last Changed Rev: 46401 / Revision: 49923 | | Last Changed Date: 2010-04-22 11:21:23 -0700 |
| wilson1 | Linux (openSUSE 11.1) / x86_64 | OK | OK | |
| liverpool | Windows Server 2003 R2 (32-bit) / x64 | OK | OK | OK |
| gewurz | Windows Server 2008 R2 Enterprise (64-bit) / x64 | OK | OK | OK |
| pelham | Mac OS X Leopard (10.5.8) / i386 | OK | OK | OK |
hexbin 1.22.0 Nicholas Lewin-Koh
| Last Changed Rev: 46401 / Revision: 49923 | | Last Changed Date: 2010-04-22 11:21:23 -0700 |
| wilson1 | Linux (openSUSE 11.1) / x86_64 | OK | OK | |
| liverpool | Windows Server 2003 R2 (32-bit) / x64 | OK | OK | OK |
| gewurz | Windows Server 2008 R2 Enterprise (64-bit) / x64 | OK | OK | OK |
| pelham | Mac OS X Leopard (10.5.8) / i386 | OK | OK | OK |
HilbertVis 1.6.0 Simon Anders
| Last Changed Rev: 46401 / Revision: 49923 | | Last Changed Date: 2010-04-22 11:21:23 -0700 |
| wilson1 | Linux (openSUSE 11.1) / x86_64 | OK | OK | |
| liverpool | Windows Server 2003 R2 (32-bit) / x64 | OK | OK | OK |
| gewurz | Windows Server 2008 R2 Enterprise (64-bit) / x64 | N O T S U P P O R T E D |
| pelham | Mac OS X Leopard (10.5.8) / i386 | OK | ERROR | OK |
HilbertVisGUI 1.6.0 Simon Anders
| Last Changed Rev: 46401 / Revision: 49923 | | Last Changed Date: 2010-04-22 11:21:23 -0700 |
| wilson1 | Linux (openSUSE 11.1) / x86_64 | OK | OK | |
| liverpool | Windows Server 2003 R2 (32-bit) / x64 | OK | WARNINGS | OK |
| gewurz | Windows Server 2008 R2 Enterprise (64-bit) / x64 | N O T S U P P O R T E D |
| pelham | Mac OS X Leopard (10.5.8) / i386 | OK | OK | OK |
hopach 2.8.0 Katherine S. Pollard
| Last Changed Rev: 46401 / Revision: 49923 | | Last Changed Date: 2010-04-22 11:21:23 -0700 |
| wilson1 | Linux (openSUSE 11.1) / x86_64 | OK | OK | |
| liverpool | Windows Server 2003 R2 (32-bit) / x64 | OK | OK | OK |
| gewurz | Windows Server 2008 R2 Enterprise (64-bit) / x64 | OK | OK | OK |
| pelham | Mac OS X Leopard (10.5.8) / i386 | OK | OK | OK |
HTqPCR 1.2.0 Heidi Dvinge
| Last Changed Rev: 46401 / Revision: 49923 | | Last Changed Date: 2010-04-22 11:21:23 -0700 |
| wilson1 | Linux (openSUSE 11.1) / x86_64 | OK | OK | |
| liverpool | Windows Server 2003 R2 (32-bit) / x64 | OK | OK | OK |
| gewurz | Windows Server 2008 R2 Enterprise (64-bit) / x64 | OK | OK | OK |
| pelham | Mac OS X Leopard (10.5.8) / i386 | OK | OK | OK |
hyperdraw 1.0.0 Paul Murrell
| Last Changed Rev: 46401 / Revision: 49923 | | Last Changed Date: 2010-04-22 11:21:23 -0700 |
| wilson1 | Linux (openSUSE 11.1) / x86_64 | OK | OK | |
| liverpool | Windows Server 2003 R2 (32-bit) / x64 | OK | OK | OK |
| gewurz | Windows Server 2008 R2 Enterprise (64-bit) / x64 | OK | OK | OK |
| pelham | Mac OS X Leopard (10.5.8) / i386 | OK | OK | OK |
hypergraph 1.20.0 Robert Gentleman
| Last Changed Rev: 46401 / Revision: 49923 | | Last Changed Date: 2010-04-22 11:21:23 -0700 |
| wilson1 | Linux (openSUSE 11.1) / x86_64 | OK | OK | |
| liverpool | Windows Server 2003 R2 (32-bit) / x64 | OK | OK | OK |
| gewurz | Windows Server 2008 R2 Enterprise (64-bit) / x64 | OK | OK | OK |
| pelham | Mac OS X Leopard (10.5.8) / i386 | OK | OK | OK |
|
| I A B C D E F G H [I] J K L M N O P Q R S T U V W X Y Z |
Icens 1.20.0 Biocore Team c/o BioC user list
| Last Changed Rev: 46401 / Revision: 49923 | | Last Changed Date: 2010-04-22 11:21:23 -0700 |
| wilson1 | Linux (openSUSE 11.1) / x86_64 | OK | OK | |
| liverpool | Windows Server 2003 R2 (32-bit) / x64 | OK | OK | OK |
| gewurz | Windows Server 2008 R2 Enterprise (64-bit) / x64 | OK | OK | OK |
| pelham | Mac OS X Leopard (10.5.8) / i386 | OK | OK | OK |
iChip 1.0.0 Qianxing Mo
| Last Changed Rev: 46401 / Revision: 49923 | | Last Changed Date: 2010-04-22 11:21:23 -0700 |
| wilson1 | Linux (openSUSE 11.1) / x86_64 | OK | OK | |
| liverpool | Windows Server 2003 R2 (32-bit) / x64 | OK | OK | OK |
| gewurz | Windows Server 2008 R2 Enterprise (64-bit) / x64 | OK | OK | OK |
| pelham | Mac OS X Leopard (10.5.8) / i386 | OK | OK | OK |
idiogram 1.24.0 Karl J. Dykema
| Last Changed Rev: 46401 / Revision: 49923 | | Last Changed Date: 2010-04-22 11:21:23 -0700 |
| wilson1 | Linux (openSUSE 11.1) / x86_64 | OK | OK | |
| liverpool | Windows Server 2003 R2 (32-bit) / x64 | OK | OK | OK |
| gewurz | Windows Server 2008 R2 Enterprise (64-bit) / x64 | OK | OK | OK |
| pelham | Mac OS X Leopard (10.5.8) / i386 | OK | OK | OK |
iFlow 2.2.0 Kyongryun Lee
| Last Changed Rev: 46401 / Revision: 49923 | | Last Changed Date: 2010-04-22 11:21:23 -0700 |
| wilson1 | Linux (openSUSE 11.1) / x86_64 | OK | OK | |
| liverpool | Windows Server 2003 R2 (32-bit) / x64 | OK | OK | OK |
| gewurz | Windows Server 2008 R2 Enterprise (64-bit) / x64 | N O T S U P P O R T E D |
| pelham | Mac OS X Leopard (10.5.8) / i386 | OK | OK | OK |
impute 1.22.0 Balasubramanian Narasimhan
| Last Changed Rev: 46401 / Revision: 49923 | | Last Changed Date: 2010-04-22 11:21:23 -0700 |
| wilson1 | Linux (openSUSE 11.1) / x86_64 | OK | OK | |
| liverpool | Windows Server 2003 R2 (32-bit) / x64 | OK | OK | OK |
| gewurz | Windows Server 2008 R2 Enterprise (64-bit) / x64 | OK | OK | OK |
| pelham | Mac OS X Leopard (10.5.8) / i386 | OK | OK | OK |
IRanges 1.6.17 Biocore Team c/o BioC user list
| Last Changed Rev: 49355 / Revision: 49923 | | Last Changed Date: 2010-09-11 16:34:58 -0700 |
| wilson1 | Linux (openSUSE 11.1) / x86_64 | OK | WARNINGS | |
| liverpool | Windows Server 2003 R2 (32-bit) / x64 | OK | WARNINGS | OK |
| gewurz | Windows Server 2008 R2 Enterprise (64-bit) / x64 | OK | WARNINGS | OK |
| pelham | Mac OS X Leopard (10.5.8) / i386 | OK | WARNINGS | OK |
ITALICS 2.8.0 Guillem Rigaill
| Last Changed Rev: 47149 / Revision: 49923 | | Last Changed Date: 2010-05-26 11:24:55 -0700 |
| wilson1 | Linux (openSUSE 11.1) / x86_64 | OK | OK | |
| liverpool | Windows Server 2003 R2 (32-bit) / x64 | OK | OK | OK |
| gewurz | Windows Server 2008 R2 Enterprise (64-bit) / x64 | OK | OK | OK |
| pelham | Mac OS X Leopard (10.5.8) / i386 | OK | OK | OK |
iterativeBMA 1.6.0 Ka Yee Yeung
| Last Changed Rev: 46401 / Revision: 49923 | | Last Changed Date: 2010-04-22 11:21:23 -0700 |
| wilson1 | Linux (openSUSE 11.1) / x86_64 | OK | OK | |
| liverpool | Windows Server 2003 R2 (32-bit) / x64 | OK | OK | OK |
| gewurz | Windows Server 2008 R2 Enterprise (64-bit) / x64 | OK | OK | OK |
| pelham | Mac OS X Leopard (10.5.8) / i386 | OK | OK | OK |
iterativeBMAsurv 1.6.0 Ka Yee Yeung
| Last Changed Rev: 46401 / Revision: 49923 | | Last Changed Date: 2010-04-22 11:21:23 -0700 |
| wilson1 | Linux (openSUSE 11.1) / x86_64 | OK | OK | |
| liverpool | Windows Server 2003 R2 (32-bit) / x64 | OK | OK | OK |
| gewurz | Windows Server 2008 R2 Enterprise (64-bit) / x64 | OK | OK | OK |
| pelham | Mac OS X Leopard (10.5.8) / i386 | OK | OK | OK |
|
| K A B C D E F G H I J [K] L M N O P Q R S T U V W X Y Z |
KCsmart 2.6.0 Jorma de Ronde
| Last Changed Rev: 46401 / Revision: 49923 | | Last Changed Date: 2010-04-22 11:21:23 -0700 |
| wilson1 | Linux (openSUSE 11.1) / x86_64 | OK | OK | |
| liverpool | Windows Server 2003 R2 (32-bit) / x64 | OK | OK | OK |
| gewurz | Windows Server 2008 R2 Enterprise (64-bit) / x64 | OK | OK | OK |
| pelham | Mac OS X Leopard (10.5.8) / i386 | OK | OK | OK |
KEGGgraph 1.4.0 Jitao David Zhang
| Last Changed Rev: 46401 / Revision: 49923 | | Last Changed Date: 2010-04-22 11:21:23 -0700 |
| wilson1 | Linux (openSUSE 11.1) / x86_64 | OK | OK | |
| liverpool | Windows Server 2003 R2 (32-bit) / x64 | OK | OK | OK |
| gewurz | Windows Server 2008 R2 Enterprise (64-bit) / x64 | OK | OK | OK |
| pelham | Mac OS X Leopard (10.5.8) / i386 | OK | OK | OK |
keggorthology 2.0.1 VJ Carey
| Last Changed Rev: 46941 / Revision: 49923 | | Last Changed Date: 2010-05-18 10:09:52 -0700 |
| wilson1 | Linux (openSUSE 11.1) / x86_64 | OK | OK | |
| liverpool | Windows Server 2003 R2 (32-bit) / x64 | OK | OK | OK |
| gewurz | Windows Server 2008 R2 Enterprise (64-bit) / x64 | OK | OK | OK |
| pelham | Mac OS X Leopard (10.5.8) / i386 | OK | OK | OK |
KEGGSOAP 1.22.0 Robert Gentleman
| Last Changed Rev: 46401 / Revision: 49923 | | Last Changed Date: 2010-04-22 11:21:23 -0700 |
| wilson1 | Linux (openSUSE 11.1) / x86_64 | OK | OK | |
| liverpool | Windows Server 2003 R2 (32-bit) / x64 | OK | OK | OK |
| gewurz | Windows Server 2008 R2 Enterprise (64-bit) / x64 | OK | OK | OK |
| pelham | Mac OS X Leopard (10.5.8) / i386 | OK | OK | OK |
|
| L A B C D E F G H I J K [L] M N O P Q R S T U V W X Y Z |
lapmix 1.14.0 Yann Ruffieux
| Last Changed Rev: 46401 / Revision: 49923 | | Last Changed Date: 2010-04-22 11:21:23 -0700 |
| wilson1 | Linux (openSUSE 11.1) / x86_64 | OK | OK | |
| liverpool | Windows Server 2003 R2 (32-bit) / x64 | OK | OK | OK |
| gewurz | Windows Server 2008 R2 Enterprise (64-bit) / x64 | OK | OK | OK |
| pelham | Mac OS X Leopard (10.5.8) / i386 | OK | OK | OK |
LBE 1.16.0 Cyril Dalmasso
| Last Changed Rev: 46401 / Revision: 49923 | | Last Changed Date: 2010-04-22 11:21:23 -0700 |
| wilson1 | Linux (openSUSE 11.1) / x86_64 | OK | OK | |
| liverpool | Windows Server 2003 R2 (32-bit) / x64 | OK | OK | OK |
| gewurz | Windows Server 2008 R2 Enterprise (64-bit) / x64 | OK | OK | OK |
| pelham | Mac OS X Leopard (10.5.8) / i386 | OK | OK | OK |
limma 3.4.5 Gordon Smyth
| Last Changed Rev: 49285 / Revision: 49923 | | Last Changed Date: 2010-09-07 22:57:09 -0700 |
| wilson1 | Linux (openSUSE 11.1) / x86_64 | OK | OK | |
| liverpool | Windows Server 2003 R2 (32-bit) / x64 | OK | OK | OK |
| gewurz | Windows Server 2008 R2 Enterprise (64-bit) / x64 | OK | OK | OK |
| pelham | Mac OS X Leopard (10.5.8) / i386 | OK | OK | OK |
limmaGUI 1.24.0 Keith Satterley
| Last Changed Rev: 46401 / Revision: 49923 | | Last Changed Date: 2010-04-22 11:21:23 -0700 |
| wilson1 | Linux (openSUSE 11.1) / x86_64 | OK | OK | |
| liverpool | Windows Server 2003 R2 (32-bit) / x64 | OK | OK | OK |
| gewurz | Windows Server 2008 R2 Enterprise (64-bit) / x64 | OK | OK | OK |
| pelham | Mac OS X Leopard (10.5.8) / i386 | OK | OK | OK |
LiquidAssociation 1.2.0 Yen-Yi Ho
| Last Changed Rev: 46401 / Revision: 49923 | | Last Changed Date: 2010-04-22 11:21:23 -0700 |
| wilson1 | Linux (openSUSE 11.1) / x86_64 | OK | OK | |
| liverpool | Windows Server 2003 R2 (32-bit) / x64 | OK | OK | OK |
| gewurz | Windows Server 2008 R2 Enterprise (64-bit) / x64 | OK | OK | OK |
| pelham | Mac OS X Leopard (10.5.8) / i386 | OK | OK | OK |
LMGene 2.4.0 Blythe Durbin-Johnson
| Last Changed Rev: 46401 / Revision: 49923 | | Last Changed Date: 2010-04-22 11:21:23 -0700 |
| wilson1 | Linux (openSUSE 11.1) / x86_64 | OK | OK | |
| liverpool | Windows Server 2003 R2 (32-bit) / x64 | OK | OK | OK |
| gewurz | Windows Server 2008 R2 Enterprise (64-bit) / x64 | OK | OK | OK |
| pelham | Mac OS X Leopard (10.5.8) / i386 | OK | OK | OK |
logicFS 1.18.0 Holger Schwender
| Last Changed Rev: 46401 / Revision: 49923 | | Last Changed Date: 2010-04-22 11:21:23 -0700 |
| wilson1 | Linux (openSUSE 11.1) / x86_64 | OK | OK | |
| liverpool | Windows Server 2003 R2 (32-bit) / x64 | OK | OK | OK |
| gewurz | Windows Server 2008 R2 Enterprise (64-bit) / x64 | OK | OK | OK |
| pelham | Mac OS X Leopard (10.5.8) / i386 | OK | OK | OK |
logitT 1.6.0 Tobias Guennel
| Last Changed Rev: 46401 / Revision: 49923 | | Last Changed Date: 2010-04-22 11:21:23 -0700 |
| wilson1 | Linux (openSUSE 11.1) / x86_64 | OK | OK | |
| liverpool | Windows Server 2003 R2 (32-bit) / x64 | OK | OK | OK |
| gewurz | Windows Server 2008 R2 Enterprise (64-bit) / x64 | OK | OK | OK |
| pelham | Mac OS X Leopard (10.5.8) / i386 | OK | OK | OK |
LPE 1.22.0 Nitin Jain
| Last Changed Rev: 46401 / Revision: 49923 | | Last Changed Date: 2010-04-22 11:21:23 -0700 |
| wilson1 | Linux (openSUSE 11.1) / x86_64 | OK | OK | |
| liverpool | Windows Server 2003 R2 (32-bit) / x64 | OK | OK | OK |
| gewurz | Windows Server 2008 R2 Enterprise (64-bit) / x64 | OK | OK | OK |
| pelham | Mac OS X Leopard (10.5.8) / i386 | OK | OK | OK |
LPEadj 1.8.0 Carl Murie
| Last Changed Rev: 46401 / Revision: 49923 | | Last Changed Date: 2010-04-22 11:21:23 -0700 |
| wilson1 | Linux (openSUSE 11.1) / x86_64 | OK | OK | |
| liverpool | Windows Server 2003 R2 (32-bit) / x64 | OK | OK | OK |
| gewurz | Windows Server 2008 R2 Enterprise (64-bit) / x64 | OK | OK | OK |
| pelham | Mac OS X Leopard (10.5.8) / i386 | OK | OK | OK |
lumi 1.14.0 Pan Du
| Last Changed Rev: 46401 / Revision: 49923 | | Last Changed Date: 2010-04-22 11:21:23 -0700 |
| wilson1 | Linux (openSUSE 11.1) / x86_64 | OK | OK | |
| liverpool | Windows Server 2003 R2 (32-bit) / x64 | OK | OK | OK |
| gewurz | Windows Server 2008 R2 Enterprise (64-bit) / x64 | OK | OK | OK |
| pelham | Mac OS X Leopard (10.5.8) / i386 | OK | OK | OK |
|
| M A B C D E F G H I J K L [M] N O P Q R S T U V W X Y Z |
maanova 1.18.0 Keith Sheppard
| Last Changed Rev: 46401 / Revision: 49923 | | Last Changed Date: 2010-04-22 11:21:23 -0700 |
| wilson1 | Linux (openSUSE 11.1) / x86_64 | OK | OK | |
| liverpool | Windows Server 2003 R2 (32-bit) / x64 | OK | OK | OK |
| gewurz | Windows Server 2008 R2 Enterprise (64-bit) / x64 | OK | OK | OK |
| pelham | Mac OS X Leopard (10.5.8) / i386 | OK | OK | OK |
macat 1.22.0 Joern Toedling
| Last Changed Rev: 46401 / Revision: 49923 | | Last Changed Date: 2010-04-22 11:21:23 -0700 |
| wilson1 | Linux (openSUSE 11.1) / x86_64 | OK | OK | |
| liverpool | Windows Server 2003 R2 (32-bit) / x64 | OK | OK | OK |
| gewurz | Windows Server 2008 R2 Enterprise (64-bit) / x64 | OK | OK | OK |
| pelham | Mac OS X Leopard (10.5.8) / i386 | OK | OK | OK |
maCorrPlot 1.18.0 Alexander Ploner
| Last Changed Rev: 46401 / Revision: 49923 | | Last Changed Date: 2010-04-22 11:21:23 -0700 |
| wilson1 | Linux (openSUSE 11.1) / x86_64 | OK | OK | |
| liverpool | Windows Server 2003 R2 (32-bit) / x64 | OK | OK | OK |
| gewurz | Windows Server 2008 R2 Enterprise (64-bit) / x64 | OK | OK | OK |
| pelham | Mac OS X Leopard (10.5.8) / i386 | OK | OK | OK |
maDB 1.20.0 Johannes Rainer
| Last Changed Rev: 46401 / Revision: 49923 | | Last Changed Date: 2010-04-22 11:21:23 -0700 |
| wilson1 | Linux (openSUSE 11.1) / x86_64 | OK | OK | |
| liverpool | Windows Server 2003 R2 (32-bit) / x64 | N O T S U P P O R T E D |
| gewurz | Windows Server 2008 R2 Enterprise (64-bit) / x64 | N O T S U P P O R T E D |
| pelham | Mac OS X Leopard (10.5.8) / i386 | OK | OK | OK |
made4 1.22.0 Aedin Culhane
| Last Changed Rev: 46401 / Revision: 49923 | | Last Changed Date: 2010-04-22 11:21:23 -0700 |
| wilson1 | Linux (openSUSE 11.1) / x86_64 | OK | OK | |
| liverpool | Windows Server 2003 R2 (32-bit) / x64 | OK | OK | OK |
| gewurz | Windows Server 2008 R2 Enterprise (64-bit) / x64 | OK | OK | OK |
| pelham | Mac OS X Leopard (10.5.8) / i386 | OK | OK | OK |
maigesPack 1.12.0 Gustavo H. Esteves
| Last Changed Rev: 46401 / Revision: 49923 | | Last Changed Date: 2010-04-22 11:21:23 -0700 |
| wilson1 | Linux (openSUSE 11.1) / x86_64 | OK | OK | |
| liverpool | Windows Server 2003 R2 (32-bit) / x64 | OK | OK | OK |
| gewurz | Windows Server 2008 R2 Enterprise (64-bit) / x64 | OK | OK | OK |
| pelham | Mac OS X Leopard (10.5.8) / i386 | OK | OK | OK |
makecdfenv 1.26.0 James W. MacDonald
| Last Changed Rev: 46401 / Revision: 49923 | | Last Changed Date: 2010-04-22 11:21:23 -0700 |
| wilson1 | Linux (openSUSE 11.1) / x86_64 | OK | OK | |
| liverpool | Windows Server 2003 R2 (32-bit) / x64 | OK | OK | OK |
| gewurz | Windows Server 2008 R2 Enterprise (64-bit) / x64 | OK | OK | OK |
| pelham | Mac OS X Leopard (10.5.8) / i386 | OK | OK | OK |
makePlatformDesign 1.12.0 Benilton Carvalho
| Last Changed Rev: 46401 / Revision: 49923 | | Last Changed Date: 2010-04-22 11:21:23 -0700 |
| wilson1 | Linux (openSUSE 11.1) / x86_64 | OK | OK | |
| liverpool | Windows Server 2003 R2 (32-bit) / x64 | OK | OK | OK |
| gewurz | Windows Server 2008 R2 Enterprise (64-bit) / x64 | OK | OK | OK |
| pelham | Mac OS X Leopard (10.5.8) / i386 | OK | OK | OK |
MANOR 1.20.0 Pierre Neuvial
| Last Changed Rev: 47149 / Revision: 49923 | | Last Changed Date: 2010-05-26 11:24:55 -0700 |
| wilson1 | Linux (openSUSE 11.1) / x86_64 | OK | OK | |
| liverpool | Windows Server 2003 R2 (32-bit) / x64 | OK | OK | OK |
| gewurz | Windows Server 2008 R2 Enterprise (64-bit) / x64 | OK | OK | OK |
| pelham | Mac OS X Leopard (10.5.8) / i386 | OK | OK | OK |
MantelCorr 1.18.0 Brian Steinmeyer
| Last Changed Rev: 46401 / Revision: 49923 | | Last Changed Date: 2010-04-22 11:21:23 -0700 |
| wilson1 | Linux (openSUSE 11.1) / x86_64 | OK | OK | |
| liverpool | Windows Server 2003 R2 (32-bit) / x64 | OK | OK | OK |
| gewurz | Windows Server 2008 R2 Enterprise (64-bit) / x64 | OK | OK | OK |
| pelham | Mac OS X Leopard (10.5.8) / i386 | OK | OK | OK |
marray 1.26.0 Yee Hwa (Jean) Yang
| Last Changed Rev: 46401 / Revision: 49923 | | Last Changed Date: 2010-04-22 11:21:23 -0700 |
| wilson1 | Linux (openSUSE 11.1) / x86_64 | OK | OK | |
| liverpool | Windows Server 2003 R2 (32-bit) / x64 | OK | OK | OK |
| gewurz | Windows Server 2008 R2 Enterprise (64-bit) / x64 | OK | OK | OK |
| pelham | Mac OS X Leopard (10.5.8) / i386 | OK | OK | OK |
maSigPro 1.20.0 Ana Conesa
| Last Changed Rev: 46401 / Revision: 49923 | | Last Changed Date: 2010-04-22 11:21:23 -0700 |
| wilson1 | Linux (openSUSE 11.1) / x86_64 | OK | OK | |
| liverpool | Windows Server 2003 R2 (32-bit) / x64 | OK | OK | OK |
| gewurz | Windows Server 2008 R2 Enterprise (64-bit) / x64 | OK | OK | OK |
| pelham | Mac OS X Leopard (10.5.8) / i386 | OK | OK | OK |
MassArray 1.0.0 Reid F. Thompson
| Last Changed Rev: 47438 / Revision: 49923 | | Last Changed Date: 2010-06-13 15:22:02 -0700 |
| wilson1 | Linux (openSUSE 11.1) / x86_64 | OK | OK | |
| liverpool | Windows Server 2003 R2 (32-bit) / x64 | OK | OK | OK |
| gewurz | Windows Server 2008 R2 Enterprise (64-bit) / x64 | OK | OK | OK |
| pelham | Mac OS X Leopard (10.5.8) / i386 | OK | OK | OK |
MassSpecWavelet 1.14.0 Pan Du
| Last Changed Rev: 46401 / Revision: 49923 | | Last Changed Date: 2010-04-22 11:21:23 -0700 |
| wilson1 | Linux (openSUSE 11.1) / x86_64 | OK | OK | |
| liverpool | Windows Server 2003 R2 (32-bit) / x64 | OK | OK | OK |
| gewurz | Windows Server 2008 R2 Enterprise (64-bit) / x64 | OK | OK | OK |
| pelham | Mac OS X Leopard (10.5.8) / i386 | OK | OK | OK |
matchprobes 1.20.0 Biocore Team c/o BioC user list
| Last Changed Rev: 46401 / Revision: 49923 | | Last Changed Date: 2010-04-22 11:21:23 -0700 |
| wilson1 | Linux (openSUSE 11.1) / x86_64 | OK | OK | |
| liverpool | Windows Server 2003 R2 (32-bit) / x64 | OK | OK | OK |
| gewurz | Windows Server 2008 R2 Enterprise (64-bit) / x64 | OK | OK | OK |
| pelham | Mac OS X Leopard (10.5.8) / i386 | OK | OK | OK |
mBPCR 1.2.0 P.M.V. Rancoita
| Last Changed Rev: 46401 / Revision: 49923 | | Last Changed Date: 2010-04-22 11:21:23 -0700 |
| wilson1 | Linux (openSUSE 11.1) / x86_64 | OK | OK | |
| liverpool | Windows Server 2003 R2 (32-bit) / x64 | OK | OK | OK |
| gewurz | Windows Server 2008 R2 Enterprise (64-bit) / x64 | OK | OK | OK |
| pelham | Mac OS X Leopard (10.5.8) / i386 | OK | OK | OK |
MCRestimate 2.4.0 Marc Johannes
| Last Changed Rev: 46401 / Revision: 49923 | | Last Changed Date: 2010-04-22 11:21:23 -0700 |
| wilson1 | Linux (openSUSE 11.1) / x86_64 | OK | OK | |
| liverpool | Windows Server 2003 R2 (32-bit) / x64 | OK | OK | OK |
| gewurz | Windows Server 2008 R2 Enterprise (64-bit) / x64 | OK | OK | OK |
| pelham | Mac OS X Leopard (10.5.8) / i386 | OK | OK | OK |
mdqc 1.10.0 Gabriela Cohen-Freue
| Last Changed Rev: 46401 / Revision: 49923 | | Last Changed Date: 2010-04-22 11:21:23 -0700 |
| wilson1 | Linux (openSUSE 11.1) / x86_64 | OK | OK | |
| liverpool | Windows Server 2003 R2 (32-bit) / x64 | OK | OK | OK |
| gewurz | Windows Server 2008 R2 Enterprise (64-bit) / x64 | OK | OK | OK |
| pelham | Mac OS X Leopard (10.5.8) / i386 | OK | OK | OK |
MeasurementError.cor 1.20.0 Beiying Ding
| Last Changed Rev: 46401 / Revision: 49923 | | Last Changed Date: 2010-04-22 11:21:23 -0700 |
| wilson1 | Linux (openSUSE 11.1) / x86_64 | OK | OK | |
| liverpool | Windows Server 2003 R2 (32-bit) / x64 | OK | OK | OK |
| gewurz | Windows Server 2008 R2 Enterprise (64-bit) / x64 | OK | OK | OK |
| pelham | Mac OS X Leopard (10.5.8) / i386 | OK | OK | OK |
MEDME 1.8.0 Mattia Pelizzola
| Last Changed Rev: 46401 / Revision: 49923 | | Last Changed Date: 2010-04-22 11:21:23 -0700 |
| wilson1 | Linux (openSUSE 11.1) / x86_64 | OK | OK | |
| liverpool | Windows Server 2003 R2 (32-bit) / x64 | OK | OK | OK |
| gewurz | Windows Server 2008 R2 Enterprise (64-bit) / x64 | OK | OK | OK |
| pelham | Mac OS X Leopard (10.5.8) / i386 | OK | OK | OK |
MergeMaid 2.20.0 Xiaogang Zhong
| Last Changed Rev: 46401 / Revision: 49923 | | Last Changed Date: 2010-04-22 11:21:23 -0700 |
| wilson1 | Linux (openSUSE 11.1) / x86_64 | OK | OK | |
| liverpool | Windows Server 2003 R2 (32-bit) / x64 | OK | OK | OK |
| gewurz | Windows Server 2008 R2 Enterprise (64-bit) / x64 | OK | OK | OK |
| pelham | Mac OS X Leopard (10.5.8) / i386 | OK | OK | OK |
metaArray 1.24.0 Hyungwon Choi
| Last Changed Rev: 46401 / Revision: 49923 | | Last Changed Date: 2010-04-22 11:21:23 -0700 |
| wilson1 | Linux (openSUSE 11.1) / x86_64 | OK | OK | |
| liverpool | Windows Server 2003 R2 (32-bit) / x64 | OK | OK | OK |
| gewurz | Windows Server 2008 R2 Enterprise (64-bit) / x64 | OK | OK | OK |
| pelham | Mac OS X Leopard (10.5.8) / i386 | OK | OK | OK |
metahdep 1.6.0 John R. Stevens
| Last Changed Rev: 46401 / Revision: 49923 | | Last Changed Date: 2010-04-22 11:21:23 -0700 |
| wilson1 | Linux (openSUSE 11.1) / x86_64 | OK | OK | |
| liverpool | Windows Server 2003 R2 (32-bit) / x64 | OK | OK | OK |
| gewurz | Windows Server 2008 R2 Enterprise (64-bit) / x64 | OK | OK | OK |
| pelham | Mac OS X Leopard (10.5.8) / i386 | OK | OK | OK |
methVisual 1.0.1 Arie Zackay
| Last Changed Rev: 46939 / Revision: 49923 | | Last Changed Date: 2010-05-18 09:50:11 -0700 |
| wilson1 | Linux (openSUSE 11.1) / x86_64 | OK | OK | |
| liverpool | Windows Server 2003 R2 (32-bit) / x64 | OK | OK | OK |
| gewurz | Windows Server 2008 R2 Enterprise (64-bit) / x64 | OK | OK | OK |
| pelham | Mac OS X Leopard (10.5.8) / i386 | OK | OK | OK |
methylumi 1.3.3 Sean Davis
| Last Changed Rev: 47584 / Revision: 49923 | | Last Changed Date: 2010-06-21 12:25:07 -0700 |
| wilson1 | Linux (openSUSE 11.1) / x86_64 | OK | OK | |
| liverpool | Windows Server 2003 R2 (32-bit) / x64 | OK | OK | OK |
| gewurz | Windows Server 2008 R2 Enterprise (64-bit) / x64 | OK | OK | OK |
| pelham | Mac OS X Leopard (10.5.8) / i386 | OK | OK | OK |
Mfuzz 2.6.0 Matthias Futschik
| Last Changed Rev: 46401 / Revision: 49923 | | Last Changed Date: 2010-04-22 11:21:23 -0700 |
| wilson1 | Linux (openSUSE 11.1) / x86_64 | OK | OK | |
| liverpool | Windows Server 2003 R2 (32-bit) / x64 | OK | OK | OK |
| gewurz | Windows Server 2008 R2 Enterprise (64-bit) / x64 | OK | OK | OK |
| pelham | Mac OS X Leopard (10.5.8) / i386 | OK | OK | OK |
MiChip 1.2.0 Jonathon Blake
| Last Changed Rev: 46401 / Revision: 49923 | | Last Changed Date: 2010-04-22 11:21:23 -0700 |
| wilson1 | Linux (openSUSE 11.1) / x86_64 | OK | OK | |
| liverpool | Windows Server 2003 R2 (32-bit) / x64 | OK | OK | OK |
| gewurz | Windows Server 2008 R2 Enterprise (64-bit) / x64 | OK | OK | OK |
| pelham | Mac OS X Leopard (10.5.8) / i386 | OK | OK | OK |
microRNA 1.6.1 Chao-Jen Wong
| Last Changed Rev: 46571 / Revision: 49923 | | Last Changed Date: 2010-04-26 13:25:39 -0700 |
| wilson1 | Linux (openSUSE 11.1) / x86_64 | OK | OK | |
| liverpool | Windows Server 2003 R2 (32-bit) / x64 | OK | OK | OK |
| gewurz | Windows Server 2008 R2 Enterprise (64-bit) / x64 | OK | OK | OK |
| pelham | Mac OS X Leopard (10.5.8) / i386 | OK | OK | OK |
minet 2.4.0 Patrick E. Meyer
| Last Changed Rev: 46401 / Revision: 49923 | | Last Changed Date: 2010-04-22 11:21:23 -0700 |
| wilson1 | Linux (openSUSE 11.1) / x86_64 | OK | OK | |
| liverpool | Windows Server 2003 R2 (32-bit) / x64 | OK | OK | OK |
| gewurz | Windows Server 2008 R2 Enterprise (64-bit) / x64 | OK | OK | OK |
| pelham | Mac OS X Leopard (10.5.8) / i386 | OK | OK | OK |
MiPP 1.20.0 Sukwoo Kim
| Last Changed Rev: 46401 / Revision: 49923 | | Last Changed Date: 2010-04-22 11:21:23 -0700 |
| wilson1 | Linux (openSUSE 11.1) / x86_64 | OK | OK | |
| liverpool | Windows Server 2003 R2 (32-bit) / x64 | OK | OK | OK |
| gewurz | Windows Server 2008 R2 Enterprise (64-bit) / x64 | OK | OK | OK |
| pelham | Mac OS X Leopard (10.5.8) / i386 | OK | OK | OK |
miRNApath 1.8.0 James M. Ward
| Last Changed Rev: 46401 / Revision: 49923 | | Last Changed Date: 2010-04-22 11:21:23 -0700 |
| wilson1 | Linux (openSUSE 11.1) / x86_64 | OK | OK | |
| liverpool | Windows Server 2003 R2 (32-bit) / x64 | OK | OK | OK |
| gewurz | Windows Server 2008 R2 Enterprise (64-bit) / x64 | OK | OK | OK |
| pelham | Mac OS X Leopard (10.5.8) / i386 | OK | OK | OK |
MLInterfaces 1.28.0 V. Carey
| Last Changed Rev: 46401 / Revision: 49923 | | Last Changed Date: 2010-04-22 11:21:23 -0700 |
| wilson1 | Linux (openSUSE 11.1) / x86_64 | OK | OK | |
| liverpool | Windows Server 2003 R2 (32-bit) / x64 | OK | OK | OK |
| gewurz | Windows Server 2008 R2 Enterprise (64-bit) / x64 | OK | OK | OK |
| pelham | Mac OS X Leopard (10.5.8) / i386 | OK | OK | OK |
MotIV 1.1.3 Eloi Mercier , Raphael Gottardo
| Last Changed Rev: 47149 / Revision: 49923 | | Last Changed Date: 2010-05-26 11:24:55 -0700 |
| wilson1 | Linux (openSUSE 11.1) / x86_64 | OK | OK | |
| liverpool | Windows Server 2003 R2 (32-bit) / x64 | OK | OK | OK |
| gewurz | Windows Server 2008 R2 Enterprise (64-bit) / x64 | OK | OK | OK |
| pelham | Mac OS X Leopard (10.5.8) / i386 | OK | OK | OK |
multiscan 1.8.0 Mizanur Khondoker
| Last Changed Rev: 46401 / Revision: 49923 | | Last Changed Date: 2010-04-22 11:21:23 -0700 |
| wilson1 | Linux (openSUSE 11.1) / x86_64 | OK | OK | |
| liverpool | Windows Server 2003 R2 (32-bit) / x64 | OK | OK | OK |
| gewurz | Windows Server 2008 R2 Enterprise (64-bit) / x64 | OK | OK | OK |
| pelham | Mac OS X Leopard (10.5.8) / i386 | OK | OK | OK |
multtest 2.4.0 Katherine S. Pollard
| Last Changed Rev: 46467 / Revision: 49923 | | Last Changed Date: 2010-04-23 09:18:01 -0700 |
| wilson1 | Linux (openSUSE 11.1) / x86_64 | OK | OK | |
| liverpool | Windows Server 2003 R2 (32-bit) / x64 | OK | OK | OK |
| gewurz | Windows Server 2008 R2 Enterprise (64-bit) / x64 | OK | OK | OK |
| pelham | Mac OS X Leopard (10.5.8) / i386 | OK | OK | OK |
MVCClass 1.22.0 Elizabeth Whalen
| Last Changed Rev: 46401 / Revision: 49923 | | Last Changed Date: 2010-04-22 11:21:23 -0700 |
| wilson1 | Linux (openSUSE 11.1) / x86_64 | OK | OK | |
| liverpool | Windows Server 2003 R2 (32-bit) / x64 | OK | OK | OK |
| gewurz | Windows Server 2008 R2 Enterprise (64-bit) / x64 | OK | OK | OK |
| pelham | Mac OS X Leopard (10.5.8) / i386 | OK | OK | OK |
|
| N A B C D E F G H I J K L M [N] O P Q R S T U V W X Y Z |
nem 2.12.0 Christian Bender
| Last Changed Rev: 46401 / Revision: 49923 | | Last Changed Date: 2010-04-22 11:21:23 -0700 |
| wilson1 | Linux (openSUSE 11.1) / x86_64 | OK | OK | |
| liverpool | Windows Server 2003 R2 (32-bit) / x64 | OK | OK | OK |
| gewurz | Windows Server 2008 R2 Enterprise (64-bit) / x64 | OK | OK | OK |
| pelham | Mac OS X Leopard (10.5.8) / i386 | OK | OK | OK |
nnNorm 2.12.0 Adi Laurentiu Tarca
| Last Changed Rev: 46401 / Revision: 49923 | | Last Changed Date: 2010-04-22 11:21:23 -0700 |
| wilson1 | Linux (openSUSE 11.1) / x86_64 | OK | OK | |
| liverpool | Windows Server 2003 R2 (32-bit) / x64 | OK | OK | OK |
| gewurz | Windows Server 2008 R2 Enterprise (64-bit) / x64 | OK | OK | OK |
| pelham | Mac OS X Leopard (10.5.8) / i386 | OK | OK | OK |
nudge 1.14.0 N. Dean
| Last Changed Rev: 46401 / Revision: 49923 | | Last Changed Date: 2010-04-22 11:21:23 -0700 |
| wilson1 | Linux (openSUSE 11.1) / x86_64 | OK | OK | |
| liverpool | Windows Server 2003 R2 (32-bit) / x64 | OK | OK | OK |
| gewurz | Windows Server 2008 R2 Enterprise (64-bit) / x64 | OK | OK | OK |
| pelham | Mac OS X Leopard (10.5.8) / i386 | OK | OK | OK |
|
| O A B C D E F G H I J K L M N [O] P Q R S T U V W X Y Z |
occugene 1.8.0 Oliver Will
| Last Changed Rev: 46401 / Revision: 49923 | | Last Changed Date: 2010-04-22 11:21:23 -0700 |
| wilson1 | Linux (openSUSE 11.1) / x86_64 | OK | OK | |
| liverpool | Windows Server 2003 R2 (32-bit) / x64 | OK | OK | OK |
| gewurz | Windows Server 2008 R2 Enterprise (64-bit) / x64 | OK | OK | OK |
| pelham | Mac OS X Leopard (10.5.8) / i386 | OK | OK | OK |
OCplus 1.22.0 Alexander Ploner
| Last Changed Rev: 46401 / Revision: 49923 | | Last Changed Date: 2010-04-22 11:21:23 -0700 |
| wilson1 | Linux (openSUSE 11.1) / x86_64 | OK | OK | |
| liverpool | Windows Server 2003 R2 (32-bit) / x64 | OK | OK | OK |
| gewurz | Windows Server 2008 R2 Enterprise (64-bit) / x64 | OK | OK | OK |
| pelham | Mac OS X Leopard (10.5.8) / i386 | OK | OK | OK |
oligo 1.12.2 Benilton Carvalho
| Last Changed Rev: 48736 / Revision: 49923 | | Last Changed Date: 2010-08-10 03:10:00 -0700 |
| wilson1 | Linux (openSUSE 11.1) / x86_64 | OK | OK | |
| liverpool | Windows Server 2003 R2 (32-bit) / x64 | OK | OK | OK |
| gewurz | Windows Server 2008 R2 Enterprise (64-bit) / x64 | OK | OK | OK |
| pelham | Mac OS X Leopard (10.5.8) / i386 | OK | OK | OK |
oligoClasses 1.10.0 Benilton Carvalho and Robert Scharpf
| Last Changed Rev: 46401 / Revision: 49923 | | Last Changed Date: 2010-04-22 11:21:23 -0700 |
| wilson1 | Linux (openSUSE 11.1) / x86_64 | OK | OK | |
| liverpool | Windows Server 2003 R2 (32-bit) / x64 | OK | OK | OK |
| gewurz | Windows Server 2008 R2 Enterprise (64-bit) / x64 | OK | OK | OK |
| pelham | Mac OS X Leopard (10.5.8) / i386 | OK | OK | OK |
OLIN 1.26.0 Matthias Futschik
| Last Changed Rev: 46401 / Revision: 49923 | | Last Changed Date: 2010-04-22 11:21:23 -0700 |
| wilson1 | Linux (openSUSE 11.1) / x86_64 | OK | OK | |
| liverpool | Windows Server 2003 R2 (32-bit) / x64 | OK | OK | OK |
| gewurz | Windows Server 2008 R2 Enterprise (64-bit) / x64 | OK | OK | OK |
| pelham | Mac OS X Leopard (10.5.8) / i386 | OK | OK | OK |
OLINgui 1.22.0 Matthias Futschik
| Last Changed Rev: 46401 / Revision: 49923 | | Last Changed Date: 2010-04-22 11:21:23 -0700 |
| wilson1 | Linux (openSUSE 11.1) / x86_64 | OK | OK | |
| liverpool | Windows Server 2003 R2 (32-bit) / x64 | OK | OK | OK |
| gewurz | Windows Server 2008 R2 Enterprise (64-bit) / x64 | OK | OK | OK |
| pelham | Mac OS X Leopard (10.5.8) / i386 | OK | OK | OK |
oneChannelGUI 1.14.6 Raffaele A Calogero
| Last Changed Rev: 48241 / Revision: 49923 | | Last Changed Date: 2010-07-20 02:26:47 -0700 |
| wilson1 | Linux (openSUSE 11.1) / x86_64 | OK | OK | |
| liverpool | Windows Server 2003 R2 (32-bit) / x64 | OK | OK | OK |
| gewurz | Windows Server 2008 R2 Enterprise (64-bit) / x64 | OK | OK | OK |
| pelham | Mac OS X Leopard (10.5.8) / i386 | OK | OK | OK |
ontoTools 1.26.0 Vince Carey
| Last Changed Rev: 46401 / Revision: 49923 | | Last Changed Date: 2010-04-22 11:21:23 -0700 |
| wilson1 | Linux (openSUSE 11.1) / x86_64 | OK | OK | |
| liverpool | Windows Server 2003 R2 (32-bit) / x64 | OK | OK | OK |
| gewurz | Windows Server 2008 R2 Enterprise (64-bit) / x64 | OK | OK | OK |
| pelham | Mac OS X Leopard (10.5.8) / i386 | OK | OK | OK |
OrderedList 1.20.0 Claudio Lottaz
| Last Changed Rev: 46401 / Revision: 49923 | | Last Changed Date: 2010-04-22 11:21:23 -0700 |
| wilson1 | Linux (openSUSE 11.1) / x86_64 | OK | OK | |
| liverpool | Windows Server 2003 R2 (32-bit) / x64 | OK | OK | OK |
| gewurz | Windows Server 2008 R2 Enterprise (64-bit) / x64 | OK | OK | OK |
| pelham | Mac OS X Leopard (10.5.8) / i386 | OK | OK | OK |
OutlierD 1.12.0 Sukwoo Kim
| Last Changed Rev: 46401 / Revision: 49923 | | Last Changed Date: 2010-04-22 11:21:23 -0700 |
| wilson1 | Linux (openSUSE 11.1) / x86_64 | OK | OK | |
| liverpool | Windows Server 2003 R2 (32-bit) / x64 | OK | OK | OK |
| gewurz | Windows Server 2008 R2 Enterprise (64-bit) / x64 | OK | OK | OK |
| pelham | Mac OS X Leopard (10.5.8) / i386 | OK | OK | OK |
|
| P A B C D E F G H I J K L M N O [P] Q R S T U V W X Y Z |
pamr 1.46.0 Rob Tibshirani
| Last Changed Rev: 46401 / Revision: 49923 | | Last Changed Date: 2010-04-22 11:21:23 -0700 |
| wilson1 | Linux (openSUSE 11.1) / x86_64 | OK | OK | |
| liverpool | Windows Server 2003 R2 (32-bit) / x64 | OK | OK | OK |
| gewurz | Windows Server 2008 R2 Enterprise (64-bit) / x64 | OK | OK | OK |
| pelham | Mac OS X Leopard (10.5.8) / i386 | OK | OK | OK |
PAnnBuilder 1.12.0 Li Hong
| Last Changed Rev: 46401 / Revision: 49923 | | Last Changed Date: 2010-04-22 11:21:23 -0700 |
| wilson1 | Linux (openSUSE 11.1) / x86_64 | OK | OK | |
| liverpool | Windows Server 2003 R2 (32-bit) / x64 | OK | OK | OK |
| gewurz | Windows Server 2008 R2 Enterprise (64-bit) / x64 | OK | OK | OK |
| pelham | Mac OS X Leopard (10.5.8) / i386 | OK | OK | OK |
panp 1.18.0 Peter Warren
| Last Changed Rev: 46401 / Revision: 49923 | | Last Changed Date: 2010-04-22 11:21:23 -0700 |
| wilson1 | Linux (openSUSE 11.1) / x86_64 | OK | OK | |
| liverpool | Windows Server 2003 R2 (32-bit) / x64 | OK | OK | OK |
| gewurz | Windows Server 2008 R2 Enterprise (64-bit) / x64 | OK | OK | OK |
| pelham | Mac OS X Leopard (10.5.8) / i386 | OK | OK | OK |
parody 1.6.0 VJ Carey
| Last Changed Rev: 46401 / Revision: 49923 | | Last Changed Date: 2010-04-22 11:21:23 -0700 |
| wilson1 | Linux (openSUSE 11.1) / x86_64 | OK | OK | |
| liverpool | Windows Server 2003 R2 (32-bit) / x64 | OK | OK | OK |
| gewurz | Windows Server 2008 R2 Enterprise (64-bit) / x64 | OK | OK | OK |
| pelham | Mac OS X Leopard (10.5.8) / i386 | OK | OK | OK |
pathRender 1.16.0 Li Long
| Last Changed Rev: 46401 / Revision: 49923 | | Last Changed Date: 2010-04-22 11:21:23 -0700 |
| wilson1 | Linux (openSUSE 11.1) / x86_64 | OK | OK | |
| liverpool | Windows Server 2003 R2 (32-bit) / x64 | OK | OK | OK |
| gewurz | Windows Server 2008 R2 Enterprise (64-bit) / x64 | OK | OK | OK |
| pelham | Mac OS X Leopard (10.5.8) / i386 | OK | OK | OK |
pcaMethods 1.30.0 Wolfram Stacklies
| Last Changed Rev: 46401 / Revision: 49923 | | Last Changed Date: 2010-04-22 11:21:23 -0700 |
| wilson1 | Linux (openSUSE 11.1) / x86_64 | OK | OK | |
| liverpool | Windows Server 2003 R2 (32-bit) / x64 | OK | OK | OK |
| gewurz | Windows Server 2008 R2 Enterprise (64-bit) / x64 | OK | OK | OK |
| pelham | Mac OS X Leopard (10.5.8) / i386 | OK | OK | OK |
pcot2 1.16.0 Sarah Song
| Last Changed Rev: 46401 / Revision: 49923 | | Last Changed Date: 2010-04-22 11:21:23 -0700 |
| wilson1 | Linux (openSUSE 11.1) / x86_64 | OK | OK | |
| liverpool | Windows Server 2003 R2 (32-bit) / x64 | OK | OK | OK |
| gewurz | Windows Server 2008 R2 Enterprise (64-bit) / x64 | OK | OK | OK |
| pelham | Mac OS X Leopard (10.5.8) / i386 | OK | OK | OK |
PCpheno 1.10.0 Nolwenn Le Meur
| Last Changed Rev: 46401 / Revision: 49923 | | Last Changed Date: 2010-04-22 11:21:23 -0700 |
| wilson1 | Linux (openSUSE 11.1) / x86_64 | OK | OK | |
| liverpool | Windows Server 2003 R2 (32-bit) / x64 | OK | OK | OK |
| gewurz | Windows Server 2008 R2 Enterprise (64-bit) / x64 | OK | OK | OK |
| pelham | Mac OS X Leopard (10.5.8) / i386 | OK | OK | OK |
pdInfoBuilder 1.12.0 Benilton Carvalho
| Last Changed Rev: 46401 / Revision: 49923 | | Last Changed Date: 2010-04-22 11:21:23 -0700 |
| wilson1 | Linux (openSUSE 11.1) / x86_64 | OK | OK | |
| liverpool | Windows Server 2003 R2 (32-bit) / x64 | OK | OK | OK |
| gewurz | Windows Server 2008 R2 Enterprise (64-bit) / x64 | OK | OK | OK |
| pelham | Mac OS X Leopard (10.5.8) / i386 | OK | OK | OK |
pdmclass 1.20.0 James W. MacDonald
| Last Changed Rev: 46401 / Revision: 49923 | | Last Changed Date: 2010-04-22 11:21:23 -0700 |
| wilson1 | Linux (openSUSE 11.1) / x86_64 | OK | OK | |
| liverpool | Windows Server 2003 R2 (32-bit) / x64 | OK | OK | OK |
| gewurz | Windows Server 2008 R2 Enterprise (64-bit) / x64 | OK | OK | OK |
| pelham | Mac OS X Leopard (10.5.8) / i386 | OK | OK | OK |
PGSEA 1.18.0 Karl Dykema
| Last Changed Rev: 46401 / Revision: 49923 | | Last Changed Date: 2010-04-22 11:21:23 -0700 |
| wilson1 | Linux (openSUSE 11.1) / x86_64 | ERROR | skipped | |
| liverpool | Windows Server 2003 R2 (32-bit) / x64 | OK | OK | OK |
| gewurz | Windows Server 2008 R2 Enterprise (64-bit) / x64 | OK | OK | OK |
| pelham | Mac OS X Leopard (10.5.8) / i386 | OK | OK | OK |
pgUtils 1.20.0 Johannes Rainer
| Last Changed Rev: 46401 / Revision: 49923 | | Last Changed Date: 2010-04-22 11:21:23 -0700 |
| wilson1 | Linux (openSUSE 11.1) / x86_64 | OK | OK | |
| liverpool | Windows Server 2003 R2 (32-bit) / x64 | N O T S U P P O R T E D |
| gewurz | Windows Server 2008 R2 Enterprise (64-bit) / x64 | N O T S U P P O R T E D |
| pelham | Mac OS X Leopard (10.5.8) / i386 | OK | OK | OK |
pickgene 1.20.0 Brian S. Yandell
| Last Changed Rev: 46401 / Revision: 49923 | | Last Changed Date: 2010-04-22 11:21:23 -0700 |
| wilson1 | Linux (openSUSE 11.1) / x86_64 | OK | OK | |
| liverpool | Windows Server 2003 R2 (32-bit) / x64 | OK | OK | OK |
| gewurz | Windows Server 2008 R2 Enterprise (64-bit) / x64 | OK | OK | OK |
| pelham | Mac OS X Leopard (10.5.8) / i386 | OK | OK | OK |
PICS 1.0.6 Arnaud Droit , Xuekui Zhang , Raphael Gottardo
| Last Changed Rev: 47924 / Revision: 49923 | | Last Changed Date: 2010-07-06 08:38:46 -0700 |
| wilson1 | Linux (openSUSE 11.1) / x86_64 | OK | WARNINGS | |
| liverpool | Windows Server 2003 R2 (32-bit) / x64 | OK | WARNINGS | OK |
| gewurz | Windows Server 2008 R2 Enterprise (64-bit) / x64 | OK | WARNINGS | OK |
| pelham | Mac OS X Leopard (10.5.8) / i386 | OK | WARNINGS | OK |
pint 1.0.0 Olli-Pekka Huovilainen
| Last Changed Rev: 46467 / Revision: 49923 | | Last Changed Date: 2010-04-23 09:18:01 -0700 |
| wilson1 | Linux (openSUSE 11.1) / x86_64 | OK | OK | |
| liverpool | Windows Server 2003 R2 (32-bit) / x64 | OK | OK | OK |
| gewurz | Windows Server 2008 R2 Enterprise (64-bit) / x64 | OK | OK | OK |
| pelham | Mac OS X Leopard (10.5.8) / i386 | OK | OK | OK |
pkgDepTools 1.14.0 Seth Falcon
| Last Changed Rev: 46401 / Revision: 49923 | | Last Changed Date: 2010-04-22 11:21:23 -0700 |
| wilson1 | Linux (openSUSE 11.1) / x86_64 | OK | OK | |
| liverpool | Windows Server 2003 R2 (32-bit) / x64 | OK | OK | OK |
| gewurz | Windows Server 2008 R2 Enterprise (64-bit) / x64 | OK | OK | OK |
| pelham | Mac OS X Leopard (10.5.8) / i386 | OK | OK | OK |
plateCore 1.6.0 Errol Strain
| Last Changed Rev: 46401 / Revision: 49923 | | Last Changed Date: 2010-04-22 11:21:23 -0700 |
| wilson1 | Linux (openSUSE 11.1) / x86_64 | OK | OK | |
| liverpool | Windows Server 2003 R2 (32-bit) / x64 | OK | OK | OK |
| gewurz | Windows Server 2008 R2 Enterprise (64-bit) / x64 | OK | OK | OK |
| pelham | Mac OS X Leopard (10.5.8) / i386 | OK | OK | OK |
plgem 1.20.1 Norman Pavelka
| Last Changed Rev: 48685 / Revision: 49923 | | Last Changed Date: 2010-08-05 08:00:33 -0700 |
| wilson1 | Linux (openSUSE 11.1) / x86_64 | OK | OK | |
| liverpool | Windows Server 2003 R2 (32-bit) / x64 | OK | OK | OK |
| gewurz | Windows Server 2008 R2 Enterprise (64-bit) / x64 | OK | OK | OK |
| pelham | Mac OS X Leopard (10.5.8) / i386 | OK | OK | OK |
plier 1.18.0 Crispin Miller
| Last Changed Rev: 46401 / Revision: 49923 | | Last Changed Date: 2010-04-22 11:21:23 -0700 |
| wilson1 | Linux (openSUSE 11.1) / x86_64 | OK | OK | |
| liverpool | Windows Server 2003 R2 (32-bit) / x64 | OK | OK | OK |
| gewurz | Windows Server 2008 R2 Enterprise (64-bit) / x64 | OK | OK | OK |
| pelham | Mac OS X Leopard (10.5.8) / i386 | OK | OK | OK |
PLPE 1.8.0 Soo-heang Eo
| Last Changed Rev: 46401 / Revision: 49923 | | Last Changed Date: 2010-04-22 11:21:23 -0700 |
| wilson1 | Linux (openSUSE 11.1) / x86_64 | OK | OK | |
| liverpool | Windows Server 2003 R2 (32-bit) / x64 | OK | OK | OK |
| gewurz | Windows Server 2008 R2 Enterprise (64-bit) / x64 | OK | OK | OK |
| pelham | Mac OS X Leopard (10.5.8) / i386 | OK | OK | OK |
plw 1.8.0 Magnus Astrand
| Last Changed Rev: 46401 / Revision: 49923 | | Last Changed Date: 2010-04-22 11:21:23 -0700 |
| wilson1 | Linux (openSUSE 11.1) / x86_64 | OK | OK | |
| liverpool | Windows Server 2003 R2 (32-bit) / x64 | OK | OK | OK |
| gewurz | Windows Server 2008 R2 Enterprise (64-bit) / x64 | OK | OK | OK |
| pelham | Mac OS X Leopard (10.5.8) / i386 | OK | OK | OK |
ppiStats 1.14.0 Tony Chiang
| Last Changed Rev: 46401 / Revision: 49923 | | Last Changed Date: 2010-04-22 11:21:23 -0700 |
| wilson1 | Linux (openSUSE 11.1) / x86_64 | OK | OK | |
| liverpool | Windows Server 2003 R2 (32-bit) / x64 | OK | OK | OK |
| gewurz | Windows Server 2008 R2 Enterprise (64-bit) / x64 | OK | OK | OK |
| pelham | Mac OS X Leopard (10.5.8) / i386 | OK | OK | OK |
prada 1.24.0 Florian Hahne
| Last Changed Rev: 46401 / Revision: 49923 | | Last Changed Date: 2010-04-22 11:21:23 -0700 |
| wilson1 | Linux (openSUSE 11.1) / x86_64 | OK | OK | |
| liverpool | Windows Server 2003 R2 (32-bit) / x64 | OK | OK | OK |
| gewurz | Windows Server 2008 R2 Enterprise (64-bit) / x64 | OK | OK | OK |
| pelham | Mac OS X Leopard (10.5.8) / i386 | OK | OK | OK |
preprocessCore 1.10.0 Benjamin Milo Bolstad
| Last Changed Rev: 46401 / Revision: 49923 | | Last Changed Date: 2010-04-22 11:21:23 -0700 |
| wilson1 | Linux (openSUSE 11.1) / x86_64 | OK | OK | |
| liverpool | Windows Server 2003 R2 (32-bit) / x64 | OK | OK | OK |
| gewurz | Windows Server 2008 R2 Enterprise (64-bit) / x64 | OK | OK | OK |
| pelham | Mac OS X Leopard (10.5.8) / i386 | OK | OK | OK |
PROcess 1.24.0 Xiaochun Li
| Last Changed Rev: 46401 / Revision: 49923 | | Last Changed Date: 2010-04-22 11:21:23 -0700 |
| wilson1 | Linux (openSUSE 11.1) / x86_64 | OK | OK | |
| liverpool | Windows Server 2003 R2 (32-bit) / x64 | OK | OK | OK |
| gewurz | Windows Server 2008 R2 Enterprise (64-bit) / x64 | OK | OK | OK |
| pelham | Mac OS X Leopard (10.5.8) / i386 | OK | OK | OK |
PROMISE 1.0.0 Xueyuan Cao
| Last Changed Rev: 46401 / Revision: 49923 | | Last Changed Date: 2010-04-22 11:21:23 -0700 |
| wilson1 | Linux (openSUSE 11.1) / x86_64 | OK | OK | |
| liverpool | Windows Server 2003 R2 (32-bit) / x64 | OK | OK | OK |
| gewurz | Windows Server 2008 R2 Enterprise (64-bit) / x64 | OK | OK | OK |
| pelham | Mac OS X Leopard (10.5.8) / i386 | OK | OK | OK |
puma 2.0.0 Richard Pearson , Li Zhang
| Last Changed Rev: 46467 / Revision: 49923 | | Last Changed Date: 2010-04-23 09:18:01 -0700 |
| wilson1 | Linux (openSUSE 11.1) / x86_64 | OK | OK | |
| liverpool | Windows Server 2003 R2 (32-bit) / x64 | OK | OK | OK |
| gewurz | Windows Server 2008 R2 Enterprise (64-bit) / x64 | OK | OK | OK |
| pelham | Mac OS X Leopard (10.5.8) / i386 | OK | OK | OK |
|
| Q A B C D E F G H I J K L M N O P [Q] R S T U V W X Y Z |
qpcrNorm 1.6.0 Jessica Mar
| Last Changed Rev: 46401 / Revision: 49923 | | Last Changed Date: 2010-04-22 11:21:23 -0700 |
| wilson1 | Linux (openSUSE 11.1) / x86_64 | OK | OK | |
| liverpool | Windows Server 2003 R2 (32-bit) / x64 | OK | OK | OK |
| gewurz | Windows Server 2008 R2 Enterprise (64-bit) / x64 | OK | OK | OK |
| pelham | Mac OS X Leopard (10.5.8) / i386 | OK | OK | OK |
qpgraph 1.4.1 Robert Castelo
| Last Changed Rev: 46669 / Revision: 49923 | | Last Changed Date: 2010-05-03 13:15:30 -0700 |
| wilson1 | Linux (openSUSE 11.1) / x86_64 | OK | OK | |
| liverpool | Windows Server 2003 R2 (32-bit) / x64 | OK | OK | OK |
| gewurz | Windows Server 2008 R2 Enterprise (64-bit) / x64 | OK | OK | OK |
| pelham | Mac OS X Leopard (10.5.8) / i386 | OK | OK | OK |
quantsmooth 1.14.0 Jan Oosting
| Last Changed Rev: 46401 / Revision: 49923 | | Last Changed Date: 2010-04-22 11:21:23 -0700 |
| wilson1 | Linux (openSUSE 11.1) / x86_64 | OK | OK | |
| liverpool | Windows Server 2003 R2 (32-bit) / x64 | OK | OK | OK |
| gewurz | Windows Server 2008 R2 Enterprise (64-bit) / x64 | OK | OK | OK |
| pelham | Mac OS X Leopard (10.5.8) / i386 | OK | OK | OK |
qvalue 1.22.0 John D. Storey
| Last Changed Rev: 46401 / Revision: 49923 | | Last Changed Date: 2010-04-22 11:21:23 -0700 |
| wilson1 | Linux (openSUSE 11.1) / x86_64 | OK | OK | |
| liverpool | Windows Server 2003 R2 (32-bit) / x64 | OK | OK | OK |
| gewurz | Windows Server 2008 R2 Enterprise (64-bit) / x64 | OK | OK | OK |
| pelham | Mac OS X Leopard (10.5.8) / i386 | OK | OK | OK |
|
| R A B C D E F G H I J K L M N O P Q [R] S T U V W X Y Z |
rama 1.22.1 Raphael Gottardo
| Last Changed Rev: 47187 / Revision: 49923 | | Last Changed Date: 2010-05-27 18:22:36 -0700 |
| wilson1 | Linux (openSUSE 11.1) / x86_64 | OK | OK | |
| liverpool | Windows Server 2003 R2 (32-bit) / x64 | OK | OK | OK |
| gewurz | Windows Server 2008 R2 Enterprise (64-bit) / x64 | OK | OK | OK |
| pelham | Mac OS X Leopard (10.5.8) / i386 | OK | OK | OK |
RankProd 2.20.0 Fangxin Hong
| Last Changed Rev: 46401 / Revision: 49923 | | Last Changed Date: 2010-04-22 11:21:23 -0700 |
| wilson1 | Linux (openSUSE 11.1) / x86_64 | OK | OK | |
| liverpool | Windows Server 2003 R2 (32-bit) / x64 | OK | OK | OK |
| gewurz | Windows Server 2008 R2 Enterprise (64-bit) / x64 | OK | OK | OK |
| pelham | Mac OS X Leopard (10.5.8) / i386 | OK | OK | OK |
RbcBook1 1.16.0 Vince Carey
| Last Changed Rev: 46401 / Revision: 49923 | | Last Changed Date: 2010-04-22 11:21:23 -0700 |
| wilson1 | Linux (openSUSE 11.1) / x86_64 | OK | OK | |
| liverpool | Windows Server 2003 R2 (32-bit) / x64 | OK | OK | OK |
| gewurz | Windows Server 2008 R2 Enterprise (64-bit) / x64 | OK | OK | OK |
| pelham | Mac OS X Leopard (10.5.8) / i386 | OK | OK | OK |
RBGL 1.24.0 Li Long
| Last Changed Rev: 46401 / Revision: 49923 | | Last Changed Date: 2010-04-22 11:21:23 -0700 |
| wilson1 | Linux (openSUSE 11.1) / x86_64 | OK | OK | |
| liverpool | Windows Server 2003 R2 (32-bit) / x64 | OK | WARNINGS | OK |
| gewurz | Windows Server 2008 R2 Enterprise (64-bit) / x64 | OK | OK | OK |
| pelham | Mac OS X Leopard (10.5.8) / i386 | OK | WARNINGS | OK |
RBioinf 1.8.0 Robert Gentleman
| Last Changed Rev: 46401 / Revision: 49923 | | Last Changed Date: 2010-04-22 11:21:23 -0700 |
| wilson1 | Linux (openSUSE 11.1) / x86_64 | OK | OK | |
| liverpool | Windows Server 2003 R2 (32-bit) / x64 | OK | OK | OK |
| gewurz | Windows Server 2008 R2 Enterprise (64-bit) / x64 | OK | OK | OK |
| pelham | Mac OS X Leopard (10.5.8) / i386 | OK | OK | OK |
rbsurv 2.6.0 Soo-heang Eo
| Last Changed Rev: 46401 / Revision: 49923 | | Last Changed Date: 2010-04-22 11:21:23 -0700 |
| wilson1 | Linux (openSUSE 11.1) / x86_64 | OK | OK | |
| liverpool | Windows Server 2003 R2 (32-bit) / x64 | OK | OK | OK |
| gewurz | Windows Server 2008 R2 Enterprise (64-bit) / x64 | OK | OK | OK |
| pelham | Mac OS X Leopard (10.5.8) / i386 | OK | OK | OK |
Rdbi 1.22.0 Jianhua Zhang
| Last Changed Rev: 46401 / Revision: 49923 | | Last Changed Date: 2010-04-22 11:21:23 -0700 |
| wilson1 | Linux (openSUSE 11.1) / x86_64 | OK | OK | |
| liverpool | Windows Server 2003 R2 (32-bit) / x64 | OK | OK | OK |
| gewurz | Windows Server 2008 R2 Enterprise (64-bit) / x64 | OK | OK | OK |
| pelham | Mac OS X Leopard (10.5.8) / i386 | OK | OK | OK |
RdbiPgSQL 1.22.0 Jianhua Zhang
| Last Changed Rev: 46401 / Revision: 49923 | | Last Changed Date: 2010-04-22 11:21:23 -0700 |
| wilson1 | Linux (openSUSE 11.1) / x86_64 | OK | OK | |
| liverpool | Windows Server 2003 R2 (32-bit) / x64 | N O T S U P P O R T E D |
| gewurz | Windows Server 2008 R2 Enterprise (64-bit) / x64 | N O T S U P P O R T E D |
| pelham | Mac OS X Leopard (10.5.8) / i386 | OK | OK | OK |
Rdisop 1.8.0 Steffen Neumann
| Last Changed Rev: 46401 / Revision: 49923 | | Last Changed Date: 2010-04-22 11:21:23 -0700 |
| wilson1 | Linux (openSUSE 11.1) / x86_64 | OK | OK | |
| liverpool | Windows Server 2003 R2 (32-bit) / x64 | OK | OK | OK |
| gewurz | Windows Server 2008 R2 Enterprise (64-bit) / x64 | N O T S U P P O R T E D |
| pelham | Mac OS X Leopard (10.5.8) / i386 | N O T S U P P O R T E D |
reb 1.24.0 Karl J. Dykema
| Last Changed Rev: 46401 / Revision: 49923 | | Last Changed Date: 2010-04-22 11:21:23 -0700 |
| wilson1 | Linux (openSUSE 11.1) / x86_64 | OK | OK | |
| liverpool | Windows Server 2003 R2 (32-bit) / x64 | OK | OK | OK |
| gewurz | Windows Server 2008 R2 Enterprise (64-bit) / x64 | OK | OK | OK |
| pelham | Mac OS X Leopard (10.5.8) / i386 | OK | OK | OK |
RefPlus 1.18.0 Kai-Ming Chang
| Last Changed Rev: 46401 / Revision: 49923 | | Last Changed Date: 2010-04-22 11:21:23 -0700 |
| wilson1 | Linux (openSUSE 11.1) / x86_64 | OK | OK | |
| liverpool | Windows Server 2003 R2 (32-bit) / x64 | OK | OK | OK |
| gewurz | Windows Server 2008 R2 Enterprise (64-bit) / x64 | OK | OK | OK |
| pelham | Mac OS X Leopard (10.5.8) / i386 | OK | OK | OK |
Resourcerer 1.22.0 Jianhua Zhang
| Last Changed Rev: 46401 / Revision: 49923 | | Last Changed Date: 2010-04-22 11:21:23 -0700 |
| wilson1 | Linux (openSUSE 11.1) / x86_64 | OK | OK | |
| liverpool | Windows Server 2003 R2 (32-bit) / x64 | OK | OK | OK |
| gewurz | Windows Server 2008 R2 Enterprise (64-bit) / x64 | OK | OK | OK |
| pelham | Mac OS X Leopard (10.5.8) / i386 | OK | OK | OK |
rflowcyt 1.20.0 N. LeMeur
| Last Changed Rev: 46401 / Revision: 49923 | | Last Changed Date: 2010-04-22 11:21:23 -0700 |
| wilson1 | Linux (openSUSE 11.1) / x86_64 | OK | OK | |
| liverpool | Windows Server 2003 R2 (32-bit) / x64 | OK | OK | OK |
| gewurz | Windows Server 2008 R2 Enterprise (64-bit) / x64 | OK | OK | OK |
| pelham | Mac OS X Leopard (10.5.8) / i386 | OK | OK | OK |
rGADEM 1.0.1 Arnaud Droit
| Last Changed Rev: 48890 / Revision: 49923 | | Last Changed Date: 2010-08-19 09:15:51 -0700 |
| wilson1 | Linux (openSUSE 11.1) / x86_64 | OK | OK | |
| liverpool | Windows Server 2003 R2 (32-bit) / x64 | OK | OK | OK |
| gewurz | Windows Server 2008 R2 Enterprise (64-bit) / x64 | OK | OK | OK |
| pelham | Mac OS X Leopard (10.5.8) / i386 | OK | OK | OK |
Rgraphviz 1.26.0 Kasper Hansen
| Last Changed Rev: 46401 / Revision: 49923 | | Last Changed Date: 2010-04-22 11:21:23 -0700 |
| wilson1 | Linux (openSUSE 11.1) / x86_64 | OK | OK | |
| liverpool | Windows Server 2003 R2 (32-bit) / x64 | OK | OK | OK |
| gewurz | Windows Server 2008 R2 Enterprise (64-bit) / x64 | ERROR | skipped | skipped |
| pelham | Mac OS X Leopard (10.5.8) / i386 | OK | OK | OK |
rHVDM 1.14.0 Martino Barenco
| Last Changed Rev: 46401 / Revision: 49923 | | Last Changed Date: 2010-04-22 11:21:23 -0700 |
| wilson1 | Linux (openSUSE 11.1) / x86_64 | OK | OK | |
| liverpool | Windows Server 2003 R2 (32-bit) / x64 | OK | OK | OK |
| gewurz | Windows Server 2008 R2 Enterprise (64-bit) / x64 | OK | OK | OK |
| pelham | Mac OS X Leopard (10.5.8) / i386 | OK | OK | OK |
Ringo 1.12.0 J. Toedling
| Last Changed Rev: 46401 / Revision: 49923 | | Last Changed Date: 2010-04-22 11:21:23 -0700 |
| wilson1 | Linux (openSUSE 11.1) / x86_64 | OK | OK | |
| liverpool | Windows Server 2003 R2 (32-bit) / x64 | OK | OK | OK |
| gewurz | Windows Server 2008 R2 Enterprise (64-bit) / x64 | OK | OK | OK |
| pelham | Mac OS X Leopard (10.5.8) / i386 | OK | OK | OK |
RLMM 1.10.0 Nusrat Rabbee
| Last Changed Rev: 46401 / Revision: 49923 | | Last Changed Date: 2010-04-22 11:21:23 -0700 |
| wilson1 | Linux (openSUSE 11.1) / x86_64 | OK | OK | |
| liverpool | Windows Server 2003 R2 (32-bit) / x64 | OK | OK | OK |
| gewurz | Windows Server 2008 R2 Enterprise (64-bit) / x64 | OK | OK | OK |
| pelham | Mac OS X Leopard (10.5.8) / i386 | OK | OK | OK |
RMAGEML 2.22.0 Steffen Durinck
| Last Changed Rev: 46401 / Revision: 49923 | | Last Changed Date: 2010-04-22 11:21:23 -0700 |
| wilson1 | Linux (openSUSE 11.1) / x86_64 | OK | OK | |
| liverpool | Windows Server 2003 R2 (32-bit) / x64 | N O T S U P P O R T E D |
| gewurz | Windows Server 2008 R2 Enterprise (64-bit) / x64 | N O T S U P P O R T E D |
| pelham | Mac OS X Leopard (10.5.8) / i386 | N O T S U P P O R T E D |
Rmagpie 1.4.0 Camille Maumet
| Last Changed Rev: 46401 / Revision: 49923 | | Last Changed Date: 2010-04-22 11:21:23 -0700 |
| wilson1 | Linux (openSUSE 11.1) / x86_64 | OK | OK | |
| liverpool | Windows Server 2003 R2 (32-bit) / x64 | OK | OK | OK |
| gewurz | Windows Server 2008 R2 Enterprise (64-bit) / x64 | OK | OK | OK |
| pelham | Mac OS X Leopard (10.5.8) / i386 | OK | OK | OK |
rMAT 2.4.2 Arnaud Droit and Raphael Gottardo
| Last Changed Rev: 47925 / Revision: 49923 | | Last Changed Date: 2010-07-06 08:39:53 -0700 |
| wilson1 | Linux (openSUSE 11.1) / x86_64 | OK | OK | |
| liverpool | Windows Server 2003 R2 (32-bit) / x64 | OK | OK | OK |
| gewurz | Windows Server 2008 R2 Enterprise (64-bit) / x64 | OK | OK | OK |
| pelham | Mac OS X Leopard (10.5.8) / i386 | OK | OK | OK |
RmiR 1.4.0 Francesco Favero
| Last Changed Rev: 46401 / Revision: 49923 | | Last Changed Date: 2010-04-22 11:21:23 -0700 |
| wilson1 | Linux (openSUSE 11.1) / x86_64 | OK | OK | |
| liverpool | Windows Server 2003 R2 (32-bit) / x64 | OK | OK | OK |
| gewurz | Windows Server 2008 R2 Enterprise (64-bit) / x64 | OK | TIMEOUT | OK |
| pelham | Mac OS X Leopard (10.5.8) / i386 | OK | OK | OK |
RNAither 1.8.1 Nora Rieber
| Last Changed Rev: 47990 / Revision: 49923 | | Last Changed Date: 2010-07-08 07:35:22 -0700 |
| wilson1 | Linux (openSUSE 11.1) / x86_64 | OK | OK | |
| liverpool | Windows Server 2003 R2 (32-bit) / x64 | OK | OK | OK |
| gewurz | Windows Server 2008 R2 Enterprise (64-bit) / x64 | OK | OK | OK |
| pelham | Mac OS X Leopard (10.5.8) / i386 | OK | OK | OK |
ROC 1.24.1 Vince Carey
| Last Changed Rev: 47057 / Revision: 49923 | | Last Changed Date: 2010-05-20 13:34:49 -0700 |
| wilson1 | Linux (openSUSE 11.1) / x86_64 | OK | OK | |
| liverpool | Windows Server 2003 R2 (32-bit) / x64 | OK | OK | OK |
| gewurz | Windows Server 2008 R2 Enterprise (64-bit) / x64 | OK | OK | OK |
| pelham | Mac OS X Leopard (10.5.8) / i386 | OK | OK | OK |
Rolexa 1.4.0 Jacques Rougemont
| Last Changed Rev: 46401 / Revision: 49923 | | Last Changed Date: 2010-04-22 11:21:23 -0700 |
| wilson1 | Linux (openSUSE 11.1) / x86_64 | OK | OK | |
| liverpool | Windows Server 2003 R2 (32-bit) / x64 | OK | OK | OK |
| gewurz | Windows Server 2008 R2 Enterprise (64-bit) / x64 | OK | OK | OK |
| pelham | Mac OS X Leopard (10.5.8) / i386 | OK | OK | OK |
RPA 1.4.0 Leo Lahti
| Last Changed Rev: 46401 / Revision: 49923 | | Last Changed Date: 2010-04-22 11:21:23 -0700 |
| wilson1 | Linux (openSUSE 11.1) / x86_64 | OK | OK | |
| liverpool | Windows Server 2003 R2 (32-bit) / x64 | OK | OK | OK |
| gewurz | Windows Server 2008 R2 Enterprise (64-bit) / x64 | OK | OK | OK |
| pelham | Mac OS X Leopard (10.5.8) / i386 | OK | OK | OK |
RpsiXML 1.8.0 Jitao David Zhang
| Last Changed Rev: 46401 / Revision: 49923 | | Last Changed Date: 2010-04-22 11:21:23 -0700 |
| wilson1 | Linux (openSUSE 11.1) / x86_64 | OK | OK | |
| liverpool | Windows Server 2003 R2 (32-bit) / x64 | OK | OK | OK |
| gewurz | Windows Server 2008 R2 Enterprise (64-bit) / x64 | OK | OK | OK |
| pelham | Mac OS X Leopard (10.5.8) / i386 | OK | OK | OK |
Rredland 1.14.0 VJ Carey
| Last Changed Rev: 46401 / Revision: 49923 | | Last Changed Date: 2010-04-22 11:21:23 -0700 |
| wilson1 | Linux (openSUSE 11.1) / x86_64 | OK | OK | |
| liverpool | Windows Server 2003 R2 (32-bit) / x64 | N O T S U P P O R T E D |
| gewurz | Windows Server 2008 R2 Enterprise (64-bit) / x64 | N O T S U P P O R T E D |
| pelham | Mac OS X Leopard (10.5.8) / i386 | N O T S U P P O R T E D |
Rsamtools 1.0.8 Biocore Team c/o BioC user list
| Last Changed Rev: 48803 / Revision: 49923 | | Last Changed Date: 2010-08-13 15:05:51 -0700 |
| wilson1 | Linux (openSUSE 11.1) / x86_64 | OK | OK | |
| liverpool | Windows Server 2003 R2 (32-bit) / x64 | OK | OK | OK |
| gewurz | Windows Server 2008 R2 Enterprise (64-bit) / x64 | OK | OK | OK |
| pelham | Mac OS X Leopard (10.5.8) / i386 | OK | OK | OK |
rsbml 2.6.0 Michael Lawrence
| Last Changed Rev: 46401 / Revision: 49923 | | Last Changed Date: 2010-04-22 11:21:23 -0700 |
| wilson1 | Linux (openSUSE 11.1) / x86_64 | OK | OK | |
| liverpool | Windows Server 2003 R2 (32-bit) / x64 | OK | OK | OK |
| gewurz | Windows Server 2008 R2 Enterprise (64-bit) / x64 | ERROR | skipped | skipped |
| pelham | Mac OS X Leopard (10.5.8) / i386 | OK | WARNINGS | OK |
RTCA 1.2.0 Jitao David Zhang
| Last Changed Rev: 46401 / Revision: 49923 | | Last Changed Date: 2010-04-22 11:21:23 -0700 |
| wilson1 | Linux (openSUSE 11.1) / x86_64 | OK | OK | |
| liverpool | Windows Server 2003 R2 (32-bit) / x64 | OK | OK | OK |
| gewurz | Windows Server 2008 R2 Enterprise (64-bit) / x64 | OK | OK | OK |
| pelham | Mac OS X Leopard (10.5.8) / i386 | OK | OK | OK |
RTools4TB 1.4.0 Aurelie Bergon
| Last Changed Rev: 46401 / Revision: 49923 | | Last Changed Date: 2010-04-22 11:21:23 -0700 |
| wilson1 | Linux (openSUSE 11.1) / x86_64 | OK | OK | |
| liverpool | Windows Server 2003 R2 (32-bit) / x64 | OK | OK | OK |
| gewurz | Windows Server 2008 R2 Enterprise (64-bit) / x64 | OK | OK | OK |
| pelham | Mac OS X Leopard (10.5.8) / i386 | OK | OK | OK |
rtracklayer 1.8.1 Michael Lawrence
| Last Changed Rev: 48426 / Revision: 49923 | | Last Changed Date: 2010-07-26 11:43:59 -0700 |
| wilson1 | Linux (openSUSE 11.1) / x86_64 | OK | WARNINGS | |
| liverpool | Windows Server 2003 R2 (32-bit) / x64 | OK | WARNINGS | OK |
| gewurz | Windows Server 2008 R2 Enterprise (64-bit) / x64 | OK | WARNINGS | OK |
| pelham | Mac OS X Leopard (10.5.8) / i386 | OK | WARNINGS | OK |
Rtreemix 1.10.0 Jasmina Bogojeska
| Last Changed Rev: 46401 / Revision: 49923 | | Last Changed Date: 2010-04-22 11:21:23 -0700 |
| wilson1 | Linux (openSUSE 11.1) / x86_64 | OK | OK | |
| liverpool | Windows Server 2003 R2 (32-bit) / x64 | OK | OK | OK |
| gewurz | Windows Server 2008 R2 Enterprise (64-bit) / x64 | OK | OK | OK |
| pelham | Mac OS X Leopard (10.5.8) / i386 | OK | OK | OK |
Ruuid 1.26.0 Biocore Team c/o BioC user list
| Last Changed Rev: 46401 / Revision: 49923 | | Last Changed Date: 2010-04-22 11:21:23 -0700 |
| wilson1 | Linux (openSUSE 11.1) / x86_64 | OK | OK | |
| liverpool | Windows Server 2003 R2 (32-bit) / x64 | OK | OK | OK |
| gewurz | Windows Server 2008 R2 Enterprise (64-bit) / x64 | OK | OK | OK |
| pelham | Mac OS X Leopard (10.5.8) / i386 | OK | OK | OK |
RWebServices 1.12.0 Martin Morgan
| Last Changed Rev: 46401 / Revision: 49923 | | Last Changed Date: 2010-04-22 11:21:23 -0700 |
| wilson1 | Linux (openSUSE 11.1) / x86_64 | OK | OK | |
| liverpool | Windows Server 2003 R2 (32-bit) / x64 | N O T S U P P O R T E D |
| gewurz | Windows Server 2008 R2 Enterprise (64-bit) / x64 | N O T S U P P O R T E D |
| pelham | Mac OS X Leopard (10.5.8) / i386 | N O T S U P P O R T E D |
|
| S A B C D E F G H I J K L M N O P Q R [S] T U V W X Y Z |
safe 2.8.0 William T. Barry
| Last Changed Rev: 46401 / Revision: 49923 | | Last Changed Date: 2010-04-22 11:21:23 -0700 |
| wilson1 | Linux (openSUSE 11.1) / x86_64 | OK | OK | |
| liverpool | Windows Server 2003 R2 (32-bit) / x64 | OK | OK | OK |
| gewurz | Windows Server 2008 R2 Enterprise (64-bit) / x64 | OK | OK | OK |
| pelham | Mac OS X Leopard (10.5.8) / i386 | OK | OK | OK |
sagenhaft 1.18.0 Tim Beissbarth
| Last Changed Rev: 46401 / Revision: 49923 | | Last Changed Date: 2010-04-22 11:21:23 -0700 |
| wilson1 | Linux (openSUSE 11.1) / x86_64 | OK | OK | |
| liverpool | Windows Server 2003 R2 (32-bit) / x64 | OK | OK | OK |
| gewurz | Windows Server 2008 R2 Enterprise (64-bit) / x64 | OK | OK | OK |
| pelham | Mac OS X Leopard (10.5.8) / i386 | OK | OK | OK |
SAGx 1.22.0 Per Broberg,
| Last Changed Rev: 46401 / Revision: 49923 | | Last Changed Date: 2010-04-22 11:21:23 -0700 |
| wilson1 | Linux (openSUSE 11.1) / x86_64 | OK | OK | |
| liverpool | Windows Server 2003 R2 (32-bit) / x64 | OK | OK | OK |
| gewurz | Windows Server 2008 R2 Enterprise (64-bit) / x64 | OK | OK | OK |
| pelham | Mac OS X Leopard (10.5.8) / i386 | OK | OK | OK |
SamSPECTRAL 1.1.6 Habil Zare
| Last Changed Rev: 46693 / Revision: 49923 | | Last Changed Date: 2010-05-04 09:51:24 -0700 |
| wilson1 | Linux (openSUSE 11.1) / x86_64 | OK | OK | |
| liverpool | Windows Server 2003 R2 (32-bit) / x64 | TIMEOUT | skipped | skipped |
| gewurz | Windows Server 2008 R2 Enterprise (64-bit) / x64 | OK | OK | OK |
| pelham | Mac OS X Leopard (10.5.8) / i386 | OK | OK | OK |
SBMLR 1.44.0 Tomas Radivoyevitch
| Last Changed Rev: 46401 / Revision: 49923 | | Last Changed Date: 2010-04-22 11:21:23 -0700 |
| wilson1 | Linux (openSUSE 11.1) / x86_64 | OK | OK | |
| liverpool | Windows Server 2003 R2 (32-bit) / x64 | OK | OK | OK |
| gewurz | Windows Server 2008 R2 Enterprise (64-bit) / x64 | OK | OK | OK |
| pelham | Mac OS X Leopard (10.5.8) / i386 | OK | OK | OK |
ScISI 1.20.0 Tony Chiang
| Last Changed Rev: 46401 / Revision: 49923 | | Last Changed Date: 2010-04-22 11:21:23 -0700 |
| wilson1 | Linux (openSUSE 11.1) / x86_64 | OK | OK | |
| liverpool | Windows Server 2003 R2 (32-bit) / x64 | OK | OK | OK |
| gewurz | Windows Server 2008 R2 Enterprise (64-bit) / x64 | OK | OK | OK |
| pelham | Mac OS X Leopard (10.5.8) / i386 | OK | OK | OK |
segmentSeq 1.0.1 Thomas J. Hardcastle
| Last Changed Rev: 46644 / Revision: 49923 | | Last Changed Date: 2010-04-30 07:09:37 -0700 |
| wilson1 | Linux (openSUSE 11.1) / x86_64 | OK | OK | |
| liverpool | Windows Server 2003 R2 (32-bit) / x64 | OK | WARNINGS | OK |
| gewurz | Windows Server 2008 R2 Enterprise (64-bit) / x64 | OK | WARNINGS | OK |
| pelham | Mac OS X Leopard (10.5.8) / i386 | OK | OK | OK |
seqLogo 1.14.0 Oliver Bembom
| Last Changed Rev: 46401 / Revision: 49923 | | Last Changed Date: 2010-04-22 11:21:23 -0700 |
| wilson1 | Linux (openSUSE 11.1) / x86_64 | OK | OK | |
| liverpool | Windows Server 2003 R2 (32-bit) / x64 | OK | OK | OK |
| gewurz | Windows Server 2008 R2 Enterprise (64-bit) / x64 | OK | OK | OK |
| pelham | Mac OS X Leopard (10.5.8) / i386 | OK | OK | OK |
ShortRead 1.6.2 Biocore Team c/o BioC user list
| Last Changed Rev: 46600 / Revision: 49923 | | Last Changed Date: 2010-04-28 10:21:31 -0700 |
| wilson1 | Linux (openSUSE 11.1) / x86_64 | OK | OK | |
| liverpool | Windows Server 2003 R2 (32-bit) / x64 | OK | OK | OK |
| gewurz | Windows Server 2008 R2 Enterprise (64-bit) / x64 | OK | OK | OK |
| pelham | Mac OS X Leopard (10.5.8) / i386 | OK | OK | OK |
siggenes 1.22.0 Holger Schwender
| Last Changed Rev: 46401 / Revision: 49923 | | Last Changed Date: 2010-04-22 11:21:23 -0700 |
| wilson1 | Linux (openSUSE 11.1) / x86_64 | OK | OK | |
| liverpool | Windows Server 2003 R2 (32-bit) / x64 | OK | OK | OK |
| gewurz | Windows Server 2008 R2 Enterprise (64-bit) / x64 | OK | OK | OK |
| pelham | Mac OS X Leopard (10.5.8) / i386 | OK | OK | OK |
sigPathway 1.16.0 Weil Lai
| Last Changed Rev: 46401 / Revision: 49923 | | Last Changed Date: 2010-04-22 11:21:23 -0700 |
| wilson1 | Linux (openSUSE 11.1) / x86_64 | OK | OK | |
| liverpool | Windows Server 2003 R2 (32-bit) / x64 | OK | OK | OK |
| gewurz | Windows Server 2008 R2 Enterprise (64-bit) / x64 | OK | OK | OK |
| pelham | Mac OS X Leopard (10.5.8) / i386 | OK | OK | OK |
SIM 1.16.0 Maarten van Iterson
| Last Changed Rev: 46401 / Revision: 49923 | | Last Changed Date: 2010-04-22 11:21:23 -0700 |
| wilson1 | Linux (openSUSE 11.1) / x86_64 | OK | OK | |
| liverpool | Windows Server 2003 R2 (32-bit) / x64 | OK | OK | OK |
| gewurz | Windows Server 2008 R2 Enterprise (64-bit) / x64 | N O T S U P P O R T E D |
| pelham | Mac OS X Leopard (10.5.8) / i386 | OK | OK | OK |
simpleaffy 2.24.0 Crispin Miller
| Last Changed Rev: 46401 / Revision: 49923 | | Last Changed Date: 2010-04-22 11:21:23 -0700 |
| wilson1 | Linux (openSUSE 11.1) / x86_64 | OK | OK | |
| liverpool | Windows Server 2003 R2 (32-bit) / x64 | OK | OK | OK |
| gewurz | Windows Server 2008 R2 Enterprise (64-bit) / x64 | OK | OK | OK |
| pelham | Mac OS X Leopard (10.5.8) / i386 | OK | OK | OK |
simulatorAPMS 1.20.0 Tony Chiang
| Last Changed Rev: 46401 / Revision: 49923 | | Last Changed Date: 2010-04-22 11:21:23 -0700 |
| wilson1 | Linux (openSUSE 11.1) / x86_64 | OK | OK | |
| liverpool | Windows Server 2003 R2 (32-bit) / x64 | OK | OK | OK |
| gewurz | Windows Server 2008 R2 Enterprise (64-bit) / x64 | OK | OK | OK |
| pelham | Mac OS X Leopard (10.5.8) / i386 | OK | OK | OK |
sizepower 1.18.0 Weiliang Qiu
| Last Changed Rev: 46401 / Revision: 49923 | | Last Changed Date: 2010-04-22 11:21:23 -0700 |
| wilson1 | Linux (openSUSE 11.1) / x86_64 | OK | OK | |
| liverpool | Windows Server 2003 R2 (32-bit) / x64 | OK | OK | OK |
| gewurz | Windows Server 2008 R2 Enterprise (64-bit) / x64 | OK | OK | OK |
| pelham | Mac OS X Leopard (10.5.8) / i386 | OK | OK | OK |
SJava 0.74.0 Martin Morgan
| Last Changed Rev: 46401 / Revision: 49923 | | Last Changed Date: 2010-04-22 11:21:23 -0700 |
| wilson1 | Linux (openSUSE 11.1) / x86_64 | OK | OK | |
| liverpool | Windows Server 2003 R2 (32-bit) / x64 | N O T S U P P O R T E D |
| gewurz | Windows Server 2008 R2 Enterprise (64-bit) / x64 | N O T S U P P O R T E D |
| pelham | Mac OS X Leopard (10.5.8) / i386 | N O T S U P P O R T E D |
SLGI 1.8.0 Nolwenn Le Meur
| Last Changed Rev: 46401 / Revision: 49923 | | Last Changed Date: 2010-04-22 11:21:23 -0700 |
| wilson1 | Linux (openSUSE 11.1) / x86_64 | OK | OK | |
| liverpool | Windows Server 2003 R2 (32-bit) / x64 | OK | OK | OK |
| gewurz | Windows Server 2008 R2 Enterprise (64-bit) / x64 | OK | OK | OK |
| pelham | Mac OS X Leopard (10.5.8) / i386 | OK | OK | OK |
SLqPCR 1.14.0 Matthias Kohl
| Last Changed Rev: 46401 / Revision: 49923 | | Last Changed Date: 2010-04-22 11:21:23 -0700 |
| wilson1 | Linux (openSUSE 11.1) / x86_64 | OK | OK | |
| liverpool | Windows Server 2003 R2 (32-bit) / x64 | OK | OK | OK |
| gewurz | Windows Server 2008 R2 Enterprise (64-bit) / x64 | OK | OK | OK |
| pelham | Mac OS X Leopard (10.5.8) / i386 | OK | OK | OK |
SMAP 1.12.0 Robin Andersson
| Last Changed Rev: 46401 / Revision: 49923 | | Last Changed Date: 2010-04-22 11:21:23 -0700 |
| wilson1 | Linux (openSUSE 11.1) / x86_64 | OK | OK | |
| liverpool | Windows Server 2003 R2 (32-bit) / x64 | OK | OK | OK |
| gewurz | Windows Server 2008 R2 Enterprise (64-bit) / x64 | OK | OK | OK |
| pelham | Mac OS X Leopard (10.5.8) / i386 | OK | OK | OK |
snapCGH 1.18.0 John Marioni
| Last Changed Rev: 47149 / Revision: 49923 | | Last Changed Date: 2010-05-26 11:24:55 -0700 |
| wilson1 | Linux (openSUSE 11.1) / x86_64 | OK | OK | |
| liverpool | Windows Server 2003 R2 (32-bit) / x64 | OK | OK | OK |
| gewurz | Windows Server 2008 R2 Enterprise (64-bit) / x64 | OK | OK | OK |
| pelham | Mac OS X Leopard (10.5.8) / i386 | OK | OK | OK |
SNPchip 1.12.0 Robert Scharpf
| Last Changed Rev: 46401 / Revision: 49923 | | Last Changed Date: 2010-04-22 11:21:23 -0700 |
| wilson1 | Linux (openSUSE 11.1) / x86_64 | OK | OK | |
| liverpool | Windows Server 2003 R2 (32-bit) / x64 | OK | OK | OK |
| gewurz | Windows Server 2008 R2 Enterprise (64-bit) / x64 | OK | OK | OK |
| pelham | Mac OS X Leopard (10.5.8) / i386 | OK | OK | OK |
snpMatrix 1.12.0 David Clayton
| Last Changed Rev: 46401 / Revision: 49923 | | Last Changed Date: 2010-04-22 11:21:23 -0700 |
| wilson1 | Linux (openSUSE 11.1) / x86_64 | OK | OK | |
| liverpool | Windows Server 2003 R2 (32-bit) / x64 | OK | OK | OK |
| gewurz | Windows Server 2008 R2 Enterprise (64-bit) / x64 | OK | OK | OK |
| pelham | Mac OS X Leopard (10.5.8) / i386 | OK | WARNINGS | OK |
SpeCond 1.2.0 Florence Cavalli
| Last Changed Rev: 46401 / Revision: 49923 | | Last Changed Date: 2010-04-22 11:21:23 -0700 |
| wilson1 | Linux (openSUSE 11.1) / x86_64 | OK | OK | |
| liverpool | Windows Server 2003 R2 (32-bit) / x64 | OK | OK | OK |
| gewurz | Windows Server 2008 R2 Enterprise (64-bit) / x64 | OK | OK | OK |
| pelham | Mac OS X Leopard (10.5.8) / i386 | OK | OK | OK |
SPIA 1.6.0 Adi Laurentiu Tarca
| Last Changed Rev: 46401 / Revision: 49923 | | Last Changed Date: 2010-04-22 11:21:23 -0700 |
| wilson1 | Linux (openSUSE 11.1) / x86_64 | OK | OK | |
| liverpool | Windows Server 2003 R2 (32-bit) / x64 | OK | OK | OK |
| gewurz | Windows Server 2008 R2 Enterprise (64-bit) / x64 | OK | OK | OK |
| pelham | Mac OS X Leopard (10.5.8) / i386 | OK | OK | OK |
spikeLI 2.8.0 Enrico Carlon
| Last Changed Rev: 46467 / Revision: 49923 | | Last Changed Date: 2010-04-23 09:18:01 -0700 |
| wilson1 | Linux (openSUSE 11.1) / x86_64 | OK | OK | |
| liverpool | Windows Server 2003 R2 (32-bit) / x64 | OK | OK | OK |
| gewurz | Windows Server 2008 R2 Enterprise (64-bit) / x64 | OK | OK | OK |
| pelham | Mac OS X Leopard (10.5.8) / i386 | OK | OK | OK |
spkTools 1.4.0 Matthew N McCall
| Last Changed Rev: 46401 / Revision: 49923 | | Last Changed Date: 2010-04-22 11:21:23 -0700 |
| wilson1 | Linux (openSUSE 11.1) / x86_64 | OK | OK | |
| liverpool | Windows Server 2003 R2 (32-bit) / x64 | OK | OK | OK |
| gewurz | Windows Server 2008 R2 Enterprise (64-bit) / x64 | OK | OK | OK |
| pelham | Mac OS X Leopard (10.5.8) / i386 | OK | OK | OK |
splicegear 1.20.0 Laurent Gautier
| Last Changed Rev: 46401 / Revision: 49923 | | Last Changed Date: 2010-04-22 11:21:23 -0700 |
| wilson1 | Linux (openSUSE 11.1) / x86_64 | OK | OK | |
| liverpool | Windows Server 2003 R2 (32-bit) / x64 | OK | OK | OK |
| gewurz | Windows Server 2008 R2 Enterprise (64-bit) / x64 | OK | OK | OK |
| pelham | Mac OS X Leopard (10.5.8) / i386 | OK | OK | OK |
splots 1.14.0 Wolfgang Huber
| Last Changed Rev: 46401 / Revision: 49923 | | Last Changed Date: 2010-04-22 11:21:23 -0700 |
| wilson1 | Linux (openSUSE 11.1) / x86_64 | OK | OK | |
| liverpool | Windows Server 2003 R2 (32-bit) / x64 | OK | OK | OK |
| gewurz | Windows Server 2008 R2 Enterprise (64-bit) / x64 | OK | OK | OK |
| pelham | Mac OS X Leopard (10.5.8) / i386 | OK | OK | OK |
spotSegmentation 1.22.0 Chris Fraley
| Last Changed Rev: 46401 / Revision: 49923 | | Last Changed Date: 2010-04-22 11:21:23 -0700 |
| wilson1 | Linux (openSUSE 11.1) / x86_64 | OK | OK | |
| liverpool | Windows Server 2003 R2 (32-bit) / x64 | OK | OK | OK |
| gewurz | Windows Server 2008 R2 Enterprise (64-bit) / x64 | OK | OK | OK |
| pelham | Mac OS X Leopard (10.5.8) / i386 | OK | OK | OK |
SRAdb 1.2.1 Jack Zhu
| Last Changed Rev: 49339 / Revision: 49923 | | Last Changed Date: 2010-09-10 07:28:40 -0700 |
| wilson1 | Linux (openSUSE 11.1) / x86_64 | OK | WARNINGS | |
| liverpool | Windows Server 2003 R2 (32-bit) / x64 | OK | WARNINGS | OK |
| gewurz | Windows Server 2008 R2 Enterprise (64-bit) / x64 | OK | WARNINGS | OK |
| pelham | Mac OS X Leopard (10.5.8) / i386 | OK | WARNINGS | OK |
sscore 1.20.0 Richard Kennedy
| Last Changed Rev: 46401 / Revision: 49923 | | Last Changed Date: 2010-04-22 11:21:23 -0700 |
| wilson1 | Linux (openSUSE 11.1) / x86_64 | OK | OK | |
| liverpool | Windows Server 2003 R2 (32-bit) / x64 | OK | OK | OK |
| gewurz | Windows Server 2008 R2 Enterprise (64-bit) / x64 | OK | OK | OK |
| pelham | Mac OS X Leopard (10.5.8) / i386 | OK | OK | OK |
ssize 1.22.0 Gregory R. Warnes
| Last Changed Rev: 46401 / Revision: 49923 | | Last Changed Date: 2010-04-22 11:21:23 -0700 |
| wilson1 | Linux (openSUSE 11.1) / x86_64 | OK | OK | |
| liverpool | Windows Server 2003 R2 (32-bit) / x64 | OK | OK | OK |
| gewurz | Windows Server 2008 R2 Enterprise (64-bit) / x64 | OK | OK | OK |
| pelham | Mac OS X Leopard (10.5.8) / i386 | OK | OK | OK |
SSPA 1.4.0 Maarten van Iterson
| Last Changed Rev: 46401 / Revision: 49923 | | Last Changed Date: 2010-04-22 11:21:23 -0700 |
| wilson1 | Linux (openSUSE 11.1) / x86_64 | OK | OK | |
| liverpool | Windows Server 2003 R2 (32-bit) / x64 | OK | OK | OK |
| gewurz | Windows Server 2008 R2 Enterprise (64-bit) / x64 | OK | OK | OK |
| pelham | Mac OS X Leopard (10.5.8) / i386 | OK | OK | OK |
Starr 1.4.4 Benedikt Zacher
| Last Changed Rev: 47511 / Revision: 49923 | | Last Changed Date: 2010-06-17 04:57:38 -0700 |
| wilson1 | Linux (openSUSE 11.1) / x86_64 | OK | OK | |
| liverpool | Windows Server 2003 R2 (32-bit) / x64 | OK | WARNINGS | OK |
| gewurz | Windows Server 2008 R2 Enterprise (64-bit) / x64 | OK | OK | OK |
| pelham | Mac OS X Leopard (10.5.8) / i386 | OK | WARNINGS | OK |
stepNorm 1.20.0 Yuanyuan Xiao
| Last Changed Rev: 46401 / Revision: 49923 | | Last Changed Date: 2010-04-22 11:21:23 -0700 |
| wilson1 | Linux (openSUSE 11.1) / x86_64 | OK | OK | |
| liverpool | Windows Server 2003 R2 (32-bit) / x64 | OK | OK | OK |
| gewurz | Windows Server 2008 R2 Enterprise (64-bit) / x64 | OK | OK | OK |
| pelham | Mac OS X Leopard (10.5.8) / i386 | OK | OK | OK |
|
| T A B C D E F G H I J K L M N O P Q R S [T] U V W X Y Z |
TargetSearch 1.4.2 Alvaro Cuadros-Inostroza
| Last Changed Rev: 49209 / Revision: 49923 | | Last Changed Date: 2010-09-02 12:14:00 -0700 |
| wilson1 | Linux (openSUSE 11.1) / x86_64 | OK | OK | |
| liverpool | Windows Server 2003 R2 (32-bit) / x64 | OK | OK | OK |
| gewurz | Windows Server 2008 R2 Enterprise (64-bit) / x64 | OK | OK | OK |
| pelham | Mac OS X Leopard (10.5.8) / i386 | OK | OK | OK |
tigre 1.2.1 Antti Honkela
| Last Changed Rev: 49492 / Revision: 49923 | | Last Changed Date: 2010-09-20 05:17:57 -0700 |
| wilson1 | Linux (openSUSE 11.1) / x86_64 | OK | OK | |
| liverpool | Windows Server 2003 R2 (32-bit) / x64 | OK | OK | OK |
| gewurz | Windows Server 2008 R2 Enterprise (64-bit) / x64 | OK | OK | OK |
| pelham | Mac OS X Leopard (10.5.8) / i386 | OK | OK | OK |
tilingArray 1.26.0 Zhenyu Xu
| Last Changed Rev: 46401 / Revision: 49923 | | Last Changed Date: 2010-04-22 11:21:23 -0700 |
| wilson1 | Linux (openSUSE 11.1) / x86_64 | OK | OK | |
| liverpool | Windows Server 2003 R2 (32-bit) / x64 | OK | OK | OK |
| gewurz | Windows Server 2008 R2 Enterprise (64-bit) / x64 | OK | OK | OK |
| pelham | Mac OS X Leopard (10.5.8) / i386 | OK | OK | OK |
timecourse 1.20.0 Yu Chuan Tai
| Last Changed Rev: 46401 / Revision: 49923 | | Last Changed Date: 2010-04-22 11:21:23 -0700 |
| wilson1 | Linux (openSUSE 11.1) / x86_64 | OK | OK | |
| liverpool | Windows Server 2003 R2 (32-bit) / x64 | OK | OK | OK |
| gewurz | Windows Server 2008 R2 Enterprise (64-bit) / x64 | OK | OK | OK |
| pelham | Mac OS X Leopard (10.5.8) / i386 | OK | OK | OK |
tkWidgets 1.26.0 J. Zhang
| Last Changed Rev: 46401 / Revision: 49923 | | Last Changed Date: 2010-04-22 11:21:23 -0700 |
| wilson1 | Linux (openSUSE 11.1) / x86_64 | OK | OK | |
| liverpool | Windows Server 2003 R2 (32-bit) / x64 | OK | OK | OK |
| gewurz | Windows Server 2008 R2 Enterprise (64-bit) / x64 | OK | OK | OK |
| pelham | Mac OS X Leopard (10.5.8) / i386 | OK | OK | OK |
topGO 1.16.2 Adrian Alexa
| Last Changed Rev: 47312 / Revision: 49923 | | Last Changed Date: 2010-06-04 07:16:31 -0700 |
| wilson1 | Linux (openSUSE 11.1) / x86_64 | OK | OK | |
| liverpool | Windows Server 2003 R2 (32-bit) / x64 | OK | OK | OK |
| gewurz | Windows Server 2008 R2 Enterprise (64-bit) / x64 | OK | OK | OK |
| pelham | Mac OS X Leopard (10.5.8) / i386 | OK | OK | OK |
tspair 1.6.0 Jeffrey T. Leek
| Last Changed Rev: 46401 / Revision: 49923 | | Last Changed Date: 2010-04-22 11:21:23 -0700 |
| wilson1 | Linux (openSUSE 11.1) / x86_64 | OK | OK | |
| liverpool | Windows Server 2003 R2 (32-bit) / x64 | OK | OK | OK |
| gewurz | Windows Server 2008 R2 Enterprise (64-bit) / x64 | OK | OK | OK |
| pelham | Mac OS X Leopard (10.5.8) / i386 | OK | OK | OK |
twilight 1.24.0 Stefanie Scheid
| Last Changed Rev: 46401 / Revision: 49923 | | Last Changed Date: 2010-04-22 11:21:23 -0700 |
| wilson1 | Linux (openSUSE 11.1) / x86_64 | OK | OK | |
| liverpool | Windows Server 2003 R2 (32-bit) / x64 | OK | OK | OK |
| gewurz | Windows Server 2008 R2 Enterprise (64-bit) / x64 | OK | OK | OK |
| pelham | Mac OS X Leopard (10.5.8) / i386 | OK | OK | OK |
TypeInfo 1.14.0 Duncan Temple Lang
| Last Changed Rev: 46401 / Revision: 49923 | | Last Changed Date: 2010-04-22 11:21:23 -0700 |
| wilson1 | Linux (openSUSE 11.1) / x86_64 | OK | OK | |
| liverpool | Windows Server 2003 R2 (32-bit) / x64 | OK | OK | OK |
| gewurz | Windows Server 2008 R2 Enterprise (64-bit) / x64 | OK | OK | OK |
| pelham | Mac OS X Leopard (10.5.8) / i386 | OK | OK | OK |
|
| V A B C D E F G H I J K L M N O P Q R S T U [V] W X Y Z |
VanillaICE 1.10.0 Robert Scharpf
| Last Changed Rev: 46401 / Revision: 49923 | | Last Changed Date: 2010-04-22 11:21:23 -0700 |
| wilson1 | Linux (openSUSE 11.1) / x86_64 | OK | OK | |
| liverpool | Windows Server 2003 R2 (32-bit) / x64 | OK | OK | OK |
| gewurz | Windows Server 2008 R2 Enterprise (64-bit) / x64 | OK | OK | OK |
| pelham | Mac OS X Leopard (10.5.8) / i386 | OK | OK | OK |
vbmp 1.16.0 Nicola Lama
| Last Changed Rev: 46401 / Revision: 49923 | | Last Changed Date: 2010-04-22 11:21:23 -0700 |
| wilson1 | Linux (openSUSE 11.1) / x86_64 | OK | OK | |
| liverpool | Windows Server 2003 R2 (32-bit) / x64 | OK | OK | OK |
| gewurz | Windows Server 2008 R2 Enterprise (64-bit) / x64 | OK | OK | OK |
| pelham | Mac OS X Leopard (10.5.8) / i386 | OK | OK | OK |
vsn 3.16.0 Wolfgang Huber
| Last Changed Rev: 46401 / Revision: 49923 | | Last Changed Date: 2010-04-22 11:21:23 -0700 |
| wilson1 | Linux (openSUSE 11.1) / x86_64 | OK | OK | |
| liverpool | Windows Server 2003 R2 (32-bit) / x64 | OK | OK | OK |
| gewurz | Windows Server 2008 R2 Enterprise (64-bit) / x64 | OK | OK | OK |
| pelham | Mac OS X Leopard (10.5.8) / i386 | OK | OK | OK |
|
| W A B C D E F G H I J K L M N O P Q R S T U V [W] X Y Z |
weaver 1.14.0 Seth Falcon
| Last Changed Rev: 46401 / Revision: 49923 | | Last Changed Date: 2010-04-22 11:21:23 -0700 |
| wilson1 | Linux (openSUSE 11.1) / x86_64 | OK | OK | |
| liverpool | Windows Server 2003 R2 (32-bit) / x64 | OK | OK | OK |
| gewurz | Windows Server 2008 R2 Enterprise (64-bit) / x64 | OK | OK | OK |
| pelham | Mac OS X Leopard (10.5.8) / i386 | OK | OK | OK |
webbioc 1.20.0 Colin A. Smith
| Last Changed Rev: 46401 / Revision: 49923 | | Last Changed Date: 2010-04-22 11:21:23 -0700 |
| wilson1 | Linux (openSUSE 11.1) / x86_64 | OK | OK | |
| liverpool | Windows Server 2003 R2 (32-bit) / x64 | OK | OK | OK |
| gewurz | Windows Server 2008 R2 Enterprise (64-bit) / x64 | OK | OK | OK |
| pelham | Mac OS X Leopard (10.5.8) / i386 | OK | OK | OK |
widgetTools 1.26.0 Jianhua Zhang
| Last Changed Rev: 46401 / Revision: 49923 | | Last Changed Date: 2010-04-22 11:21:23 -0700 |
| wilson1 | Linux (openSUSE 11.1) / x86_64 | OK | OK | |
| liverpool | Windows Server 2003 R2 (32-bit) / x64 | OK | OK | OK |
| gewurz | Windows Server 2008 R2 Enterprise (64-bit) / x64 | OK | OK | OK |
| pelham | Mac OS X Leopard (10.5.8) / i386 | OK | OK | OK |
|
| X A B C D E F G H I J K L M N O P Q R S T U V W [X] Y Z |
xcms 1.22.1 Colin A. Smith
| Last Changed Rev: 46680 / Revision: 49923 | | Last Changed Date: 2010-05-03 14:58:19 -0700 |
| wilson1 | Linux (openSUSE 11.1) / x86_64 | OK | OK | |
| liverpool | Windows Server 2003 R2 (32-bit) / x64 | OK | OK | OK |
| gewurz | Windows Server 2008 R2 Enterprise (64-bit) / x64 | OK | OK | OK |
| pelham | Mac OS X Leopard (10.5.8) / i386 | OK | OK | OK |
XDE 1.8.0 Robert Scharpf
| Last Changed Rev: 46401 / Revision: 49923 | | Last Changed Date: 2010-04-22 11:21:23 -0700 |
| wilson1 | Linux (openSUSE 11.1) / x86_64 | OK | OK | |
| liverpool | Windows Server 2003 R2 (32-bit) / x64 | OK | OK | OK |
| gewurz | Windows Server 2008 R2 Enterprise (64-bit) / x64 | OK | OK | OK |
| pelham | Mac OS X Leopard (10.5.8) / i386 | OK | OK | OK |
xmapbridge 1.6.0 Tim Yates
| Last Changed Rev: 46401 / Revision: 49923 | | Last Changed Date: 2010-04-22 11:21:23 -0700 |
| wilson1 | Linux (openSUSE 11.1) / x86_64 | OK | OK | |
| liverpool | Windows Server 2003 R2 (32-bit) / x64 | OK | OK | OK |
| gewurz | Windows Server 2008 R2 Enterprise (64-bit) / x64 | OK | OK | OK |
| pelham | Mac OS X Leopard (10.5.8) / i386 | OK | OK | OK |
xmapcore 1.2.8 Tim Yates
| Last Changed Rev: 49044 / Revision: 49923 | | Last Changed Date: 2010-08-26 02:22:29 -0700 |
| wilson1 | Linux (openSUSE 11.1) / x86_64 | OK | OK | |
| liverpool | Windows Server 2003 R2 (32-bit) / x64 | N O T S U P P O R T E D |
| gewurz | Windows Server 2008 R2 Enterprise (64-bit) / x64 | N O T S U P P O R T E D |
| pelham | Mac OS X Leopard (10.5.8) / i386 | OK | OK | OK |
xps 1.8.3 Christian Stratowa
| Last Changed Rev: 48973 / Revision: 49923 | | Last Changed Date: 2010-08-22 10:30:49 -0700 |
| wilson1 | Linux (openSUSE 11.1) / x86_64 | OK | OK | |
| liverpool | Windows Server 2003 R2 (32-bit) / x64 | OK | OK | OK |
| gewurz | Windows Server 2008 R2 Enterprise (64-bit) / x64 | N O T S U P P O R T E D |
| pelham | Mac OS X Leopard (10.5.8) / i386 | OK | OK | OK |
|
| Y A B C D E F G H I J K L M N O P Q R S T U V W X [Y] Z |
yaqcaffy 1.8.0 Laurent Gatto
| Last Changed Rev: 46401 / Revision: 49923 | | Last Changed Date: 2010-04-22 11:21:23 -0700 |
| wilson1 | Linux (openSUSE 11.1) / x86_64 | OK | OK | |
| liverpool | Windows Server 2003 R2 (32-bit) / x64 | OK | OK | OK |
| gewurz | Windows Server 2008 R2 Enterprise (64-bit) / x64 | OK | OK | OK |
| pelham | Mac OS X Leopard (10.5.8) / i386 | OK | OK | OK |