| Back to the "Multiple platform build/check report" | A B C D E F G H I J [K] L M N O P Q R S T U V W X Y Z |
| Package 206/389 | Hostname | OS / Arch | BUILD | CHECK | BUILD BIN | ||||
| KEGGSOAP 1.22.0 Robert Gentleman
| wilson1 | Linux (openSUSE 11.1) / x86_64 | [ OK ] | OK | |||||
| liverpool | Windows Server 2003 R2 (32-bit) / x64 | OK | OK | OK | |||||
| gewurz | Windows Server 2008 R2 Enterprise (64-bit) / x64 | OK | OK | OK | |||||
| pelham | Mac OS X Leopard (10.5.8) / i386 | OK | OK | OK |
| Package: KEGGSOAP |
| Version: 1.22.0 |
| Command: /home/biocbuild/bbs-2.6-bioc/R/bin/R CMD build KEGGSOAP |
| StartedAt: 2010-10-04 13:24:13 -0700 (Mon, 04 Oct 2010) |
| EndedAt: 2010-10-04 13:24:13 -0700 (Mon, 04 Oct 2010) |
| EllapsedTime: 0.5 seconds |
| RetCode: 0 |
| Status: OK |
| PackageFile: KEGGSOAP_1.22.0.tar.gz |
| PackageFileSize: 9.833 KiB |
* checking for file 'KEGGSOAP/DESCRIPTION' ... OK * preparing 'KEGGSOAP': * checking DESCRIPTION meta-information ... OK * removing junk files * checking for LF line-endings in source and make files * checking for empty or unneeded directories * building 'KEGGSOAP_1.22.0.tar.gz'