| Back to the "Multiple platform build/check report" | A B C D E F G H I J K L M N O P Q R [S] T U V W X Y Z | 
| Package 368/389 | Hostname | OS / Arch | BUILD | CHECK | BUILD BIN | ||||
| stepNorm 1.20.0 Yuanyuan Xiao 
 | wilson1 | Linux (openSUSE 11.1) / x86_64 | OK | OK | |||||
| liverpool | Windows Server 2003 R2 (32-bit) / x64 | OK | OK | OK | |||||
| gewurz | Windows Server 2008 R2 Enterprise (64-bit) / x64 | [ OK ] | OK | OK | |||||
| pelham | Mac OS X Leopard (10.5.8) / i386 | OK | OK | OK | 
| Package: stepNorm | 
| Version: 1.20.0 | 
| Command: chmod a+r stepNorm -R && D:\biocbld\bbs-2.6-bioc\R\bin\R.exe CMD build stepNorm | 
| StartedAt: 2010-10-04 13:41:22 -0700 (Mon, 04 Oct 2010) | 
| EndedAt: 2010-10-04 13:41:24 -0700 (Mon, 04 Oct 2010) | 
| EllapsedTime: 2.8 seconds | 
| RetCode: 0 | 
| Status: OK | 
| PackageFile: stepNorm_1.20.0.tar.gz | 
| PackageFileSize: 450.9 KiB | 
* checking for file 'stepNorm/DESCRIPTION' ... OK * preparing 'stepNorm': * checking DESCRIPTION meta-information ... OK * removing junk files * checking for LF line-endings in source and make files * checking for empty or unneeded directories * building 'stepNorm_1.20.0.tar.gz'