| Back to the "Multiple platform build/check report" | A B C D [E] F G H I J K L M N O P Q R S T U V W X Y Z |
| Package 114/389 | Hostname | OS / Arch | BUILD | CHECK | BUILD BIN | ||||
| exonmap 2.6.1 Crispin Miller
| wilson1 | Linux (openSUSE 11.1) / x86_64 | OK | OK | |||||
| liverpool | Windows Server 2003 R2 (32-bit) / x64 | OK | OK | OK | |||||
| gewurz | Windows Server 2008 R2 Enterprise (64-bit) / x64 | N O T S U P P O R T E D | |||||||
| pelham | Mac OS X Leopard (10.5.8) / i386 | [ OK ] | OK | OK | |||||
| Package: exonmap |
| Version: 2.6.1 |
| Command: /Library/Frameworks/R.framework/Versions/2.11/Resources/bin/R CMD build exonmap |
| StartedAt: 2010-10-04 14:16:50 -0700 (Mon, 04 Oct 2010) |
| EndedAt: 2010-10-04 14:16:51 -0700 (Mon, 04 Oct 2010) |
| EllapsedTime: 1.4 seconds |
| RetCode: 0 |
| Status: OK |
| PackageFile: exonmap_2.6.1.tar.gz |
| PackageFileSize: 258 KiB |
* checking for file 'exonmap/DESCRIPTION' ... OK * preparing 'exonmap': * checking DESCRIPTION meta-information ... OK * removing junk files * checking for LF line-endings in source and make files * checking for empty or unneeded directories * building 'exonmap_2.6.1.tar.gz'