Back to the "Multiple platform build/check report"
| Package 10/172 | OS | Arch | BUILD | CHECK | BUILD BIN |
affypdnn1.6.0Laurent | Linux (SUSE 9.2) | x86_64 | OK | OK | |
| Linux (SUSE 9.2) | i686 | [ OK ] | OK | ||
| Solaris 2.9 | sparc | OK | OK | ||
| Linux (SUSE 10.0) | x86_64 | OK | OK | ||
| Windows Server 2003 | x86_64 | OK | OK | OK |
| Package: affypdnn |
| Version: 1.6.0 |
| Command: /loc/biocbuild/1.8d/R/bin/R CMD build affypdnn |
| RetCode: 0 |
| Time: 5.8 seconds |
| Status: OK |
| PackageFile: affypdnn_1.6.0.tar.gz |
* checking for file 'affypdnn/DESCRIPTION' ... OK * preparing 'affypdnn': * checking DESCRIPTION meta-information ... OK * checking whether 'INDEX' is up-to-date ... NO * use '--force' to overwrite the existing 'INDEX' * removing junk files * checking for LF line-endings in source files * checking for empty or unneeded directories * building 'affypdnn_1.6.0.tar.gz'