Back to the "Multiple platform build/check report"
| Package 10/172 | OS | Arch | BUILD | CHECK | BUILD BIN |
affypdnn1.6.0Laurent | Linux (SUSE 9.2) | x86_64 | OK | OK | |
| Linux (SUSE 9.2) | i686 | OK | OK | ||
| Solaris 2.9 | sparc | OK | OK | ||
| Linux (SUSE 10.0) | x86_64 | OK | OK | ||
| Windows Server 2003 | x86_64 | OK | [ OK ] | OK |
| Package: affypdnn |
| Version: 1.6.0 |
| Command: D:\biocbld\1.8d\R\bin\R.exe CMD check affypdnn_1.6.0.tar.gz |
| RetCode: 0 |
| Time: 824.9 seconds |
| Status: OK |
| CheckDir: affypdnn.Rcheck |
| Warnings: 0 |
* checking for working latex ... OK * using log directory 'D:/biocbld/1.8d/Rpacks/affypdnn.Rcheck' * using Version 2.3.1 (2006-06-01) * checking for file 'affypdnn/DESCRIPTION' ... OK * this is package 'affypdnn' version '1.6.0' * checking package dependencies ... OK * checking if this is a source package ... OK * checking whether package 'affypdnn' can be installed ... OK * checking package directory ... OK * checking for portable file names ... OK * checking DESCRIPTION meta-information ... OK * checking top-level files ... OK * checking index information ... OK * checking package subdirectories ... OK * checking R files for syntax errors ... OK * checking R files for library.dynam ... OK * checking S3 generic/method consistency ... OK * checking replacement functions ... OK * checking foreign function calls ... OK * checking Rd files ... OK * checking for missing documentation entries ... OK * checking for code/documentation mismatches ... OK * checking Rd \usage sections ... OK * creating affypdnn-Ex.R ... OK * checking examples ... OK * creating affypdnn-manual.tex ... OK * checking affypdnn-manual.tex ... OK
affypdnn.Rcheck/00install.out:
installing R.css in D:/biocbld/1.8d/Rpacks/affypdnn.Rcheck
---------- Making package affypdnn ------------
adding build stamp to DESCRIPTION
installing R files
installing inst files
installing data files
installing man source files
installing indices
not zipping data
installing help
>>> Building/Updating help pages for package 'affypdnn'
Formats: text html latex example chm
chiptype.pdnn.params text html latex example chm
expressopdnn text html latex example chm
find.params.pdnn text html latex example chm
generateExprVal.method.pdnn text html latex example chm
matplotProbesPDNN text html latex example chm
pdnn.params.chiptype text html latex example chm
transform.ProbeSet text html latex example chm
Microsoft HTML Help Compiler 4.74.8702
Compiling d:\biocbld\1.8d\Rpacks\affypdnn.Rcheck\00_pkg_src\affypdnn\chm\affypdnn.chm
Compile time: 0 minutes, 0 seconds
8 Topics
31 Local links
0 Internet links
1 Graphic
Created d:\biocbld\1.8d\Rpacks\affypdnn.Rcheck\00_pkg_src\affypdnn\chm\affypdnn.chm, 27,619 bytes
Compression decreased file by 7,741 bytes.
preparing package affypdnn for lazy loading
Welcome to Bioconductor
Vignettes contain introductory material. To view, type
'openVignette()' or start with 'help(Biobase)'. For details
on reading vignettes, see the openVignette help page.
adding MD5 sums
* DONE (affypdnn)