Back to the "Multiple platform build/check report"
| Package 10/172 | OS | Arch | BUILD | CHECK | BUILD BIN |
affypdnn1.6.0Laurent | Linux (SUSE 9.2) | x86_64 | OK | OK | |
| Linux (SUSE 9.2) | i686 | OK | OK | ||
| Solaris 2.9 | sparc | OK | OK | ||
| Linux (SUSE 10.0) | x86_64 | OK | [ OK ] | ||
| Windows Server 2003 | x86_64 | OK | OK | OK |
| Package: affypdnn |
| Version: 1.6.0 |
| Command: /home/biocbuild/1.8d/R/bin/R CMD check affypdnn_1.6.0.tar.gz |
| RetCode: 0 |
| Time: 200.9 seconds |
| Status: OK |
| CheckDir: affypdnn.Rcheck |
| Warnings: 0 |
* checking for working latex ... OK * using log directory '/home/biocbuild/1.8d/Rpacks/affypdnn.Rcheck' * using Version 2.3.1 (2006-06-01) * checking for file 'affypdnn/DESCRIPTION' ... OK * this is package 'affypdnn' version '1.6.0' * checking package dependencies ... OK * checking if this is a source package ... OK * checking whether package 'affypdnn' can be installed ... OK * checking package directory ... OK * checking for portable file names ... OK * checking for sufficient/correct file permissions ... OK * checking DESCRIPTION meta-information ... OK * checking top-level files ... OK * checking index information ... OK * checking package subdirectories ... OK * checking R files for syntax errors ... OK * checking R files for library.dynam ... OK * checking S3 generic/method consistency ... OK * checking replacement functions ... OK * checking foreign function calls ... OK * checking Rd files ... OK * checking for missing documentation entries ... OK * checking for code/documentation mismatches ... OK * checking Rd \usage sections ... OK * creating affypdnn-Ex.R ... OK * checking examples ... OK * creating affypdnn-manual.tex ... OK * checking affypdnn-manual.tex ... OK
affypdnn.Rcheck/00install.out:
* Installing *source* package 'affypdnn' ...
** R
** data
** inst
** preparing package for lazy loading
Loading required package: affy
Loading required package: Biobase
Loading required package: tools
Welcome to Bioconductor
Vignettes contain introductory material. To view, type
'openVignette()' or start with 'help(Biobase)'. For details
on reading vignettes, see the openVignette help page.
Loading required package: affyio
Loading required package: affydata
Loading required package: hgu95av2probe
Loading required package: matchprobes
** help
>>> Building/Updating help pages for package 'affypdnn'
Formats: text html latex example
chiptype.pdnn.params text html latex example
expressopdnn text html latex example
find.params.pdnn text html latex example
generateExprVal.method.pdnn text html latex example
matplotProbesPDNN text html latex example
pdnn.params.chiptype text html latex example
transform.ProbeSet text html latex example
** building package indices ...
* DONE (affypdnn)