Back to the "Multiple platform build/check report"
| Package 61/172 | OS | Arch | BUILD | CHECK | BUILD BIN |
GeneTS2.10.1Korbinian Strimmer | Linux (SUSE 9.2) | x86_64 | OK | OK | |
| Linux (SUSE 9.2) | i686 | OK | OK | ||
| Solaris 2.9 | sparc | OK | OK | ||
| Linux (SUSE 10.0) | x86_64 | OK | OK | ||
| Windows Server 2003 | x86_64 | OK | [ OK ] | OK |
| Package: GeneTS |
| Version: 2.10.1 |
| Command: D:\biocbld\1.8d\R\bin\R.exe CMD check GeneTS_2.10.1.tar.gz |
| RetCode: 0 |
| Time: 61.8 seconds |
| Status: OK |
| CheckDir: GeneTS.Rcheck |
| Warnings: 0 |
* checking for working latex ... OK * using log directory 'D:/biocbld/1.8d/Rpacks/GeneTS.Rcheck' * using Version 2.3.1 (2006-06-01) * checking for file 'GeneTS/DESCRIPTION' ... OK * this is package 'GeneTS' version '2.10.1' * checking package dependencies ... OK * checking if this is a source package ... OK * checking whether package 'GeneTS' can be installed ... OK * checking package directory ... OK * checking for portable file names ... OK * checking DESCRIPTION meta-information ... OK * checking top-level files ... OK * checking index information ... OK * checking package subdirectories ... OK * checking R files for syntax errors ... OK * checking R files for library.dynam ... OK * checking S3 generic/method consistency ... OK * checking replacement functions ... OK * checking foreign function calls ... OK * checking Rd files ... OK * checking for missing documentation entries ... OK * checking for code/documentation mismatches ... OK * checking Rd \usage sections ... OK * creating GeneTS-Ex.R ... OK * checking examples ... OK * creating GeneTS-manual.tex ... OK * checking GeneTS-manual.tex ... OK
GeneTS.Rcheck/00install.out:
installing R.css in D:/biocbld/1.8d/Rpacks/GeneTS.Rcheck
---------- Making package GeneTS ------------
adding build stamp to DESCRIPTION
installing R files
installing inst files
installing data files
installing man source files
installing indices
not zipping data
installing help
>>> Building/Updating help pages for package 'GeneTS'
Formats: text html latex example chm
GeneTS-internal text html latex chm
avpg text html latex example chm
caulobacter text html latex example chm
cor.fit.mixture text html latex example chm
cor0.test text html latex example chm
dcor0 text html latex example chm
density.pr text html latex example chm
dominant.freqs text html latex example chm
ecoli text html latex example chm
fdr.control text html latex example chm
fdr.estimate.eta0 text html latex example chm
fisher.g.test text html latex example chm
ggm.estimate.pcor text html latex example chm
ggm.plot.graph text html latex example chm
ggm.simulate.data text html latex example chm
ggm.simulate.pcor text html latex example chm
ggm.test.edges text html latex example chm
is.constant text html latex example chm
kappa2n text html latex example chm
periodogram text html latex example chm
robust.g.test text html latex example chm
smtools text html latex example chm
z.transform text html latex example chm
Microsoft HTML Help Compiler 4.74.8702
Compiling d:\biocbld\1.8d\Rpacks\GeneTS.Rcheck\00_pkg_src\GeneTS\chm\GeneTS.chm
Compile time: 0 minutes, 0 seconds
24 Topics
107 Local links
44 Internet links
1 Graphic
Created d:\biocbld\1.8d\Rpacks\GeneTS.Rcheck\00_pkg_src\GeneTS\chm\GeneTS.chm, 59,035 bytes
Compression decreased file by 48,001 bytes.
preparing package GeneTS for lazy loading
adding MD5 sums
* DONE (GeneTS)