Back to the "Multiple platform build/check report"
| Package 61/172 | OS | Arch | BUILD | CHECK | BUILD BIN |
GeneTS2.10.1Korbinian Strimmer | Linux (SUSE 9.2) | x86_64 | [ OK ] | OK | |
| Linux (SUSE 9.2) | i686 | OK | OK | ||
| Solaris 2.9 | sparc | OK | OK | ||
| Linux (SUSE 10.0) | x86_64 | OK | OK | ||
| Windows Server 2003 | x86_64 | OK | OK | OK |
| Package: GeneTS |
| Version: 2.10.1 |
| Command: /loc/biocbuild/1.8d/R/bin/R CMD build GeneTS |
| RetCode: 0 |
| Time: 1.8 seconds |
| Status: OK |
| PackageFile: GeneTS_2.10.1.tar.gz |
* checking for file 'GeneTS/DESCRIPTION' ... OK * preparing 'GeneTS': * checking DESCRIPTION meta-information ... OK * removing junk files * checking for LF line-endings in source files * checking for empty or unneeded directories * building 'GeneTS_2.10.1.tar.gz'