Back to the "Multiple platform build/check report"
| Package 61/172 | OS | Arch | BUILD | CHECK | BUILD BIN |
GeneTS2.10.1Korbinian Strimmer | Linux (SUSE 9.2) | x86_64 | OK | [ OK ] | |
| Linux (SUSE 9.2) | i686 | OK | OK | ||
| Solaris 2.9 | sparc | OK | OK | ||
| Linux (SUSE 10.0) | x86_64 | OK | OK | ||
| Windows Server 2003 | x86_64 | OK | OK | OK |
| Package: GeneTS |
| Version: 2.10.1 |
| Command: /loc/biocbuild/1.8d/R/bin/R CMD check GeneTS_2.10.1.tar.gz |
| RetCode: 0 |
| Time: 62.2 seconds |
| Status: OK |
| CheckDir: GeneTS.Rcheck |
| Warnings: 0 |
* checking for working latex ... OK * using log directory '/loc/biocbuild/1.8d/Rpacks/GeneTS.Rcheck' * using Version 2.3.1 (2006-06-01) * checking for file 'GeneTS/DESCRIPTION' ... OK * this is package 'GeneTS' version '2.10.1' * checking package dependencies ... OK * checking if this is a source package ... OK * checking whether package 'GeneTS' can be installed ... OK * checking package directory ... OK * checking for portable file names ... OK * checking for sufficient/correct file permissions ... OK * checking DESCRIPTION meta-information ... OK * checking top-level files ... OK * checking index information ... OK * checking package subdirectories ... OK * checking R files for syntax errors ... OK * checking R files for library.dynam ... OK * checking S3 generic/method consistency ... OK * checking replacement functions ... OK * checking foreign function calls ... OK * checking Rd files ... OK * checking for missing documentation entries ... OK * checking for code/documentation mismatches ... OK * checking Rd \usage sections ... OK * creating GeneTS-Ex.R ... OK * checking examples ... OK * creating GeneTS-manual.tex ... OK * checking GeneTS-manual.tex ... OK
GeneTS.Rcheck/00install.out:
* Installing *source* package 'GeneTS' ...
** R
** data
** inst
** preparing package for lazy loading
Loading required package: corpcor
Loading required package: longitudinal
Loading required package: locfdr
Loading required package: splines
** help
>>> Building/Updating help pages for package 'GeneTS'
Formats: text html latex example
GeneTS-internal text html latex
avpg text html latex example
caulobacter text html latex example
cor.fit.mixture text html latex example
cor0.test text html latex example
dcor0 text html latex example
density.pr text html latex example
dominant.freqs text html latex example
ecoli text html latex example
fdr.control text html latex example
fdr.estimate.eta0 text html latex example
fisher.g.test text html latex example
ggm.estimate.pcor text html latex example
ggm.plot.graph text html latex example
ggm.simulate.data text html latex example
ggm.simulate.pcor text html latex example
ggm.test.edges text html latex example
is.constant text html latex example
kappa2n text html latex example
periodogram text html latex example
robust.g.test text html latex example
smtools text html latex example
z.transform text html latex example
** building package indices ...
* DONE (GeneTS)