Back to the "Multiple platform build/check report"
| Package 32/172 | OS | Arch | BUILD | CHECK | BUILD BIN |
ChromoViz1.4.0Jihoon Kim | Linux (SUSE 9.2) | x86_64 | OK | OK | |
| Linux (SUSE 9.2) | i686 | OK | OK | ||
| Solaris 2.9 | sparc | OK | OK | ||
| Linux (SUSE 10.0) | x86_64 | OK | OK | ||
| Windows Server 2003 | x86_64 | OK | [ OK ] | OK |
| Package: ChromoViz |
| Version: 1.4.0 |
| Command: D:\biocbld\1.8d\R\bin\R.exe CMD check ChromoViz_1.4.0.tar.gz |
| RetCode: 0 |
| Time: 28.6 seconds |
| Status: OK |
| CheckDir: ChromoViz.Rcheck |
| Warnings: 0 |
* checking for working latex ... OK * using log directory 'D:/biocbld/1.8d/Rpacks/ChromoViz.Rcheck' * using Version 2.3.1 (2006-06-01) * checking for file 'ChromoViz/DESCRIPTION' ... OK * checking extension type ... Package * this is package 'ChromoViz' version '1.4.0' * checking package dependencies ... OK * checking if this is a source package ... OK * checking whether package 'ChromoViz' can be installed ... OK * checking package directory ... OK * checking for portable file names ... OK * checking DESCRIPTION meta-information ... OK * checking top-level files ... OK * checking index information ... OK * checking package subdirectories ... OK * checking R files for syntax errors ... OK * checking R files for library.dynam ... OK * checking S3 generic/method consistency ... OK * checking replacement functions ... OK * checking foreign function calls ... OK * checking Rd files ... OK * checking for missing documentation entries ... OK * checking for code/documentation mismatches ... OK * checking Rd \usage sections ... OK * creating ChromoViz-Ex.R ... OK * checking examples ... OK * creating ChromoViz-manual.tex ... OK * checking ChromoViz-manual.tex ... OK
ChromoViz.Rcheck/00install.out:
installing R.css in D:/biocbld/1.8d/Rpacks/ChromoViz.Rcheck
---------- Making package ChromoViz ------------
adding build stamp to DESCRIPTION
installing R files
installing data files
installing man source files
There were 17 warnings (use warnings() to see them)
installing indices
not zipping data
installing help
>>> Building/Updating help pages for package 'ChromoViz'
Formats: text html latex example chm
cViz text html latex example chm
cViz.addAnnoNodes2SVG text html latex chm
cViz.addZeroToTheSingleDigit text html latex chm
cViz.distinctNames text html latex chm
cViz.drawChr text html latex chm
cViz.drawFeature text html latex chm
cViz.getHeightOfPolylinePoints text html latex chm
cViz.incPolylineAttrValue text html latex chm
cViz.incSVGviewBoxValue text html latex chm
cViz.incSingleAttrValue text html latex chm
cViz.incTextAttrValue text html latex chm
cViz.insertNewAttrValue text html latex chm
cViz.loadFiles text html latex chm
cViz.makeChromWrapperHtml text html latex chm
cViz.makeFrameHtml text html latex chm
cViz.makeHeaderHtml text html latex chm
cViz.mergeSVG text html latex chm
exprKnockout text html latex example chm
exprStemcell text html latex example chm
humanBand text html latex example chm
mouseBand text html latex example chm
svgControl text html latex chm
Microsoft HTML Help Compiler 4.74.8702
Compiling d:\biocbld\1.8d\Rpacks\ChromoViz.Rcheck\00_pkg_src\ChromoViz\chm\ChromoViz.chm
Compile time: 0 minutes, 0 seconds
23 Topics
60 Local links
0 Internet links
1 Graphic
Created d:\biocbld\1.8d\Rpacks\ChromoViz.Rcheck\00_pkg_src\ChromoViz\chm\ChromoViz.chm, 19,181 bytes
Compression decreased file by 12,945 bytes.
adding MD5 sums
* DONE (ChromoViz)