Back to the "Multiple platform build/check report"
| Package 32/172 | OS | Arch | BUILD | CHECK | BUILD BIN |
ChromoViz1.4.0Jihoon Kim | Linux (SUSE 9.2) | x86_64 | OK | [ OK ] | |
| Linux (SUSE 9.2) | i686 | OK | OK | ||
| Solaris 2.9 | sparc | OK | OK | ||
| Linux (SUSE 10.0) | x86_64 | OK | OK | ||
| Windows Server 2003 | x86_64 | OK | OK | OK |
| Package: ChromoViz |
| Version: 1.4.0 |
| Command: /loc/biocbuild/1.8d/R/bin/R CMD check ChromoViz_1.4.0.tar.gz |
| RetCode: 0 |
| Time: 21.8 seconds |
| Status: OK |
| CheckDir: ChromoViz.Rcheck |
| Warnings: 0 |
* checking for working latex ... OK * using log directory '/loc/biocbuild/1.8d/Rpacks/ChromoViz.Rcheck' * using Version 2.3.1 (2006-06-01) * checking for file 'ChromoViz/DESCRIPTION' ... OK * checking extension type ... Package * this is package 'ChromoViz' version '1.4.0' * checking package dependencies ... OK * checking if this is a source package ... OK * checking whether package 'ChromoViz' can be installed ... OK * checking package directory ... OK * checking for portable file names ... OK * checking for sufficient/correct file permissions ... OK * checking DESCRIPTION meta-information ... OK * checking top-level files ... OK * checking index information ... OK * checking package subdirectories ... OK * checking R files for syntax errors ... OK * checking R files for library.dynam ... OK * checking S3 generic/method consistency ... OK * checking replacement functions ... OK * checking foreign function calls ... OK * checking Rd files ... OK * checking for missing documentation entries ... OK * checking for code/documentation mismatches ... OK * checking Rd \usage sections ... OK * creating ChromoViz-Ex.R ... OK * checking examples ... OK * creating ChromoViz-manual.tex ... OK * checking ChromoViz-manual.tex ... OK
ChromoViz.Rcheck/00install.out:
* Installing *source* package 'ChromoViz' ...
** R
** data
** help
There were 17 warnings (use warnings() to see them)
>>> Building/Updating help pages for package 'ChromoViz'
Formats: text html latex example
cViz text html latex example
cViz.addAnnoNodes2SVG text html latex
cViz.addZeroToTheSingleDigit text html latex
cViz.distinctNames text html latex
cViz.drawChr text html latex
cViz.drawFeature text html latex
cViz.getHeightOfPolylinePoints text html latex
cViz.incPolylineAttrValue text html latex
cViz.incSVGviewBoxValue text html latex
cViz.incSingleAttrValue text html latex
cViz.incTextAttrValue text html latex
cViz.insertNewAttrValue text html latex
cViz.loadFiles text html latex
cViz.makeChromWrapperHtml text html latex
cViz.makeFrameHtml text html latex
cViz.makeHeaderHtml text html latex
cViz.mergeSVG text html latex
exprKnockout text html latex example
exprStemcell text html latex example
humanBand text html latex example
mouseBand text html latex example
svgControl text html latex
** building package indices ...
* DONE (ChromoViz)