Back to the "Multiple platform build/check report"
| Package 32/172 | OS | Arch | BUILD | CHECK | BUILD BIN |
ChromoViz1.4.0Jihoon Kim | Linux (SUSE 9.2) | x86_64 | [ OK ] | OK | |
| Linux (SUSE 9.2) | i686 | OK | OK | ||
| Solaris 2.9 | sparc | OK | OK | ||
| Linux (SUSE 10.0) | x86_64 | OK | OK | ||
| Windows Server 2003 | x86_64 | OK | OK | OK |
| Package: ChromoViz |
| Version: 1.4.0 |
| Command: /loc/biocbuild/1.8d/R/bin/R CMD build ChromoViz |
| RetCode: 0 |
| Time: 1.8 seconds |
| Status: OK |
| PackageFile: ChromoViz_1.4.0.tar.gz |
* checking for file 'ChromoViz/DESCRIPTION' ... OK * preparing 'ChromoViz': * checking DESCRIPTION meta-information ... OK * removing junk files * excluding invalid files from 'ChromoViz' Subdirectory 'man' contains invalid file names: README * checking for LF line-endings in source files * checking for empty or unneeded directories * building 'ChromoViz_1.4.0.tar.gz'