Back to Build/check report for BioC 3.22:   simplified   long
ABCDEFGHIJKLMNOPQR[S]TUVWXYZ

This page was generated on 2025-11-13 11:55 -0500 (Thu, 13 Nov 2025).

HostnameOSArch (*)R versionInstalled pkgs
taishanLinux (openEuler 24.03 LTS)aarch644.5.0 (2025-04-11) -- "How About a Twenty-Six" 4668
Click on any hostname to see more info about the system (e.g. compilers)      (*) as reported by 'uname -p', except on Windows and Mac OS X

Package 2101/2361HostnameOS / ArchINSTALLBUILDCHECKBUILD BIN
spiky 1.16.0  (landing page)
Tim Triche
Snapshot Date: 2025-11-12 13:45 -0500 (Wed, 12 Nov 2025)
git_url: https://git.bioconductor.org/packages/spiky
git_branch: RELEASE_3_22
git_last_commit: e4c8b36
git_last_commit_date: 2025-10-29 11:10:11 -0500 (Wed, 29 Oct 2025)
taishanLinux (openEuler 24.03 LTS) / aarch64  OK    OK    OK  


CHECK results for spiky on taishan

To the developers/maintainers of the spiky package:
- Allow up to 24 hours (and sometimes 48 hours) for your latest push to git@git.bioconductor.org:packages/spiky.git to reflect on this report. See Troubleshooting Build Report for more information.
- Use the following Renviron settings to reproduce errors and warnings.
- If 'R CMD check' started to fail recently on the Linux builder(s) over a missing dependency, add the missing dependency to 'Suggests:' in your DESCRIPTION file. See Renviron.bioc for more information.
- See Martin Grigorov's blog post for how to debug Linux ARM64 related issues on a x86_64 host.

raw results


Summary

Package: spiky
Version: 1.16.0
Command: /home/biocbuild/R/R/bin/R CMD check --install=check:spiky.install-out.txt --library=/home/biocbuild/R/R/site-library --no-vignettes --timings spiky_1.16.0.tar.gz
StartedAt: 2025-11-11 15:17:43 -0000 (Tue, 11 Nov 2025)
EndedAt: 2025-11-11 15:25:34 -0000 (Tue, 11 Nov 2025)
EllapsedTime: 470.7 seconds
RetCode: 0
Status:   OK  
CheckDir: spiky.Rcheck
Warnings: 0

Command output

##############################################################################
##############################################################################
###
### Running command:
###
###   /home/biocbuild/R/R/bin/R CMD check --install=check:spiky.install-out.txt --library=/home/biocbuild/R/R/site-library --no-vignettes --timings spiky_1.16.0.tar.gz
###
##############################################################################
##############################################################################


* using log directory ‘/home/biocbuild/bbs-3.22-bioc/meat/spiky.Rcheck’
* using R version 4.5.0 (2025-04-11)
* using platform: aarch64-unknown-linux-gnu
* R was compiled by
    aarch64-unknown-linux-gnu-gcc (GCC) 14.2.0
    GNU Fortran (GCC) 14.2.0
* running under: openEuler 24.03 (LTS)
* using session charset: UTF-8
* using option ‘--no-vignettes’
* checking for file ‘spiky/DESCRIPTION’ ... OK
* checking extension type ... Package
* this is package ‘spiky’ version ‘1.16.0’
* package encoding: UTF-8
* checking package namespace information ... OK
* checking package dependencies ... OK
* checking if this is a source package ... OK
* checking if there is a namespace ... OK
* checking for hidden files and directories ... OK
* checking for portable file names ... OK
* checking for sufficient/correct file permissions ... OK
* checking whether package ‘spiky’ can be installed ... OK
* checking installed package size ... INFO
  installed size is 16.4Mb
  sub-directories of 1Mb or more:
    data      3.2Mb
    extdata  12.9Mb
* checking package directory ... OK
* checking ‘build’ directory ... OK
* checking DESCRIPTION meta-information ... OK
* checking top-level files ... OK
* checking for left-over files ... OK
* checking index information ... OK
* checking package subdirectories ... OK
* checking code files for non-ASCII characters ... OK
* checking R files for syntax errors ... OK
* checking whether the package can be loaded ... OK
* checking whether the package can be loaded with stated dependencies ... OK
* checking whether the package can be unloaded cleanly ... OK
* checking whether the namespace can be loaded with stated dependencies ... OK
* checking whether the namespace can be unloaded cleanly ... OK
* checking loading without being on the library search path ... OK
* checking dependencies in R code ... OK
* checking S3 generic/method consistency ... OK
* checking replacement functions ... OK
* checking foreign function calls ... OK
* checking R code for possible problems ... NOTE
.toGRs: warning in grep("(chrom|seqnames|start|end)1", colnames(x), val
  = TRUE): partial argument match of 'val' to 'value'
.toGRs: warning in grep("(chrom|seqnames|start|end)2", colnames(x), val
  = TRUE): partial argument match of 'val' to 'value'
* checking Rd files ... OK
* checking Rd metadata ... OK
* checking Rd cross-references ... OK
* checking for missing documentation entries ... OK
* checking for code/documentation mismatches ... OK
* checking Rd \usage sections ... OK
* checking Rd contents ... OK
* checking for unstated dependencies in examples ... OK
* checking contents of ‘data’ directory ... OK
* checking data for non-ASCII characters ... OK
* checking LazyData ... OK
* checking data for ASCII and uncompressed saves ... OK
* checking files in ‘vignettes’ ... OK
* checking examples ... OK
Examples with CPU (user + system) or elapsed time > 5s
                       user system elapsed
scan_genomic_bedpe   17.294  0.474  22.743
scan_genomic_contigs 15.926  1.168  20.735
model_bam_standards   8.154  0.315  10.774
scan_spike_bedpe      4.788  0.214   6.901
bin_pmol              3.806  0.461   7.926
* checking for unstated dependencies in vignettes ... OK
* checking package vignettes ... OK
* checking running R code from vignettes ... SKIPPED
* checking re-building of vignette outputs ... SKIPPED
* checking PDF version of manual ... OK
* DONE

Status: 1 NOTE
See
  ‘/home/biocbuild/bbs-3.22-bioc/meat/spiky.Rcheck/00check.log’
for details.


Installation output

spiky.Rcheck/00install.out

##############################################################################
##############################################################################
###
### Running command:
###
###   /home/biocbuild/R/R/bin/R CMD INSTALL spiky
###
##############################################################################
##############################################################################


* installing to library ‘/home/biocbuild/R/R-4.5.0/site-library’
* installing *source* package ‘spiky’ ...
** this is package ‘spiky’ version ‘1.16.0’
** using staged installation
** R
** data
*** moving datasets to lazyload DB
** inst
** byte-compile and prepare package for lazy loading
** help
*** installing help indices
** building package indices
** installing vignettes
** testing if installed package can be loaded from temporary location
** testing if installed package can be loaded from final location
** testing if installed package keeps a record of temporary installation path
* DONE (spiky)

Tests output


Example timings

spiky.Rcheck/spiky-Ex.timings

nameusersystemelapsed
add_frag_info0.1740.0160.190
bam_to_bins0.1820.0080.190
bin_pmol3.8060.4617.926
covg_to_df0.1030.0000.104
find_spike_contigs0.0220.0080.057
generate_spike_fasta0.1260.0000.226
get_base_name0.0130.0000.013
get_binned_coverage0.2670.0000.369
get_merged_gr0.0770.0000.077
get_spike_depth0.3190.0120.331
get_spiked_coverage0.2590.0160.276
kmax0.0510.0000.051
kmers0.0330.0000.034
methylation_specificity0.1030.0040.155
model_bam_standards 8.154 0.31510.774
model_glm_pmol0.0760.0000.076
predict_pmol2.4730.4473.054
process_spikes0.2450.0040.267
read_bedpe000
scan_genomic_bedpe17.294 0.47422.743
scan_genomic_contigs15.926 1.16820.735
scan_methylation_specificity0.0390.0000.039
scan_spike_bedpe4.7880.2146.901
scan_spike_contigs0.5030.0440.706
scan_spike_counts0.0720.0040.077
scan_spiked_bam0.6660.0521.171
seqinfo_from_header0.1320.0160.298
spike_bland_altman_plot0.4160.0080.851
spike_counts0.0780.0000.154
tile_bins0.0510.0000.103