| Back to Multiple platform build/check report for BioC 3.22: simplified long |
|
This page was generated on 2025-11-20 12:05 -0500 (Thu, 20 Nov 2025).
| Hostname | OS | Arch (*) | R version | Installed pkgs |
|---|---|---|---|---|
| nebbiolo2 | Linux (Ubuntu 24.04.3 LTS) | x86_64 | 4.5.2 (2025-10-31) -- "[Not] Part in a Rumble" | 4615 |
| merida1 | macOS 12.7.6 Monterey | x86_64 | 4.5.2 Patched (2025-11-05 r88990) -- "[Not] Part in a Rumble" | 4610 |
| kjohnson1 | macOS 13.7.5 Ventura | arm64 | 4.5.2 Patched (2025-11-04 r88984) -- "[Not] Part in a Rumble" | 4598 |
| taishan | Linux (openEuler 24.03 LTS) | aarch64 | 4.5.0 (2025-04-11) -- "How About a Twenty-Six" | 4668 |
| Click on any hostname to see more info about the system (e.g. compilers) (*) as reported by 'uname -p', except on Windows and Mac OS X | ||||
| Package 2101/2361 | Hostname | OS / Arch | INSTALL | BUILD | CHECK | BUILD BIN | ||||||||
| spiky 1.16.0 (landing page) Tim Triche
| nebbiolo2 | Linux (Ubuntu 24.04.3 LTS) / x86_64 | OK | OK | OK | |||||||||
| merida1 | macOS 12.7.6 Monterey / x86_64 | OK | OK | OK | OK | |||||||||
| kjohnson1 | macOS 13.7.5 Ventura / arm64 | OK | OK | OK | OK | |||||||||
| taishan | Linux (openEuler 24.03 LTS) / aarch64 | OK | OK | OK | ||||||||||
|
To the developers/maintainers of the spiky package: - Allow up to 24 hours (and sometimes 48 hours) for your latest push to git@git.bioconductor.org:packages/spiky.git to reflect on this report. See Troubleshooting Build Report for more information. - Use the following Renviron settings to reproduce errors and warnings. - If 'R CMD check' started to fail recently on the Linux builder(s) over a missing dependency, add the missing dependency to 'Suggests:' in your DESCRIPTION file. See Renviron.bioc for more information. |
| Package: spiky |
| Version: 1.16.0 |
| Command: /Library/Frameworks/R.framework/Resources/bin/R CMD check --install=check:spiky.install-out.txt --library=/Library/Frameworks/R.framework/Resources/library --no-vignettes --timings spiky_1.16.0.tar.gz |
| StartedAt: 2025-11-18 15:14:27 -0500 (Tue, 18 Nov 2025) |
| EndedAt: 2025-11-18 15:24:50 -0500 (Tue, 18 Nov 2025) |
| EllapsedTime: 623.1 seconds |
| RetCode: 0 |
| Status: OK |
| CheckDir: spiky.Rcheck |
| Warnings: 0 |
##############################################################################
##############################################################################
###
### Running command:
###
### /Library/Frameworks/R.framework/Resources/bin/R CMD check --install=check:spiky.install-out.txt --library=/Library/Frameworks/R.framework/Resources/library --no-vignettes --timings spiky_1.16.0.tar.gz
###
##############################################################################
##############################################################################
* using log directory ‘/Users/biocbuild/bbs-3.22-bioc/meat/spiky.Rcheck’
* using R version 4.5.2 Patched (2025-11-05 r88990)
* using platform: x86_64-apple-darwin20
* R was compiled by
Apple clang version 14.0.0 (clang-1400.0.29.202)
GNU Fortran (GCC) 14.2.0
* running under: macOS Monterey 12.7.6
* using session charset: UTF-8
* using option ‘--no-vignettes’
* checking for file ‘spiky/DESCRIPTION’ ... OK
* checking extension type ... Package
* this is package ‘spiky’ version ‘1.16.0’
* package encoding: UTF-8
* checking package namespace information ... OK
* checking package dependencies ... OK
* checking if this is a source package ... OK
* checking if there is a namespace ... OK
* checking for hidden files and directories ... OK
* checking for portable file names ... OK
* checking for sufficient/correct file permissions ... OK
* checking whether package ‘spiky’ can be installed ... OK
* checking installed package size ... INFO
installed size is 16.3Mb
sub-directories of 1Mb or more:
data 3.1Mb
extdata 12.9Mb
* checking package directory ... OK
* checking ‘build’ directory ... OK
* checking DESCRIPTION meta-information ... OK
* checking top-level files ... OK
* checking for left-over files ... OK
* checking index information ... OK
* checking package subdirectories ... OK
* checking code files for non-ASCII characters ... OK
* checking R files for syntax errors ... OK
* checking whether the package can be loaded ... OK
* checking whether the package can be loaded with stated dependencies ... OK
* checking whether the package can be unloaded cleanly ... OK
* checking whether the namespace can be loaded with stated dependencies ... OK
* checking whether the namespace can be unloaded cleanly ... OK
* checking dependencies in R code ... OK
* checking S3 generic/method consistency ... OK
* checking replacement functions ... OK
* checking foreign function calls ... OK
* checking R code for possible problems ... NOTE
.toGRs: warning in grep("(chrom|seqnames|start|end)1", colnames(x), val
= TRUE): partial argument match of 'val' to 'value'
.toGRs: warning in grep("(chrom|seqnames|start|end)2", colnames(x), val
= TRUE): partial argument match of 'val' to 'value'
* checking Rd files ... OK
* checking Rd metadata ... OK
* checking Rd cross-references ... OK
* checking for missing documentation entries ... OK
* checking for code/documentation mismatches ... OK
* checking Rd \usage sections ... OK
* checking Rd contents ... OK
* checking for unstated dependencies in examples ... OK
* checking contents of ‘data’ directory ... OK
* checking data for non-ASCII characters ... OK
* checking LazyData ... OK
* checking data for ASCII and uncompressed saves ... OK
* checking files in ‘vignettes’ ... OK
* checking examples ... OK
Examples with CPU (user + system) or elapsed time > 5s
user system elapsed
scan_genomic_bedpe 30.672 0.837 32.062
scan_genomic_contigs 23.090 1.952 25.320
bin_pmol 10.339 4.395 15.242
model_bam_standards 12.308 0.300 12.678
scan_spike_bedpe 10.420 0.172 10.746
predict_pmol 5.733 2.017 7.889
* checking for unstated dependencies in vignettes ... OK
* checking package vignettes ... OK
* checking running R code from vignettes ... SKIPPED
* checking re-building of vignette outputs ... SKIPPED
* checking PDF version of manual ... OK
* DONE
Status: 1 NOTE
See
‘/Users/biocbuild/bbs-3.22-bioc/meat/spiky.Rcheck/00check.log’
for details.
spiky.Rcheck/00install.out
############################################################################## ############################################################################## ### ### Running command: ### ### /Library/Frameworks/R.framework/Resources/bin/R CMD INSTALL spiky ### ############################################################################## ############################################################################## * installing to library ‘/Library/Frameworks/R.framework/Versions/4.5-x86_64/Resources/library’ * installing *source* package ‘spiky’ ... ** this is package ‘spiky’ version ‘1.16.0’ ** using staged installation ** R ** data *** moving datasets to lazyload DB ** inst ** byte-compile and prepare package for lazy loading ** help *** installing help indices ** building package indices ** installing vignettes ** testing if installed package can be loaded from temporary location ** testing if installed package can be loaded from final location ** testing if installed package keeps a record of temporary installation path * DONE (spiky)
spiky.Rcheck/spiky-Ex.timings
| name | user | system | elapsed | |
| add_frag_info | 0.276 | 0.079 | 0.359 | |
| bam_to_bins | 0.339 | 0.047 | 0.388 | |
| bin_pmol | 10.339 | 4.395 | 15.242 | |
| covg_to_df | 0.174 | 0.004 | 0.178 | |
| find_spike_contigs | 0.047 | 0.007 | 0.055 | |
| generate_spike_fasta | 0.206 | 0.007 | 0.218 | |
| get_base_name | 0.025 | 0.004 | 0.029 | |
| get_binned_coverage | 0.504 | 0.017 | 0.525 | |
| get_merged_gr | 0.133 | 0.006 | 0.151 | |
| get_spike_depth | 0.545 | 0.014 | 0.574 | |
| get_spiked_coverage | 0.368 | 0.013 | 0.410 | |
| kmax | 0.081 | 0.005 | 0.086 | |
| kmers | 0.081 | 0.006 | 0.087 | |
| methylation_specificity | 0.169 | 0.007 | 0.178 | |
| model_bam_standards | 12.308 | 0.300 | 12.678 | |
| model_glm_pmol | 0.116 | 0.005 | 0.123 | |
| predict_pmol | 5.733 | 2.017 | 7.889 | |
| process_spikes | 0.435 | 0.025 | 0.461 | |
| read_bedpe | 0.000 | 0.001 | 0.000 | |
| scan_genomic_bedpe | 30.672 | 0.837 | 32.062 | |
| scan_genomic_contigs | 23.090 | 1.952 | 25.320 | |
| scan_methylation_specificity | 0.065 | 0.007 | 0.072 | |
| scan_spike_bedpe | 10.420 | 0.172 | 10.746 | |
| scan_spike_contigs | 0.871 | 0.183 | 1.075 | |
| scan_spike_counts | 0.121 | 0.022 | 0.149 | |
| scan_spiked_bam | 1.036 | 0.197 | 1.237 | |
| seqinfo_from_header | 0.203 | 0.017 | 0.222 | |
| spike_bland_altman_plot | 0.618 | 0.012 | 0.638 | |
| spike_counts | 0.128 | 0.005 | 0.139 | |
| tile_bins | 0.087 | 0.004 | 0.095 | |