Back to Multiple platform build/check report for BioC 3.21:   simplified   long
ABCDEFGHIJKLMNOPQR[S]TUVWXYZ

This page was generated on 2025-08-18 11:42 -0400 (Mon, 18 Aug 2025).

HostnameOSArch (*)R versionInstalled pkgs
nebbiolo1Linux (Ubuntu 24.04.3 LTS)x86_644.5.1 (2025-06-13) -- "Great Square Root" 4824
palomino7Windows Server 2022 Datacenterx644.5.1 (2025-06-13 ucrt) -- "Great Square Root" 4566
merida1macOS 12.7.5 Montereyx86_644.5.1 RC (2025-06-05 r88288) -- "Great Square Root" 4604
kjohnson1macOS 13.6.6 Venturaarm644.5.1 Patched (2025-06-14 r88325) -- "Great Square Root" 4545
kunpeng2Linux (openEuler 24.03 LTS)aarch64R Under development (unstable) (2025-02-19 r87757) -- "Unsuffered Consequences" 4579
Click on any hostname to see more info about the system (e.g. compilers)      (*) as reported by 'uname -p', except on Windows and Mac OS X

Package 2056/2341HostnameOS / ArchINSTALLBUILDCHECKBUILD BIN
spatialDE 1.14.1  (landing page)
Gabriele Sales
Snapshot Date: 2025-08-14 13:40 -0400 (Thu, 14 Aug 2025)
git_url: https://git.bioconductor.org/packages/spatialDE
git_branch: RELEASE_3_21
git_last_commit: 205de11
git_last_commit_date: 2025-04-15 08:22:50 -0400 (Tue, 15 Apr 2025)
nebbiolo1Linux (Ubuntu 24.04.3 LTS) / x86_64  OK    OK    OK  UNNEEDED, same version is already published
palomino7Windows Server 2022 Datacenter / x64  OK    OK    OK    OK  UNNEEDED, same version is already published
merida1macOS 12.7.5 Monterey / x86_64  OK    OK    OK    OK  UNNEEDED, same version is already published
kjohnson1macOS 13.6.6 Ventura / arm64  OK    OK    OK    OK  UNNEEDED, same version is already published
kunpeng2Linux (openEuler 24.03 LTS) / aarch64  OK    ERROR  skipped


CHECK results for spatialDE on palomino7

To the developers/maintainers of the spatialDE package:
- Allow up to 24 hours (and sometimes 48 hours) for your latest push to git@git.bioconductor.org:packages/spatialDE.git to reflect on this report. See Troubleshooting Build Report for more information.
- Use the following Renviron settings to reproduce errors and warnings.
- If 'R CMD check' started to fail recently on the Linux builder(s) over a missing dependency, add the missing dependency to 'Suggests:' in your DESCRIPTION file. See Renviron.bioc for more information.

raw results


Summary

Package: spatialDE
Version: 1.14.1
Command: E:\biocbuild\bbs-3.21-bioc\R\bin\R.exe CMD check --no-multiarch --install=check:spatialDE.install-out.txt --library=E:\biocbuild\bbs-3.21-bioc\R\library --no-vignettes --timings spatialDE_1.14.1.tar.gz
StartedAt: 2025-08-15 07:11:56 -0400 (Fri, 15 Aug 2025)
EndedAt: 2025-08-15 07:17:57 -0400 (Fri, 15 Aug 2025)
EllapsedTime: 360.6 seconds
RetCode: 0
Status:   OK  
CheckDir: spatialDE.Rcheck
Warnings: 0

Command output

##############################################################################
##############################################################################
###
### Running command:
###
###   E:\biocbuild\bbs-3.21-bioc\R\bin\R.exe CMD check --no-multiarch --install=check:spatialDE.install-out.txt --library=E:\biocbuild\bbs-3.21-bioc\R\library --no-vignettes --timings spatialDE_1.14.1.tar.gz
###
##############################################################################
##############################################################################


* using log directory 'E:/biocbuild/bbs-3.21-bioc/meat/spatialDE.Rcheck'
* using R version 4.5.1 (2025-06-13 ucrt)
* using platform: x86_64-w64-mingw32
* R was compiled by
    gcc.exe (GCC) 14.2.0
    GNU Fortran (GCC) 14.2.0
* running under: Windows Server 2022 x64 (build 20348)
* using session charset: UTF-8
* using option '--no-vignettes'
* checking for file 'spatialDE/DESCRIPTION' ... OK
* this is package 'spatialDE' version '1.14.1'
* package encoding: UTF-8
* checking package namespace information ... OK
* checking package dependencies ... OK
* checking if this is a source package ... OK
* checking if there is a namespace ... OK
* checking for hidden files and directories ... OK
* checking for portable file names ... OK
* checking whether package 'spatialDE' can be installed ... NOTE
Found the following notes/warnings:
  Non-staged installation was used
See 'E:/biocbuild/bbs-3.21-bioc/meat/spatialDE.Rcheck/00install.out' for details.
* checking installed package size ... OK
* checking package directory ... OK
* checking 'build' directory ... OK
* checking DESCRIPTION meta-information ... OK
* checking top-level files ... OK
* checking for left-over files ... OK
* checking index information ... OK
* checking package subdirectories ... OK
* checking code files for non-ASCII characters ... OK
* checking R files for syntax errors ... OK
* checking whether the package can be loaded ... OK
* checking whether the package can be loaded with stated dependencies ... OK
* checking whether the package can be unloaded cleanly ... OK
* checking whether the namespace can be loaded with stated dependencies ... OK
* checking whether the namespace can be unloaded cleanly ... OK
* checking dependencies in R code ... OK
* checking S3 generic/method consistency ... OK
* checking replacement functions ... OK
* checking foreign function calls ... OK
* checking R code for possible problems ... OK
* checking Rd files ... OK
* checking Rd metadata ... OK
* checking Rd cross-references ... NOTE
Found the following Rd file(s) with Rd \link{} targets missing package
anchors:
  mockSVG.Rd: SpatialExperiment-class
  modelSearch.Rd: SpatialExperiment-class
  multiGenePlots.Rd: SpatialExperiment-class
  spatialDE.Rd: SpatialExperiment-class
  spatialPatterns.Rd: SpatialExperiment-class
Please provide package anchors for all Rd \link{} targets not in the
package itself and the base packages.
* checking for missing documentation entries ... OK
* checking for code/documentation mismatches ... OK
* checking Rd \usage sections ... OK
* checking Rd contents ... OK
* checking for unstated dependencies in examples ... OK
* checking contents of 'data' directory ... OK
* checking data for non-ASCII characters ... OK
* checking data for ASCII and uncompressed saves ... OK
* checking line endings in shell scripts ... OK
* checking files in 'vignettes' ... OK
* checking examples ... OK
Examples with CPU (user + system) or elapsed time > 5s
                  user system elapsed
spatial_patterns 12.93   0.36    6.66
FSV_sig           5.00   1.79   53.59
* checking for unstated dependencies in 'tests' ... OK
* checking tests ...
  Running 'testthat.R'
 OK
* checking for unstated dependencies in vignettes ... OK
* checking package vignettes ... OK
* checking running R code from vignettes ... SKIPPED
* checking re-building of vignette outputs ... SKIPPED
* checking PDF version of manual ... OK
* DONE

Status: 2 NOTEs
See
  'E:/biocbuild/bbs-3.21-bioc/meat/spatialDE.Rcheck/00check.log'
for details.


Installation output

spatialDE.Rcheck/00install.out

##############################################################################
##############################################################################
###
### Running command:
###
###   E:\biocbuild\bbs-3.21-bioc\R\bin\R.exe CMD INSTALL spatialDE
###
##############################################################################
##############################################################################


* installing to library 'E:/biocbuild/bbs-3.21-bioc/R/library'
* installing *source* package 'spatialDE' ...
** this is package 'spatialDE' version '1.14.1'
** using non-staged installation via StagedInstall field
** R
** data
** inst
** byte-compile and prepare package for lazy loading
** help
*** installing help indices
** building package indices
** installing vignettes
** testing if installed package can be loaded
* DONE (spatialDE)

Tests output

spatialDE.Rcheck/tests/testthat.Rout


R version 4.5.1 (2025-06-13 ucrt) -- "Great Square Root"
Copyright (C) 2025 The R Foundation for Statistical Computing
Platform: x86_64-w64-mingw32/x64

R is free software and comes with ABSOLUTELY NO WARRANTY.
You are welcome to redistribute it under certain conditions.
Type 'license()' or 'licence()' for distribution details.

R is a collaborative project with many contributors.
Type 'contributors()' for more information and
'citation()' on how to cite R or R packages in publications.

Type 'demo()' for some demos, 'help()' for on-line help, or
'help.start()' for an HTML browser interface to help.
Type 'q()' to quit R.

> library(testthat)
> library(spatialDE)
> 
> test_check("spatialDE")
Loading required package: SingleCellExperiment
Loading required package: SummarizedExperiment
Loading required package: MatrixGenerics
Loading required package: matrixStats

Attaching package: 'MatrixGenerics'

The following objects are masked from 'package:matrixStats':

    colAlls, colAnyNAs, colAnys, colAvgsPerRowSet, colCollapse,
    colCounts, colCummaxs, colCummins, colCumprods, colCumsums,
    colDiffs, colIQRDiffs, colIQRs, colLogSumExps, colMadDiffs,
    colMads, colMaxs, colMeans2, colMedians, colMins, colOrderStats,
    colProds, colQuantiles, colRanges, colRanks, colSdDiffs, colSds,
    colSums2, colTabulates, colVarDiffs, colVars, colWeightedMads,
    colWeightedMeans, colWeightedMedians, colWeightedSds,
    colWeightedVars, rowAlls, rowAnyNAs, rowAnys, rowAvgsPerColSet,
    rowCollapse, rowCounts, rowCummaxs, rowCummins, rowCumprods,
    rowCumsums, rowDiffs, rowIQRDiffs, rowIQRs, rowLogSumExps,
    rowMadDiffs, rowMads, rowMaxs, rowMeans2, rowMedians, rowMins,
    rowOrderStats, rowProds, rowQuantiles, rowRanges, rowRanks,
    rowSdDiffs, rowSds, rowSums2, rowTabulates, rowVarDiffs, rowVars,
    rowWeightedMads, rowWeightedMeans, rowWeightedMedians,
    rowWeightedSds, rowWeightedVars

Loading required package: GenomicRanges
Loading required package: stats4
Loading required package: BiocGenerics
Loading required package: generics

Attaching package: 'generics'

The following objects are masked from 'package:base':

    as.difftime, as.factor, as.ordered, intersect, is.element, setdiff,
    setequal, union


Attaching package: 'BiocGenerics'

The following objects are masked from 'package:stats':

    IQR, mad, sd, var, xtabs

The following objects are masked from 'package:base':

    Filter, Find, Map, Position, Reduce, anyDuplicated, aperm, append,
    as.data.frame, basename, cbind, colnames, dirname, do.call,
    duplicated, eval, evalq, get, grep, grepl, is.unsorted, lapply,
    mapply, match, mget, order, paste, pmax, pmax.int, pmin, pmin.int,
    rank, rbind, rownames, sapply, saveRDS, table, tapply, unique,
    unsplit, which.max, which.min

Loading required package: S4Vectors

Attaching package: 'S4Vectors'

The following object is masked from 'package:utils':

    findMatches

The following objects are masked from 'package:base':

    I, expand.grid, unname

Loading required package: IRanges

Attaching package: 'IRanges'

The following object is masked from 'package:grDevices':

    windows

Loading required package: GenomeInfoDb
Loading required package: Biobase
Welcome to Bioconductor

    Vignettes contain introductory material; view with
    'browseVignettes()'. To cite Bioconductor, see
    'citation("Biobase")', and for packages 'citation("pkgname")'.


Attaching package: 'Biobase'

The following object is masked from 'package:MatrixGenerics':

    rowMedians

The following objects are masked from 'package:matrixStats':

    anyMissing, rowMedians


Models:   0%|          | 0/10 [00:00<?, ?it/s]

  0%|          | 0/100 [00:00<?, ?it/s]

 30%|███       | 30/100 [00:00<00:00, 274.29it/s]

 58%|█████▊    | 58/100 [00:00<00:00, 262.83it/s]

                                                 
Models:  10%|█         | 1/10 [00:00<00:02,  3.19it/s]

  0%|          | 0/100 [00:00<?, ?it/s]

 34%|███▍      | 34/100 [00:00<00:00, 309.65it/s]

 70%|███████   | 70/100 [00:00<00:00, 322.91it/s]

                                                 
Models:  20%|██        | 2/10 [00:00<00:02,  3.19it/s]

  0%|          | 0/100 [00:00<?, ?it/s]

 29%|██▉       | 29/100 [00:00<00:00, 265.28it/s]

 56%|█████▌    | 56/100 [00:00<00:00, 203.20it/s]

 78%|███████▊  | 78/100 [00:00<00:00, 202.03it/s]

 99%|█████████▉| 99/100 [00:00<00:00, 198.38it/s]

                                                 
Models:  30%|███       | 3/10 [00:01<00:02,  2.51it/s]

  0%|          | 0/100 [00:00<?, ?it/s]

 23%|██▎       | 23/100 [00:00<00:00, 209.41it/s]

 47%|████▋     | 47/100 [00:00<00:00, 215.29it/s]

 69%|██████▉   | 69/100 [00:00<00:00, 208.43it/s]

 92%|█████████▏| 92/100 [00:00<00:00, 208.81it/s]

                                                 
Models:  40%|████      | 4/10 [00:01<00:02,  2.31it/s]

  0%|          | 0/100 [00:00<?, ?it/s]

 27%|██▋       | 27/100 [00:00<00:00, 246.94it/s]

 54%|█████▍    | 54/100 [00:00<00:00, 246.88it/s]

 80%|████████  | 80/100 [00:00<00:00, 242.20it/s]

                                                 
Models:  50%|█████     | 5/10 [00:02<00:02,  2.35it/s]

  0%|          | 0/100 [00:00<?, ?it/s]

 20%|██        | 20/100 [00:00<00:00, 182.85it/s]

 39%|███▉      | 39/100 [00:00<00:00, 176.99it/s]

 58%|█████▊    | 58/100 [00:00<00:00, 175.49it/s]

 78%|███████▊  | 78/100 [00:00<00:00, 178.09it/s]

 97%|█████████▋| 97/100 [00:00<00:00, 176.24it/s]

                                                 
Models:  60%|██████    | 6/10 [00:02<00:01,  2.09it/s]

  0%|          | 0/100 [00:00<?, ?it/s]

 18%|█▊        | 18/100 [00:00<00:00, 164.62it/s]

 37%|███▋      | 37/100 [00:00<00:00, 169.97it/s]

 58%|█████▊    | 58/100 [00:00<00:00, 179.67it/s]

 80%|████████  | 80/100 [00:00<00:00, 188.14it/s]

                                                 
Models:  70%|███████   | 7/10 [00:03<00:01,  2.02it/s]

  0%|          | 0/100 [00:00<?, ?it/s]

 21%|██        | 21/100 [00:00<00:00, 191.13it/s]

 41%|████      | 41/100 [00:00<00:00, 186.27it/s]

 61%|██████    | 61/100 [00:00<00:00, 184.33it/s]

 81%|████████  | 81/100 [00:00<00:00, 183.43it/s]

                                                 
Models:  80%|████████  | 8/10 [00:03<00:01,  1.97it/s]

  0%|          | 0/100 [00:00<?, ?it/s]

 22%|██▏       | 22/100 [00:00<00:00, 201.07it/s]

 52%|█████▏    | 52/100 [00:00<00:00, 244.13it/s]

 77%|███████▋  | 77/100 [00:00<00:00, 236.56it/s]

                                                 
Models:  90%|█████████ | 9/10 [00:04<00:00,  2.10it/s]

  0%|          | 0/100 [00:00<?, ?it/s]

 41%|████      | 41/100 [00:00<00:00, 373.23it/s]

 80%|████████  | 80/100 [00:00<00:00, 363.44it/s]

                                                 
Models: 100%|██████████| 10/10 [00:04<00:00,  2.40it/s]
Models: 100%|██████████| 10/10 [00:04<00:00,  2.29it/s]

Models:   0%|          | 0/10 [00:00<?, ?it/s]

  0%|          | 0/100 [00:00<?, ?it/s]

 30%|███       | 30/100 [00:00<00:00, 274.40it/s]

 70%|███████   | 70/100 [00:00<00:00, 328.12it/s]

                                                 
Models:  10%|█         | 1/10 [00:00<00:02,  3.37it/s]

  0%|          | 0/100 [00:00<?, ?it/s]

 33%|███▎      | 33/100 [00:00<00:00, 300.43it/s]

 64%|██████▍   | 64/100 [00:00<00:00, 231.53it/s]

 89%|████████▉ | 89/100 [00:00<00:00, 206.73it/s]

                                                 
Models:  20%|██        | 2/10 [00:00<00:03,  2.51it/s]

  0%|          | 0/100 [00:00<?, ?it/s]

 30%|███       | 30/100 [00:00<00:00, 273.12it/s]

 58%|█████▊    | 58/100 [00:00<00:00, 224.76it/s]

 81%|████████  | 81/100 [00:00<00:00, 218.75it/s]

                                                 
Models:  30%|███       | 3/10 [00:01<00:02,  2.36it/s]

  0%|          | 0/100 [00:00<?, ?it/s]

 21%|██        | 21/100 [00:00<00:00, 191.25it/s]

 41%|████      | 41/100 [00:00<00:00, 186.27it/s]

 60%|██████    | 60/100 [00:00<00:00, 169.15it/s]

 78%|███████▊  | 78/100 [00:00<00:00, 167.45it/s]

 97%|█████████▋| 97/100 [00:00<00:00, 169.65it/s]

                                                 
Models:  40%|████      | 4/10 [00:01<00:02,  2.06it/s]

  0%|          | 0/100 [00:00<?, ?it/s]

 23%|██▎       | 23/100 [00:00<00:00, 209.35it/s]

 44%|████▍     | 44/100 [00:00<00:00, 183.28it/s]

 64%|██████▍   | 64/100 [00:00<00:00, 183.12it/s]

 84%|████████▍ | 84/100 [00:00<00:00, 183.02it/s]

                                                 
Models:  50%|█████     | 5/10 [00:02<00:02,  1.99it/s]

  0%|          | 0/100 [00:00<?, ?it/s]

 29%|██▉       | 29/100 [00:00<00:00, 265.02it/s]

 60%|██████    | 60/100 [00:00<00:00, 275.85it/s]

 88%|████████▊ | 88/100 [00:00<00:00, 249.98it/s]

                                                 
Models:  60%|██████    | 6/10 [00:02<00:01,  2.18it/s]

  0%|          | 0/100 [00:00<?, ?it/s]

 31%|███       | 31/100 [00:00<00:00, 282.03it/s]

 63%|██████▎   | 63/100 [00:00<00:00, 299.72it/s]

 94%|█████████▍| 94/100 [00:00<00:00, 265.86it/s]

                                                 
Models:  70%|███████   | 7/10 [00:03<00:01,  2.29it/s]

  0%|          | 0/100 [00:00<?, ?it/s]

 23%|██▎       | 23/100 [00:00<00:00, 210.27it/s]

 45%|████▌     | 45/100 [00:00<00:00, 188.60it/s]

 64%|██████▍   | 64/100 [00:00<00:00, 182.07it/s]

 85%|████████▌ | 85/100 [00:00<00:00, 185.88it/s]

                                                 
Models:  80%|████████  | 8/10 [00:03<00:00,  2.14it/s]

  0%|          | 0/100 [00:00<?, ?it/s]

 25%|██▌       | 25/100 [00:00<00:00, 228.57it/s]

 48%|████▊     | 48/100 [00:00<00:00, 217.23it/s]

 76%|███████▌  | 76/100 [00:00<00:00, 234.40it/s]

100%|██████████| 100/100 [00:00<00:00, 228.55it/s]

                                                  
Models:  90%|█████████ | 9/10 [00:04<00:00,  2.18it/s]

  0%|          | 0/100 [00:00<?, ?it/s]

 24%|██▍       | 24/100 [00:00<00:00, 219.33it/s]

 46%|████▌     | 46/100 [00:00<00:00, 208.62it/s]

 67%|██████▋   | 67/100 [00:00<00:00, 200.62it/s]

 88%|████████▊ | 88/100 [00:00<00:00, 186.70it/s]

                                                 
Models: 100%|██████████| 10/10 [00:04<00:00,  2.14it/s]
Models: 100%|██████████| 10/10 [00:04<00:00,  2.20it/s]
C:\Users\BIOCBU~1\BASILI~1\120~1.0\SPATIA~1\114~1.1\env\Lib\site-packages\pandas\core\internals\blocks.py:351: RuntimeWarning: invalid value encountered in log
  result = func(self.values, **kwargs)

Models:   0%|          | 0/10 [00:00<?, ?it/s]

  0%|          | 0/100 [00:00<?, ?it/s]

 38%|███▊      | 38/100 [00:00<00:00, 378.93it/s]

 90%|█████████ | 90/100 [00:00<00:00, 452.98it/s]

                                                 
Models:  10%|█         | 1/10 [00:00<00:01,  4.56it/s]

  0%|          | 0/100 [00:00<?, ?it/s]

 33%|███▎      | 33/100 [00:00<00:00, 307.82it/s]

 64%|██████▍   | 64/100 [00:00<00:00, 267.01it/s]

 91%|█████████ | 91/100 [00:00<00:00, 258.24it/s]

                                                 
Models:  20%|██        | 2/10 [00:00<00:02,  3.18it/s]

  0%|          | 0/100 [00:00<?, ?it/s]

 25%|██▌       | 25/100 [00:00<00:00, 241.97it/s]

 51%|█████     | 51/100 [00:00<00:00, 239.40it/s]

 75%|███████▌  | 75/100 [00:00<00:00, 235.23it/s]

 99%|█████████▉| 99/100 [00:00<00:00, 223.84it/s]

                                                 
Models:  30%|███       | 3/10 [00:01<00:02,  2.71it/s]

  0%|          | 0/100 [00:00<?, ?it/s]

 21%|██        | 21/100 [00:00<00:00, 191.14it/s]

 46%|████▌     | 46/100 [00:00<00:00, 213.10it/s]

 68%|██████▊   | 68/100 [00:00<00:00, 207.26it/s]

 89%|████████▉ | 89/100 [00:00<00:00, 190.49it/s]

                                                 
Models:  40%|████      | 4/10 [00:01<00:02,  2.41it/s]

  0%|          | 0/100 [00:00<?, ?it/s]

 32%|███▏      | 32/100 [00:00<00:00, 291.29it/s]

 62%|██████▏   | 62/100 [00:00<00:00, 224.72it/s]

 86%|████████▌ | 86/100 [00:00<00:00, 210.11it/s]

                                                 
Models:  50%|█████     | 5/10 [00:01<00:02,  2.33it/s]

  0%|          | 0/100 [00:00<?, ?it/s]

 24%|██▍       | 24/100 [00:00<00:00, 219.42it/s]

 46%|████▌     | 46/100 [00:00<00:00, 192.03it/s]

 66%|██████▌   | 66/100 [00:00<00:00, 184.35it/s]

 89%|████████▉ | 89/100 [00:00<00:00, 200.56it/s]

                                                 
Models:  60%|██████    | 6/10 [00:02<00:01,  2.26it/s]

  0%|          | 0/100 [00:00<?, ?it/s]

 24%|██▍       | 24/100 [00:00<00:00, 218.49it/s]

 57%|█████▋    | 57/100 [00:00<00:00, 266.06it/s]

 87%|████████▋ | 87/100 [00:00<00:00, 269.26it/s]

                                                 
Models:  70%|███████   | 7/10 [00:02<00:01,  2.37it/s]

  0%|          | 0/100 [00:00<?, ?it/s]

 37%|███▋      | 37/100 [00:00<00:00, 336.74it/s]

 71%|███████   | 71/100 [00:00<00:00, 248.84it/s]

 98%|█████████▊| 98/100 [00:00<00:00, 227.13it/s]

                                                 
Models:  80%|████████  | 8/10 [00:03<00:00,  2.37it/s]

  0%|          | 0/100 [00:00<?, ?it/s]

 23%|██▎       | 23/100 [00:00<00:00, 208.26it/s]

 44%|████▍     | 44/100 [00:00<00:00, 198.80it/s]

 69%|██████▉   | 69/100 [00:00<00:00, 212.36it/s]

 92%|█████████▏| 92/100 [00:00<00:00, 211.17it/s]

                                                 
Models:  90%|█████████ | 9/10 [00:03<00:00,  2.29it/s]

  0%|          | 0/100 [00:00<?, ?it/s]

 28%|██▊       | 28/100 [00:00<00:00, 256.02it/s]

 56%|█████▌    | 56/100 [00:00<00:00, 255.35it/s]

 82%|████████▏ | 82/100 [00:00<00:00, 232.16it/s]

                                                 
Models: 100%|██████████| 10/10 [00:04<00:00,  2.34it/s]
Models: 100%|██████████| 10/10 [00:04<00:00,  2.43it/s]

Models:   0%|          | 0/10 [00:00<?, ?it/s]

  0%|          | 0/100 [00:00<?, ?it/s]

 46%|████▌     | 46/100 [00:00<00:00, 418.80it/s]

                                                 
Models:  10%|█         | 1/10 [00:00<00:01,  4.91it/s]

  0%|          | 0/100 [00:00<?, ?it/s]

 34%|███▍      | 34/100 [00:00<00:00, 310.82it/s]

 66%|██████▌   | 66/100 [00:00<00:00, 256.33it/s]

 95%|█████████▌| 95/100 [00:00<00:00, 260.02it/s]

                                                 
Models:  20%|██        | 2/10 [00:00<00:02,  3.28it/s]

  0%|          | 0/100 [00:00<?, ?it/s]

 24%|██▍       | 24/100 [00:00<00:00, 218.51it/s]

 46%|████▌     | 46/100 [00:00<00:00, 208.31it/s]

 67%|██████▋   | 67/100 [00:00<00:00, 200.47it/s]

 96%|█████████▌| 96/100 [00:00<00:00, 225.94it/s]

                                                 
Models:  30%|███       | 3/10 [00:01<00:02,  2.68it/s]

  0%|          | 0/100 [00:00<?, ?it/s]

 31%|███       | 31/100 [00:00<00:00, 282.21it/s]

 61%|██████    | 61/100 [00:00<00:00, 277.56it/s]

 90%|█████████ | 90/100 [00:00<00:00, 271.40it/s]

                                                 
Models:  40%|████      | 4/10 [00:01<00:02,  2.67it/s]

  0%|          | 0/100 [00:00<?, ?it/s]

 23%|██▎       | 23/100 [00:00<00:00, 210.28it/s]

 55%|█████▌    | 55/100 [00:00<00:00, 257.97it/s]

 91%|█████████ | 91/100 [00:00<00:00, 290.42it/s]

                                                 
Models:  50%|█████     | 5/10 [00:01<00:01,  2.71it/s]

  0%|          | 0/100 [00:00<?, ?it/s]

 36%|███▌      | 36/100 [00:00<00:00, 327.67it/s]

 69%|██████▉   | 69/100 [00:00<00:00, 312.43it/s]

                                                 
Models:  60%|██████    | 6/10 [00:02<00:01,  2.81it/s]

  0%|          | 0/100 [00:00<?, ?it/s]

 22%|██▏       | 22/100 [00:00<00:00, 201.08it/s]

 43%|████▎     | 43/100 [00:00<00:00, 195.73it/s]

 63%|██████▎   | 63/100 [00:00<00:00, 189.48it/s]

 82%|████████▏ | 82/100 [00:00<00:00, 183.26it/s]

                                                 
Models:  70%|███████   | 7/10 [00:02<00:01,  2.42it/s]

  0%|          | 0/100 [00:00<?, ?it/s]

 30%|███       | 30/100 [00:00<00:00, 274.27it/s]

 58%|█████▊    | 58/100 [00:00<00:00, 225.10it/s]

 81%|████████  | 81/100 [00:00<00:00, 206.58it/s]

                                                 
Models:  80%|████████  | 8/10 [00:03<00:00,  2.29it/s]

  0%|          | 0/100 [00:00<?, ?it/s]

 25%|██▌       | 25/100 [00:00<00:00, 228.56it/s]

 48%|████▊     | 48/100 [00:00<00:00, 200.49it/s]

 74%|███████▍  | 74/100 [00:00<00:00, 216.70it/s]

 96%|█████████▌| 96/100 [00:00<00:00, 210.73it/s]

                                                 
Models:  90%|█████████ | 9/10 [00:03<00:00,  2.21it/s]

  0%|          | 0/100 [00:00<?, ?it/s]

 23%|██▎       | 23/100 [00:00<00:00, 210.24it/s]

 48%|████▊     | 48/100 [00:00<00:00, 221.00it/s]

 73%|███████▎  | 73/100 [00:00<00:00, 224.02it/s]

100%|██████████| 100/100 [00:00<00:00, 233.02it/s]

                                                  
Models: 100%|██████████| 10/10 [00:04<00:00,  2.23it/s]
Models: 100%|██████████| 10/10 [00:04<00:00,  2.47it/s]

Models:   0%|          | 0/10 [00:00<?, ?it/s]

  0%|          | 0/100 [00:00<?, ?it/s]

 32%|███▏      | 32/100 [00:00<00:00, 292.59it/s]

 78%|███████▊  | 78/100 [00:00<00:00, 366.88it/s]

                                                 
Models:  10%|█         | 1/10 [00:00<00:02,  3.76it/s]

  0%|          | 0/100 [00:00<?, ?it/s]

 29%|██▉       | 29/100 [00:00<00:00, 265.15it/s]

 69%|██████▉   | 69/100 [00:00<00:00, 323.35it/s]

                                                 
Models:  20%|██        | 2/10 [00:00<00:02,  3.52it/s]

  0%|          | 0/100 [00:00<?, ?it/s]

 37%|███▋      | 37/100 [00:00<00:00, 336.98it/s]

 71%|███████   | 71/100 [00:00<00:00, 296.70it/s]

                                                 
Models:  30%|███       | 3/10 [00:00<00:02,  3.36it/s]

  0%|          | 0/100 [00:00<?, ?it/s]

 26%|██▌       | 26/100 [00:00<00:00, 236.54it/s]

 61%|██████    | 61/100 [00:00<00:00, 285.53it/s]

 90%|█████████ | 90/100 [00:00<00:00, 258.87it/s]

                                                 
Models:  40%|████      | 4/10 [00:01<00:02,  2.99it/s]

  0%|          | 0/100 [00:00<?, ?it/s]

 26%|██▌       | 26/100 [00:00<00:00, 237.45it/s]

 50%|█████     | 50/100 [00:00<00:00, 226.27it/s]

 74%|███████▍  | 74/100 [00:00<00:00, 223.23it/s]

100%|██████████| 100/100 [00:00<00:00, 228.55it/s]

                                                  
Models:  50%|█████     | 5/10 [00:01<00:01,  2.69it/s]

  0%|          | 0/100 [00:00<?, ?it/s]

 25%|██▌       | 25/100 [00:00<00:00, 228.55it/s]

 58%|█████▊    | 58/100 [00:00<00:00, 274.67it/s]

 95%|█████████▌| 95/100 [00:00<00:00, 300.01it/s]

                                                 
Models:  60%|██████    | 6/10 [00:02<00:01,  2.76it/s]

  0%|          | 0/100 [00:00<?, ?it/s]

 34%|███▍      | 34/100 [00:00<00:00, 310.88it/s]

 66%|██████▌   | 66/100 [00:00<00:00, 239.15it/s]

 91%|█████████ | 91/100 [00:00<00:00, 221.82it/s]

                                                 
Models:  70%|███████   | 7/10 [00:02<00:01,  2.58it/s]

  0%|          | 0/100 [00:00<?, ?it/s]

 35%|███▌      | 35/100 [00:00<00:00, 320.27it/s]

 71%|███████   | 71/100 [00:00<00:00, 324.67it/s]

                                                 
Models:  80%|████████  | 8/10 [00:02<00:00,  2.79it/s]

  0%|          | 0/100 [00:00<?, ?it/s]

 36%|███▌      | 36/100 [00:00<00:00, 327.77it/s]

 69%|██████▉   | 69/100 [00:00<00:00, 267.00it/s]

 97%|█████████▋| 97/100 [00:00<00:00, 234.06it/s]

                                                 
Models:  90%|█████████ | 9/10 [00:03<00:00,  2.67it/s]

  0%|          | 0/100 [00:00<?, ?it/s]

 28%|██▊       | 28/100 [00:00<00:00, 256.00it/s]

 54%|█████▍    | 54/100 [00:00<00:00, 245.23it/s]

 79%|███████▉  | 79/100 [00:00<00:00, 237.14it/s]

                                                 
Models: 100%|██████████| 10/10 [00:03<00:00,  2.57it/s]
Models: 100%|██████████| 10/10 [00:03<00:00,  2.76it/s]
[ FAIL 0 | WARN 0 | SKIP 0 | PASS 29 ]
> 
> proc.time()
   user  system elapsed 
  61.82    2.65   79.89 

Example timings

spatialDE.Rcheck/spatialDE-Ex.timings

nameusersystemelapsed
FSV_sig 5.00 1.7953.59
mockSVG0.340.010.36
modelSearch2.430.221.46
model_search2.170.081.12
multiGenePlots3.220.192.61
regress_out0.260.000.20
run1.240.120.69
spatialDE1.060.100.61
spatialPatterns1.620.120.92
spatial_patterns12.93 0.36 6.66
stabilize0.140.020.08