Back to Multiple platform build/check report for BioC 3.21: simplified long |
|
This page was generated on 2025-10-16 11:39 -0400 (Thu, 16 Oct 2025).
Hostname | OS | Arch (*) | R version | Installed pkgs |
---|---|---|---|---|
nebbiolo1 | Linux (Ubuntu 24.04.3 LTS) | x86_64 | 4.5.1 (2025-06-13) -- "Great Square Root" | 4833 |
merida1 | macOS 12.7.6 Monterey | x86_64 | 4.5.1 RC (2025-06-05 r88288) -- "Great Square Root" | 4614 |
kjohnson1 | macOS 13.7.5 Ventura | arm64 | 4.5.1 Patched (2025-06-14 r88325) -- "Great Square Root" | 4555 |
kunpeng2 | Linux (openEuler 24.03 LTS) | aarch64 | R Under development (unstable) (2025-02-19 r87757) -- "Unsuffered Consequences" | 4586 |
Click on any hostname to see more info about the system (e.g. compilers) (*) as reported by 'uname -p', except on Windows and Mac OS X |
Package 2056/2341 | Hostname | OS / Arch | INSTALL | BUILD | CHECK | BUILD BIN | ||||||||
spatialDE 1.14.1 (landing page) Gabriele Sales
| nebbiolo1 | Linux (Ubuntu 24.04.3 LTS) / x86_64 | OK | OK | OK | ![]() | ||||||||
merida1 | macOS 12.7.6 Monterey / x86_64 | OK | OK | OK | OK | ![]() | ||||||||
kjohnson1 | macOS 13.7.5 Ventura / arm64 | OK | OK | OK | OK | ![]() | ||||||||
kunpeng2 | Linux (openEuler 24.03 LTS) / aarch64 | OK | ERROR | skipped | ||||||||||
To the developers/maintainers of the spatialDE package: - Allow up to 24 hours (and sometimes 48 hours) for your latest push to git@git.bioconductor.org:packages/spatialDE.git to reflect on this report. See Troubleshooting Build Report for more information. - Use the following Renviron settings to reproduce errors and warnings. - If 'R CMD check' started to fail recently on the Linux builder(s) over a missing dependency, add the missing dependency to 'Suggests:' in your DESCRIPTION file. See Renviron.bioc for more information. |
Package: spatialDE |
Version: 1.14.1 |
Command: /Library/Frameworks/R.framework/Resources/bin/R CMD check --install=check:spatialDE.install-out.txt --library=/Library/Frameworks/R.framework/Resources/library --no-vignettes --timings spatialDE_1.14.1.tar.gz |
StartedAt: 2025-10-14 10:47:31 -0400 (Tue, 14 Oct 2025) |
EndedAt: 2025-10-14 10:57:31 -0400 (Tue, 14 Oct 2025) |
EllapsedTime: 599.6 seconds |
RetCode: 0 |
Status: OK |
CheckDir: spatialDE.Rcheck |
Warnings: 0 |
############################################################################## ############################################################################## ### ### Running command: ### ### /Library/Frameworks/R.framework/Resources/bin/R CMD check --install=check:spatialDE.install-out.txt --library=/Library/Frameworks/R.framework/Resources/library --no-vignettes --timings spatialDE_1.14.1.tar.gz ### ############################################################################## ############################################################################## * using log directory ‘/Users/biocbuild/bbs-3.21-bioc/meat/spatialDE.Rcheck’ * using R version 4.5.1 RC (2025-06-05 r88288) * using platform: x86_64-apple-darwin20 * R was compiled by Apple clang version 14.0.0 (clang-1400.0.29.202) GNU Fortran (GCC) 14.2.0 * running under: macOS Monterey 12.7.6 * using session charset: UTF-8 * using option ‘--no-vignettes’ * checking for file ‘spatialDE/DESCRIPTION’ ... OK * this is package ‘spatialDE’ version ‘1.14.1’ * package encoding: UTF-8 * checking package namespace information ... OK * checking package dependencies ... OK * checking if this is a source package ... OK * checking if there is a namespace ... OK * checking for hidden files and directories ... OK * checking for portable file names ... OK * checking for sufficient/correct file permissions ... OK * checking whether package ‘spatialDE’ can be installed ... NOTE Found the following notes/warnings: Non-staged installation was used See ‘/Users/biocbuild/bbs-3.21-bioc/meat/spatialDE.Rcheck/00install.out’ for details. * checking installed package size ... OK * checking package directory ... OK * checking ‘build’ directory ... OK * checking DESCRIPTION meta-information ... OK * checking top-level files ... OK * checking for left-over files ... OK * checking index information ... OK * checking package subdirectories ... OK * checking code files for non-ASCII characters ... OK * checking R files for syntax errors ... OK * checking whether the package can be loaded ... OK * checking whether the package can be loaded with stated dependencies ... OK * checking whether the package can be unloaded cleanly ... OK * checking whether the namespace can be loaded with stated dependencies ... OK * checking whether the namespace can be unloaded cleanly ... OK * checking dependencies in R code ... OK * checking S3 generic/method consistency ... OK * checking replacement functions ... OK * checking foreign function calls ... OK * checking R code for possible problems ... OK * checking Rd files ... OK * checking Rd metadata ... OK * checking Rd cross-references ... NOTE Found the following Rd file(s) with Rd \link{} targets missing package anchors: mockSVG.Rd: SpatialExperiment-class modelSearch.Rd: SpatialExperiment-class multiGenePlots.Rd: SpatialExperiment-class spatialDE.Rd: SpatialExperiment-class spatialPatterns.Rd: SpatialExperiment-class Please provide package anchors for all Rd \link{} targets not in the package itself and the base packages. * checking for missing documentation entries ... OK * checking for code/documentation mismatches ... OK * checking Rd \usage sections ... OK * checking Rd contents ... OK * checking for unstated dependencies in examples ... OK * checking contents of ‘data’ directory ... OK * checking data for non-ASCII characters ... OK * checking data for ASCII and uncompressed saves ... OK * checking line endings in shell scripts ... OK * checking files in ‘vignettes’ ... OK * checking examples ... OK Examples with CPU (user + system) or elapsed time > 5s user system elapsed spatial_patterns 31.975 2.414 28.693 FSV_sig 14.670 3.374 18.435 spatialPatterns 2.281 0.298 5.768 * checking for unstated dependencies in ‘tests’ ... OK * checking tests ... Running ‘testthat.R’ OK * checking for unstated dependencies in vignettes ... OK * checking package vignettes ... OK * checking running R code from vignettes ... SKIPPED * checking re-building of vignette outputs ... SKIPPED * checking PDF version of manual ... OK * DONE Status: 2 NOTEs See ‘/Users/biocbuild/bbs-3.21-bioc/meat/spatialDE.Rcheck/00check.log’ for details.
spatialDE.Rcheck/00install.out
############################################################################## ############################################################################## ### ### Running command: ### ### /Library/Frameworks/R.framework/Resources/bin/R CMD INSTALL spatialDE ### ############################################################################## ############################################################################## * installing to library ‘/Library/Frameworks/R.framework/Versions/4.5-x86_64/Resources/library’ * installing *source* package ‘spatialDE’ ... ** this is package ‘spatialDE’ version ‘1.14.1’ ** using non-staged installation via StagedInstall field ** R ** data ** inst ** byte-compile and prepare package for lazy loading ** help *** installing help indices ** building package indices ** installing vignettes ** testing if installed package can be loaded * DONE (spatialDE)
spatialDE.Rcheck/tests/testthat.Rout
R version 4.5.1 RC (2025-06-05 r88288) -- "Great Square Root" Copyright (C) 2025 The R Foundation for Statistical Computing Platform: x86_64-apple-darwin20 R is free software and comes with ABSOLUTELY NO WARRANTY. You are welcome to redistribute it under certain conditions. Type 'license()' or 'licence()' for distribution details. R is a collaborative project with many contributors. Type 'contributors()' for more information and 'citation()' on how to cite R or R packages in publications. Type 'demo()' for some demos, 'help()' for on-line help, or 'help.start()' for an HTML browser interface to help. Type 'q()' to quit R. > library(testthat) > library(spatialDE) > > test_check("spatialDE") Loading required package: SingleCellExperiment Loading required package: SummarizedExperiment Loading required package: MatrixGenerics Loading required package: matrixStats Attaching package: 'MatrixGenerics' The following objects are masked from 'package:matrixStats': colAlls, colAnyNAs, colAnys, colAvgsPerRowSet, colCollapse, colCounts, colCummaxs, colCummins, colCumprods, colCumsums, colDiffs, colIQRDiffs, colIQRs, colLogSumExps, colMadDiffs, colMads, colMaxs, colMeans2, colMedians, colMins, colOrderStats, colProds, colQuantiles, colRanges, colRanks, colSdDiffs, colSds, colSums2, colTabulates, colVarDiffs, colVars, colWeightedMads, colWeightedMeans, colWeightedMedians, colWeightedSds, colWeightedVars, rowAlls, rowAnyNAs, rowAnys, rowAvgsPerColSet, rowCollapse, rowCounts, rowCummaxs, rowCummins, rowCumprods, rowCumsums, rowDiffs, rowIQRDiffs, rowIQRs, rowLogSumExps, rowMadDiffs, rowMads, rowMaxs, rowMeans2, rowMedians, rowMins, rowOrderStats, rowProds, rowQuantiles, rowRanges, rowRanks, rowSdDiffs, rowSds, rowSums2, rowTabulates, rowVarDiffs, rowVars, rowWeightedMads, rowWeightedMeans, rowWeightedMedians, rowWeightedSds, rowWeightedVars Loading required package: GenomicRanges Loading required package: stats4 Loading required package: BiocGenerics Loading required package: generics Attaching package: 'generics' The following objects are masked from 'package:base': as.difftime, as.factor, as.ordered, intersect, is.element, setdiff, setequal, union Attaching package: 'BiocGenerics' The following objects are masked from 'package:stats': IQR, mad, sd, var, xtabs The following objects are masked from 'package:base': Filter, Find, Map, Position, Reduce, anyDuplicated, aperm, append, as.data.frame, basename, cbind, colnames, dirname, do.call, duplicated, eval, evalq, get, grep, grepl, is.unsorted, lapply, mapply, match, mget, order, paste, pmax, pmax.int, pmin, pmin.int, rank, rbind, rownames, sapply, saveRDS, table, tapply, unique, unsplit, which.max, which.min Loading required package: S4Vectors Attaching package: 'S4Vectors' The following object is masked from 'package:utils': findMatches The following objects are masked from 'package:base': I, expand.grid, unname Loading required package: IRanges Loading required package: GenomeInfoDb Loading required package: Biobase Welcome to Bioconductor Vignettes contain introductory material; view with 'browseVignettes()'. To cite Bioconductor, see 'citation("Biobase")', and for packages 'citation("pkgname")'. Attaching package: 'Biobase' The following object is masked from 'package:MatrixGenerics': rowMedians The following objects are masked from 'package:matrixStats': anyMissing, rowMedians Models: 0%| | 0/10 [00:00<?, ?it/s] 0%| | 0/100 [00:00<?, ?it/s][A 15%|█▌ | 15/100 [00:00<00:00, 139.45it/s][A 29%|██▉ | 29/100 [00:00<00:00, 133.71it/s][A 43%|████▎ | 43/100 [00:00<00:00, 134.64it/s][A 58%|█████▊ | 58/100 [00:00<00:00, 136.33it/s][A 72%|███████▏ | 72/100 [00:00<00:00, 130.33it/s][A 86%|████████▌ | 86/100 [00:00<00:00, 131.46it/s][A 100%|██████████| 100/100 [00:00<00:00, 133.82it/s][A [A Models: 10%|█ | 1/10 [00:00<00:06, 1.32it/s] 0%| | 0/100 [00:00<?, ?it/s][A 12%|█▏ | 12/100 [00:00<00:00, 119.41it/s][A 24%|██▍ | 24/100 [00:00<00:00, 109.34it/s][A 35%|███▌ | 35/100 [00:00<00:00, 101.02it/s][A 47%|████▋ | 47/100 [00:00<00:00, 103.91it/s][A 58%|█████▊ | 58/100 [00:00<00:00, 98.62it/s] [A 68%|██████▊ | 68/100 [00:00<00:00, 97.86it/s][A 78%|███████▊ | 78/100 [00:00<00:00, 96.25it/s][A 88%|████████▊ | 88/100 [00:00<00:00, 94.71it/s][A 98%|█████████▊| 98/100 [00:00<00:00, 94.51it/s][A [A Models: 20%|██ | 2/10 [00:01<00:07, 1.10it/s] 0%| | 0/100 [00:00<?, ?it/s][A 10%|█ | 10/100 [00:00<00:00, 97.48it/s][A 20%|██ | 20/100 [00:00<00:00, 96.58it/s][A 30%|███ | 30/100 [00:00<00:00, 92.69it/s][A 40%|████ | 40/100 [00:00<00:00, 92.36it/s][A 50%|█████ | 50/100 [00:00<00:00, 93.01it/s][A 60%|██████ | 60/100 [00:00<00:00, 90.53it/s][A 70%|███████ | 70/100 [00:00<00:00, 84.84it/s][A 80%|████████ | 80/100 [00:00<00:00, 87.33it/s][A 90%|█████████ | 90/100 [00:00<00:00, 90.12it/s][A 100%|██████████| 100/100 [00:01<00:00, 90.92it/s][A [A Models: 30%|███ | 3/10 [00:02<00:06, 1.00it/s] 0%| | 0/100 [00:00<?, ?it/s][A 9%|▉ | 9/100 [00:00<00:01, 87.87it/s][A 19%|█▉ | 19/100 [00:00<00:00, 89.08it/s][A 28%|██▊ | 28/100 [00:00<00:00, 88.14it/s][A 37%|███▋ | 37/100 [00:00<00:00, 87.24it/s][A 48%|████▊ | 48/100 [00:00<00:00, 91.99it/s][A 58%|█████▊ | 58/100 [00:00<00:00, 91.39it/s][A 68%|██████▊ | 68/100 [00:00<00:00, 89.99it/s][A 77%|███████▋ | 77/100 [00:00<00:00, 89.90it/s][A 87%|████████▋ | 87/100 [00:00<00:00, 90.78it/s][A 97%|█████████▋| 97/100 [00:01<00:00, 90.82it/s][A [A Models: 40%|████ | 4/10 [00:03<00:06, 1.04s/it] 0%| | 0/100 [00:00<?, ?it/s][A 8%|▊ | 8/100 [00:00<00:01, 78.83it/s][A 16%|█▌ | 16/100 [00:00<00:01, 78.72it/s][A 25%|██▌ | 25/100 [00:00<00:00, 79.69it/s][A 34%|███▍ | 34/100 [00:00<00:00, 81.99it/s][A 44%|████▍ | 44/100 [00:00<00:00, 83.86it/s][A 53%|█████▎ | 53/100 [00:00<00:00, 83.87it/s][A 62%|██████▏ | 62/100 [00:00<00:00, 82.96it/s][A 71%|███████ | 71/100 [00:00<00:00, 80.30it/s][A 80%|████████ | 80/100 [00:00<00:00, 81.95it/s][A 90%|█████████ | 90/100 [00:01<00:00, 85.17it/s][A 99%|█████████▉| 99/100 [00:01<00:00, 84.55it/s][A [A Models: 50%|█████ | 5/10 [00:05<00:05, 1.10s/it] 0%| | 0/100 [00:00<?, ?it/s][A 9%|▉ | 9/100 [00:00<00:01, 85.49it/s][A 19%|█▉ | 19/100 [00:00<00:00, 87.94it/s][A 28%|██▊ | 28/100 [00:00<00:00, 86.55it/s][A 37%|███▋ | 37/100 [00:00<00:00, 84.96it/s][A 47%|████▋ | 47/100 [00:00<00:00, 86.89it/s][A 56%|█████▌ | 56/100 [00:00<00:00, 87.45it/s][A 65%|██████▌ | 65/100 [00:00<00:00, 85.08it/s][A 74%|███████▍ | 74/100 [00:00<00:00, 84.01it/s][A 83%|████████▎ | 83/100 [00:00<00:00, 83.88it/s][A 93%|█████████▎| 93/100 [00:01<00:00, 85.53it/s][A [A Models: 60%|██████ | 6/10 [00:06<00:04, 1.13s/it] 0%| | 0/100 [00:00<?, ?it/s][A 9%|▉ | 9/100 [00:00<00:01, 83.95it/s][A 19%|█▉ | 19/100 [00:00<00:00, 90.55it/s][A 29%|██▉ | 29/100 [00:00<00:00, 84.63it/s][A 38%|███▊ | 38/100 [00:00<00:00, 85.20it/s][A 48%|████▊ | 48/100 [00:00<00:00, 87.82it/s][A 57%|█████▋ | 57/100 [00:00<00:00, 87.76it/s][A 66%|██████▌ | 66/100 [00:00<00:00, 85.79it/s][A 75%|███████▌ | 75/100 [00:00<00:00, 84.40it/s][A 84%|████████▍ | 84/100 [00:00<00:00, 85.97it/s][A 94%|█████████▍| 94/100 [00:01<00:00, 88.34it/s][A [A Models: 70%|███████ | 7/10 [00:07<00:03, 1.14s/it] 0%| | 0/100 [00:00<?, ?it/s][A 9%|▉ | 9/100 [00:00<00:01, 87.43it/s][A 18%|█▊ | 18/100 [00:00<00:00, 86.80it/s][A 27%|██▋ | 27/100 [00:00<00:00, 87.86it/s][A 36%|███▌ | 36/100 [00:00<00:00, 86.96it/s][A 47%|████▋ | 47/100 [00:00<00:00, 90.86it/s][A 57%|█████▋ | 57/100 [00:00<00:00, 91.78it/s][A 67%|██████▋ | 67/100 [00:00<00:00, 90.61it/s][A 77%|███████▋ | 77/100 [00:00<00:00, 89.23it/s][A 86%|████████▌ | 86/100 [00:00<00:00, 89.04it/s][A 96%|█████████▌| 96/100 [00:01<00:00, 89.49it/s][A [A Models: 80%|████████ | 8/10 [00:08<00:02, 1.13s/it] 0%| | 0/100 [00:00<?, ?it/s][A 10%|█ | 10/100 [00:00<00:00, 91.31it/s][A 20%|██ | 20/100 [00:00<00:00, 90.70it/s][A 30%|███ | 30/100 [00:00<00:00, 89.73it/s][A 40%|████ | 40/100 [00:00<00:00, 91.65it/s][A 50%|█████ | 50/100 [00:00<00:00, 93.02it/s][A 61%|██████ | 61/100 [00:00<00:00, 96.09it/s][A 71%|███████ | 71/100 [00:00<00:00, 94.30it/s][A 81%|████████ | 81/100 [00:00<00:00, 92.03it/s][A 91%|█████████ | 91/100 [00:01<00:00, 80.91it/s][A [A Models: 90%|█████████ | 9/10 [00:09<00:01, 1.13s/it] 0%| | 0/100 [00:00<?, ?it/s][A 10%|█ | 10/100 [00:00<00:00, 96.43it/s][A 20%|██ | 20/100 [00:00<00:00, 97.17it/s][A 32%|███▏ | 32/100 [00:00<00:00, 104.87it/s][A 43%|████▎ | 43/100 [00:00<00:00, 100.91it/s][A 54%|█████▍ | 54/100 [00:00<00:00, 101.66it/s][A 65%|██████▌ | 65/100 [00:00<00:00, 97.49it/s] [A 75%|███████▌ | 75/100 [00:00<00:00, 95.33it/s][A 85%|████████▌ | 85/100 [00:00<00:00, 90.04it/s][A 95%|█████████▌| 95/100 [00:00<00:00, 91.77it/s][A [A Models: 100%|██████████| 10/10 [00:10<00:00, 1.11s/it] Models: 100%|██████████| 10/10 [00:10<00:00, 1.08s/it] Models: 0%| | 0/10 [00:00<?, ?it/s] 0%| | 0/100 [00:00<?, ?it/s][A 13%|█▎ | 13/100 [00:00<00:00, 123.72it/s][A 30%|███ | 30/100 [00:00<00:00, 147.08it/s][A 45%|████▌ | 45/100 [00:00<00:00, 138.96it/s][A 59%|█████▉ | 59/100 [00:00<00:00, 136.68it/s][A 74%|███████▍ | 74/100 [00:00<00:00, 138.29it/s][A 91%|█████████ | 91/100 [00:00<00:00, 146.69it/s][A [A Models: 10%|█ | 1/10 [00:00<00:06, 1.43it/s] 0%| | 0/100 [00:00<?, ?it/s][A 14%|█▍ | 14/100 [00:00<00:00, 128.87it/s][A 27%|██▋ | 27/100 [00:00<00:00, 119.61it/s][A 39%|███▉ | 39/100 [00:00<00:00, 108.14it/s][A 50%|█████ | 50/100 [00:00<00:00, 106.87it/s][A 62%|██████▏ | 62/100 [00:00<00:00, 107.36it/s][A 73%|███████▎ | 73/100 [00:00<00:00, 104.91it/s][A 85%|████████▌ | 85/100 [00:00<00:00, 106.11it/s][A 97%|█████████▋| 97/100 [00:00<00:00, 108.77it/s][A [A Models: 20%|██ | 2/10 [00:01<00:06, 1.20it/s] 0%| | 0/100 [00:00<?, ?it/s][A 14%|█▍ | 14/100 [00:00<00:00, 136.82it/s][A 28%|██▊ | 28/100 [00:00<00:00, 121.12it/s][A 41%|████ | 41/100 [00:00<00:00, 102.72it/s][A 52%|█████▏ | 52/100 [00:00<00:00, 102.48it/s][A 64%|██████▍ | 64/100 [00:00<00:00, 106.90it/s][A 75%|███████▌ | 75/100 [00:00<00:00, 103.07it/s][A 86%|████████▌ | 86/100 [00:00<00:00, 101.38it/s][A 97%|█████████▋| 97/100 [00:00<00:00, 97.49it/s] [A [A Models: 30%|███ | 3/10 [00:02<00:06, 1.11it/s] 0%| | 0/100 [00:00<?, ?it/s][A 14%|█▍ | 14/100 [00:00<00:00, 128.74it/s][A 27%|██▋ | 27/100 [00:00<00:00, 104.95it/s][A 38%|███▊ | 38/100 [00:00<00:00, 93.61it/s] [A 48%|████▊ | 48/100 [00:00<00:00, 90.77it/s][A 58%|█████▊ | 58/100 [00:00<00:00, 90.26it/s][A 68%|██████▊ | 68/100 [00:00<00:00, 91.61it/s][A 78%|███████▊ | 78/100 [00:00<00:00, 90.01it/s][A 88%|████████▊ | 88/100 [00:00<00:00, 91.34it/s][A 98%|█████████▊| 98/100 [00:01<00:00, 91.43it/s][A [A Models: 40%|████ | 4/10 [00:03<00:05, 1.03it/s] 0%| | 0/100 [00:00<?, ?it/s][A 14%|█▍ | 14/100 [00:00<00:00, 128.09it/s][A 27%|██▋ | 27/100 [00:00<00:00, 103.36it/s][A 38%|███▊ | 38/100 [00:00<00:00, 94.08it/s] [A 48%|████▊ | 48/100 [00:00<00:00, 93.09it/s][A 58%|█████▊ | 58/100 [00:00<00:00, 90.03it/s][A 68%|██████▊ | 68/100 [00:00<00:00, 90.81it/s][A 78%|███████▊ | 78/100 [00:00<00:00, 90.79it/s][A 88%|████████▊ | 88/100 [00:00<00:00, 87.88it/s][A 98%|█████████▊| 98/100 [00:01<00:00, 90.43it/s][A [A Models: 50%|█████ | 5/10 [00:04<00:05, 1.01s/it] 0%| | 0/100 [00:00<?, ?it/s][A 13%|█▎ | 13/100 [00:00<00:00, 122.80it/s][A 26%|██▌ | 26/100 [00:00<00:00, 102.03it/s][A 37%|███▋ | 37/100 [00:00<00:00, 94.52it/s] [A 47%|████▋ | 47/100 [00:00<00:00, 94.27it/s][A 57%|█████▋ | 57/100 [00:00<00:00, 89.59it/s][A 67%|██████▋ | 67/100 [00:00<00:00, 91.15it/s][A 77%|███████▋ | 77/100 [00:00<00:00, 90.85it/s][A 87%|████████▋ | 87/100 [00:00<00:00, 89.08it/s][A 97%|█████████▋| 97/100 [00:01<00:00, 89.76it/s][A [A Models: 60%|██████ | 6/10 [00:05<00:04, 1.04s/it] 0%| | 0/100 [00:00<?, ?it/s][A 14%|█▍ | 14/100 [00:00<00:00, 133.85it/s][A 28%|██▊ | 28/100 [00:00<00:00, 106.26it/s][A 39%|███▉ | 39/100 [00:00<00:00, 96.38it/s] [A 51%|█████ | 51/100 [00:00<00:00, 101.69it/s][A 62%|██████▏ | 62/100 [00:00<00:00, 96.30it/s] [A 72%|███████▏ | 72/100 [00:00<00:00, 92.93it/s][A 82%|████████▏ | 82/100 [00:00<00:00, 93.13it/s][A 92%|█████████▏| 92/100 [00:00<00:00, 91.13it/s][A [A Models: 70%|███████ | 7/10 [00:06<00:03, 1.04s/it] 0%| | 0/100 [00:00<?, ?it/s][A 13%|█▎ | 13/100 [00:00<00:00, 122.09it/s][A 26%|██▌ | 26/100 [00:00<00:00, 101.58it/s][A 37%|███▋ | 37/100 [00:00<00:00, 96.23it/s] [A 47%|████▋ | 47/100 [00:00<00:00, 94.30it/s][A 57%|█████▋ | 57/100 [00:00<00:00, 93.79it/s][A 67%|██████▋ | 67/100 [00:00<00:00, 91.92it/s][A 77%|███████▋ | 77/100 [00:00<00:00, 92.05it/s][A 87%|████████▋ | 87/100 [00:00<00:00, 92.38it/s][A 97%|█████████▋| 97/100 [00:01<00:00, 93.32it/s][A [A Models: 80%|████████ | 8/10 [00:07<00:02, 1.05s/it] 0%| | 0/100 [00:00<?, ?it/s][A 12%|█▏ | 12/100 [00:00<00:00, 119.75it/s][A 24%|██▍ | 24/100 [00:00<00:00, 101.09it/s][A 35%|███▌ | 35/100 [00:00<00:00, 98.58it/s] [A 45%|████▌ | 45/100 [00:00<00:00, 97.66it/s][A 55%|█████▌ | 55/100 [00:00<00:00, 95.42it/s][A 65%|██████▌ | 65/100 [00:00<00:00, 95.82it/s][A 77%|███████▋ | 77/100 [00:00<00:00, 102.51it/s][A 88%|████████▊ | 88/100 [00:00<00:00, 103.48it/s][A 99%|█████████▉| 99/100 [00:00<00:00, 101.64it/s][A [A Models: 90%|█████████ | 9/10 [00:08<00:01, 1.03s/it] 0%| | 0/100 [00:00<?, ?it/s][A 13%|█▎ | 13/100 [00:00<00:00, 120.80it/s][A 26%|██▌ | 26/100 [00:00<00:00, 111.18it/s][A 38%|███▊ | 38/100 [00:00<00:00, 106.37it/s][A 49%|████▉ | 49/100 [00:00<00:00, 104.91it/s][A 60%|██████ | 60/100 [00:00<00:00, 100.92it/s][A 71%|███████ | 71/100 [00:00<00:00, 100.32it/s][A 83%|████████▎ | 83/100 [00:00<00:00, 102.69it/s][A 95%|█████████▌| 95/100 [00:00<00:00, 107.51it/s][A [A Models: 100%|██████████| 10/10 [00:09<00:00, 1.01s/it] Models: 100%|██████████| 10/10 [00:09<00:00, 1.01it/s] /Users/biocbuild/Library/Caches/org.R-project.R/R/basilisk/1.20.0/spatialDE/1.14.1/env/lib/python3.11/site-packages/pandas/core/internals/blocks.py:351: RuntimeWarning: invalid value encountered in log result = func(self.values, **kwargs) Models: 0%| | 0/10 [00:00<?, ?it/s] 0%| | 0/100 [00:00<?, ?it/s][A 17%|█▋ | 17/100 [00:00<00:00, 166.02it/s][A 34%|███▍ | 34/100 [00:00<00:00, 143.25it/s][A 49%|████▉ | 49/100 [00:00<00:00, 140.47it/s][A 66%|██████▌ | 66/100 [00:00<00:00, 147.53it/s][A 82%|████████▏ | 82/100 [00:00<00:00, 149.47it/s][A 100%|██████████| 100/100 [00:00<00:00, 155.79it/s][A [A Models: 10%|█ | 1/10 [00:00<00:05, 1.50it/s] 0%| | 0/100 [00:00<?, ?it/s][A 15%|█▌ | 15/100 [00:00<00:00, 135.99it/s][A 29%|██▉ | 29/100 [00:00<00:00, 118.57it/s][A 41%|████ | 41/100 [00:00<00:00, 111.76it/s][A 53%|█████▎ | 53/100 [00:00<00:00, 112.02it/s][A 65%|██████▌ | 65/100 [00:00<00:00, 108.47it/s][A 76%|███████▌ | 76/100 [00:00<00:00, 106.89it/s][A 87%|████████▋ | 87/100 [00:00<00:00, 106.20it/s][A 99%|█████████▉| 99/100 [00:00<00:00, 108.11it/s][A [A Models: 20%|██ | 2/10 [00:01<00:06, 1.23it/s] 0%| | 0/100 [00:00<?, ?it/s][A 16%|█▌ | 16/100 [00:00<00:00, 152.23it/s][A 32%|███▏ | 32/100 [00:00<00:00, 110.04it/s][A 44%|████▍ | 44/100 [00:00<00:00, 103.91it/s][A 55%|█████▌ | 55/100 [00:00<00:00, 102.11it/s][A 67%|██████▋ | 67/100 [00:00<00:00, 105.23it/s][A 78%|███████▊ | 78/100 [00:00<00:00, 104.26it/s][A 89%|████████▉ | 89/100 [00:00<00:00, 104.83it/s][A [A Models: 30%|███ | 3/10 [00:02<00:06, 1.15it/s] 0%| | 0/100 [00:00<?, ?it/s][A 14%|█▍ | 14/100 [00:00<00:00, 130.79it/s][A 28%|██▊ | 28/100 [00:00<00:00, 101.44it/s][A 39%|███▉ | 39/100 [00:00<00:00, 98.27it/s] [A 50%|█████ | 50/100 [00:00<00:00, 100.16it/s][A 61%|██████ | 61/100 [00:00<00:00, 97.81it/s] [A 72%|███████▏ | 72/100 [00:00<00:00, 100.52it/s][A 83%|████████▎ | 83/100 [00:00<00:00, 96.41it/s] [A 93%|█████████▎| 93/100 [00:00<00:00, 95.65it/s][A [A Models: 40%|████ | 4/10 [00:03<00:05, 1.08it/s] 0%| | 0/100 [00:00<?, ?it/s][A 13%|█▎ | 13/100 [00:00<00:00, 115.88it/s][A 25%|██▌ | 25/100 [00:00<00:00, 93.93it/s] [A 35%|███▌ | 35/100 [00:00<00:00, 91.37it/s][A 45%|████▌ | 45/100 [00:00<00:00, 87.60it/s][A 54%|█████▍ | 54/100 [00:00<00:00, 87.89it/s][A 64%|██████▍ | 64/100 [00:00<00:00, 90.69it/s][A 74%|███████▍ | 74/100 [00:00<00:00, 93.06it/s][A 86%|████████▌ | 86/100 [00:00<00:00, 99.00it/s][A 96%|█████████▌| 96/100 [00:01<00:00, 99.21it/s][A [A Models: 50%|█████ | 5/10 [00:04<00:04, 1.03it/s] 0%| | 0/100 [00:00<?, ?it/s][A 14%|█▍ | 14/100 [00:00<00:00, 129.21it/s][A 27%|██▋ | 27/100 [00:00<00:00, 102.64it/s][A 38%|███▊ | 38/100 [00:00<00:00, 96.71it/s] [A 49%|████▉ | 49/100 [00:00<00:00, 97.91it/s][A 59%|█████▉ | 59/100 [00:00<00:00, 96.78it/s][A 71%|███████ | 71/100 [00:00<00:00, 102.80it/s][A 82%|████████▏ | 82/100 [00:00<00:00, 96.97it/s] [A 93%|█████████▎| 93/100 [00:00<00:00, 100.46it/s][A [A Models: 60%|██████ | 6/10 [00:05<00:03, 1.02it/s] 0%| | 0/100 [00:00<?, ?it/s][A 13%|█▎ | 13/100 [00:00<00:00, 119.45it/s][A 25%|██▌ | 25/100 [00:00<00:00, 101.39it/s][A 36%|███▌ | 36/100 [00:00<00:00, 97.90it/s] [A 46%|████▌ | 46/100 [00:00<00:00, 98.13it/s][A 56%|█████▌ | 56/100 [00:00<00:00, 96.20it/s][A 67%|██████▋ | 67/100 [00:00<00:00, 98.52it/s][A 77%|███████▋ | 77/100 [00:00<00:00, 96.79it/s][A 88%|████████▊ | 88/100 [00:00<00:00, 98.84it/s][A 99%|█████████▉| 99/100 [00:00<00:00, 99.71it/s][A [A Models: 70%|███████ | 7/10 [00:06<00:02, 1.01it/s] 0%| | 0/100 [00:00<?, ?it/s][A 13%|█▎ | 13/100 [00:00<00:00, 117.44it/s][A 25%|██▌ | 25/100 [00:00<00:00, 100.78it/s][A 36%|███▌ | 36/100 [00:00<00:00, 95.38it/s] [A 47%|████▋ | 47/100 [00:00<00:00, 97.44it/s][A 57%|█████▋ | 57/100 [00:00<00:00, 97.90it/s][A 68%|██████▊ | 68/100 [00:00<00:00, 100.97it/s][A 79%|███████▉ | 79/100 [00:00<00:00, 97.66it/s] [A 89%|████████▉ | 89/100 [00:00<00:00, 96.89it/s][A 100%|██████████| 100/100 [00:01<00:00, 99.13it/s][A [A Models: 80%|████████ | 8/10 [00:07<00:01, 1.00it/s] 0%| | 0/100 [00:00<?, ?it/s][A 14%|█▍ | 14/100 [00:00<00:00, 135.77it/s][A 28%|██▊ | 28/100 [00:00<00:00, 113.92it/s][A 40%|████ | 40/100 [00:00<00:00, 106.66it/s][A 51%|█████ | 51/100 [00:00<00:00, 104.45it/s][A 62%|██████▏ | 62/100 [00:00<00:00, 104.53it/s][A 73%|███████▎ | 73/100 [00:00<00:00, 102.22it/s][A 84%|████████▍ | 84/100 [00:00<00:00, 101.11it/s][A 96%|█████████▌| 96/100 [00:00<00:00, 105.48it/s][A [A Models: 90%|█████████ | 9/10 [00:08<00:00, 1.02it/s] 0%| | 0/100 [00:00<?, ?it/s][A 13%|█▎ | 13/100 [00:00<00:00, 121.51it/s][A 26%|██▌ | 26/100 [00:00<00:00, 111.73it/s][A 38%|███▊ | 38/100 [00:00<00:00, 105.27it/s][A 49%|████▉ | 49/100 [00:00<00:00, 102.52it/s][A 60%|██████ | 60/100 [00:00<00:00, 98.05it/s] [A 70%|███████ | 70/100 [00:00<00:00, 98.01it/s][A 80%|████████ | 80/100 [00:00<00:00, 94.67it/s][A 90%|█████████ | 90/100 [00:00<00:00, 93.83it/s][A 100%|██████████| 100/100 [00:01<00:00, 93.43it/s][A [A Models: 100%|██████████| 10/10 [00:09<00:00, 1.00it/s] Models: 100%|██████████| 10/10 [00:09<00:00, 1.04it/s] Models: 0%| | 0/10 [00:00<?, ?it/s] 0%| | 0/100 [00:00<?, ?it/s][A 16%|█▌ | 16/100 [00:00<00:00, 158.30it/s][A 32%|███▏ | 32/100 [00:00<00:00, 134.59it/s][A 46%|████▌ | 46/100 [00:00<00:00, 133.20it/s][A 62%|██████▏ | 62/100 [00:00<00:00, 139.74it/s][A 77%|███████▋ | 77/100 [00:00<00:00, 140.13it/s][A 93%|█████████▎| 93/100 [00:00<00:00, 145.88it/s][A [A Models: 10%|█ | 1/10 [00:00<00:06, 1.40it/s] 0%| | 0/100 [00:00<?, ?it/s][A 17%|█▋ | 17/100 [00:00<00:00, 157.96it/s][A 33%|███▎ | 33/100 [00:00<00:00, 122.57it/s][A 46%|████▌ | 46/100 [00:00<00:00, 120.96it/s][A 59%|█████▉ | 59/100 [00:00<00:00, 111.33it/s][A 71%|███████ | 71/100 [00:00<00:00, 108.97it/s][A 82%|████████▏ | 82/100 [00:00<00:00, 106.81it/s][A 93%|█████████▎| 93/100 [00:00<00:00, 106.15it/s][A [A Models: 20%|██ | 2/10 [00:01<00:06, 1.21it/s] 0%| | 0/100 [00:00<?, ?it/s][A 14%|█▍ | 14/100 [00:00<00:00, 128.90it/s][A 27%|██▋ | 27/100 [00:00<00:00, 101.17it/s][A 38%|███▊ | 38/100 [00:00<00:00, 95.69it/s] [A 48%|████▊ | 48/100 [00:00<00:00, 96.83it/s][A 58%|█████▊ | 58/100 [00:00<00:00, 92.90it/s][A 69%|██████▉ | 69/100 [00:00<00:00, 95.52it/s][A 79%|███████▉ | 79/100 [00:00<00:00, 94.22it/s][A 89%|████████▉ | 89/100 [00:00<00:00, 94.33it/s][A 100%|██████████| 100/100 [00:01<00:00, 96.13it/s][A [A Models: 30%|███ | 3/10 [00:02<00:06, 1.08it/s] 0%| | 0/100 [00:00<?, ?it/s][A 13%|█▎ | 13/100 [00:00<00:00, 120.05it/s][A 26%|██▌ | 26/100 [00:00<00:00, 95.37it/s] [A 36%|███▌ | 36/100 [00:00<00:00, 89.64it/s][A 46%|████▌ | 46/100 [00:00<00:00, 91.18it/s][A 56%|█████▌ | 56/100 [00:00<00:00, 87.18it/s][A 67%|██████▋ | 67/100 [00:00<00:00, 91.81it/s][A 77%|███████▋ | 77/100 [00:00<00:00, 91.67it/s][A 87%|████████▋ | 87/100 [00:00<00:00, 91.96it/s][A 97%|█████████▋| 97/100 [00:01<00:00, 92.82it/s][A [A Models: 40%|████ | 4/10 [00:03<00:05, 1.01it/s] 0%| | 0/100 [00:00<?, ?it/s][A 11%|█ | 11/100 [00:00<00:00, 108.90it/s][A 22%|██▏ | 22/100 [00:00<00:00, 93.85it/s] [A 32%|███▏ | 32/100 [00:00<00:00, 90.76it/s][A 42%|████▏ | 42/100 [00:00<00:00, 88.35it/s][A 52%|█████▏ | 52/100 [00:00<00:00, 88.77it/s][A 61%|██████ | 61/100 [00:00<00:00, 88.94it/s][A 71%|███████ | 71/100 [00:00<00:00, 89.35it/s][A 80%|████████ | 80/100 [00:00<00:00, 83.74it/s][A 89%|████████▉ | 89/100 [00:01<00:00, 78.35it/s][A 97%|█████████▋| 97/100 [00:01<00:00, 78.72it/s][A [A Models: 50%|█████ | 5/10 [00:04<00:05, 1.06s/it] 0%| | 0/100 [00:00<?, ?it/s][A 11%|█ | 11/100 [00:00<00:00, 99.06it/s][A 21%|██ | 21/100 [00:00<00:00, 84.35it/s][A 30%|███ | 30/100 [00:00<00:00, 82.77it/s][A 39%|███▉ | 39/100 [00:00<00:00, 81.13it/s][A 48%|████▊ | 48/100 [00:00<00:00, 83.85it/s][A 57%|█████▋ | 57/100 [00:00<00:00, 85.52it/s][A 66%|██████▌ | 66/100 [00:00<00:00, 85.87it/s][A 75%|███████▌ | 75/100 [00:00<00:00, 85.04it/s][A 84%|████████▍ | 84/100 [00:00<00:00, 85.89it/s][A 95%|█████████▌| 95/100 [00:01<00:00, 89.59it/s][A [A Models: 60%|██████ | 6/10 [00:06<00:04, 1.09s/it] 0%| | 0/100 [00:00<?, ?it/s][A 13%|█▎ | 13/100 [00:00<00:00, 118.63it/s][A 25%|██▌ | 25/100 [00:00<00:00, 97.43it/s] [A 35%|███▌ | 35/100 [00:00<00:00, 94.26it/s][A 45%|████▌ | 45/100 [00:00<00:00, 95.42it/s][A 55%|█████▌ | 55/100 [00:00<00:00, 92.83it/s][A 65%|██████▌ | 65/100 [00:00<00:00, 91.33it/s][A 75%|███████▌ | 75/100 [00:00<00:00, 91.00it/s][A 85%|████████▌ | 85/100 [00:00<00:00, 87.02it/s][A 95%|█████████▌| 95/100 [00:01<00:00, 89.56it/s][A [A Models: 70%|███████ | 7/10 [00:07<00:03, 1.09s/it] 0%| | 0/100 [00:00<?, ?it/s][A 13%|█▎ | 13/100 [00:00<00:00, 118.56it/s][A 25%|██▌ | 25/100 [00:00<00:00, 96.98it/s] [A 35%|███▌ | 35/100 [00:00<00:00, 94.06it/s][A 45%|████▌ | 45/100 [00:00<00:00, 94.24it/s][A 55%|█████▌ | 55/100 [00:00<00:00, 95.64it/s][A 65%|██████▌ | 65/100 [00:00<00:00, 94.04it/s][A 75%|███████▌ | 75/100 [00:00<00:00, 95.32it/s][A 85%|████████▌ | 85/100 [00:00<00:00, 92.97it/s][A 95%|█████████▌| 95/100 [00:00<00:00, 94.72it/s][A [A Models: 80%|████████ | 8/10 [00:08<00:02, 1.08s/it] 0%| | 0/100 [00:00<?, ?it/s][A 14%|█▍ | 14/100 [00:00<00:00, 132.68it/s][A 28%|██▊ | 28/100 [00:00<00:00, 108.70it/s][A 40%|████ | 40/100 [00:00<00:00, 101.96it/s][A 51%|█████ | 51/100 [00:00<00:00, 99.96it/s] [A 62%|██████▏ | 62/100 [00:00<00:00, 100.05it/s][A 73%|███████▎ | 73/100 [00:00<00:00, 100.34it/s][A 84%|████████▍ | 84/100 [00:00<00:00, 94.39it/s] [A 94%|█████████▍| 94/100 [00:00<00:00, 94.35it/s][A [A Models: 90%|█████████ | 9/10 [00:09<00:01, 1.06s/it] 0%| | 0/100 [00:00<?, ?it/s][A 11%|█ | 11/100 [00:00<00:00, 104.84it/s][A 22%|██▏ | 22/100 [00:00<00:00, 104.95it/s][A 35%|███▌ | 35/100 [00:00<00:00, 112.46it/s][A 47%|████▋ | 47/100 [00:00<00:00, 115.28it/s][A 59%|█████▉ | 59/100 [00:00<00:00, 108.54it/s][A 71%|███████ | 71/100 [00:00<00:00, 109.15it/s][A 82%|████████▏ | 82/100 [00:00<00:00, 107.05it/s][A 93%|█████████▎| 93/100 [00:00<00:00, 105.63it/s][A [A Models: 100%|██████████| 10/10 [00:10<00:00, 1.02s/it] Models: 100%|██████████| 10/10 [00:10<00:00, 1.02s/it] Models: 0%| | 0/10 [00:00<?, ?it/s] 0%| | 0/100 [00:00<?, ?it/s][A 16%|█▌ | 16/100 [00:00<00:00, 156.36it/s][A 32%|███▏ | 32/100 [00:00<00:00, 136.37it/s][A 46%|████▌ | 46/100 [00:00<00:00, 135.68it/s][A 63%|██████▎ | 63/100 [00:00<00:00, 147.73it/s][A 78%|███████▊ | 78/100 [00:00<00:00, 144.45it/s][A 96%|█████████▌| 96/100 [00:00<00:00, 153.96it/s][A [A Models: 10%|█ | 1/10 [00:00<00:06, 1.47it/s] 0%| | 0/100 [00:00<?, ?it/s][A 16%|█▌ | 16/100 [00:00<00:00, 156.15it/s][A 32%|███▏ | 32/100 [00:00<00:00, 120.63it/s][A 45%|████▌ | 45/100 [00:00<00:00, 113.83it/s][A 57%|█████▋ | 57/100 [00:00<00:00, 108.33it/s][A 68%|██████▊ | 68/100 [00:00<00:00, 106.39it/s][A 79%|███████▉ | 79/100 [00:00<00:00, 103.23it/s][A 90%|█████████ | 90/100 [00:00<00:00, 102.60it/s][A [A Models: 20%|██ | 2/10 [00:01<00:06, 1.21it/s] 0%| | 0/100 [00:00<?, ?it/s][A 14%|█▍ | 14/100 [00:00<00:00, 136.00it/s][A 28%|██▊ | 28/100 [00:00<00:00, 101.93it/s][A 39%|███▉ | 39/100 [00:00<00:00, 93.09it/s] [A 49%|████▉ | 49/100 [00:00<00:00, 91.05it/s][A 59%|█████▉ | 59/100 [00:00<00:00, 87.81it/s][A 69%|██████▉ | 69/100 [00:00<00:00, 88.35it/s][A 78%|███████▊ | 78/100 [00:00<00:00, 83.84it/s][A 87%|████████▋ | 87/100 [00:00<00:00, 81.62it/s][A 97%|█████████▋| 97/100 [00:01<00:00, 85.42it/s][A [A Models: 30%|███ | 3/10 [00:02<00:06, 1.04it/s] 0%| | 0/100 [00:00<?, ?it/s][A 13%|█▎ | 13/100 [00:00<00:00, 120.05it/s][A 26%|██▌ | 26/100 [00:00<00:00, 95.29it/s] [A 36%|███▌ | 36/100 [00:00<00:00, 91.72it/s][A 46%|████▌ | 46/100 [00:00<00:00, 90.41it/s][A 56%|█████▌ | 56/100 [00:00<00:00, 92.47it/s][A 67%|██████▋ | 67/100 [00:00<00:00, 96.07it/s][A 77%|███████▋ | 77/100 [00:00<00:00, 92.82it/s][A 87%|████████▋ | 87/100 [00:00<00:00, 90.22it/s][A 98%|█████████▊| 98/100 [00:01<00:00, 94.32it/s][A [A Models: 40%|████ | 4/10 [00:03<00:06, 1.01s/it] 0%| | 0/100 [00:00<?, ?it/s][A 12%|█▏ | 12/100 [00:00<00:00, 114.27it/s][A 24%|██▍ | 24/100 [00:00<00:00, 93.13it/s] [A 34%|███▍ | 34/100 [00:00<00:00, 88.85it/s][A 43%|████▎ | 43/100 [00:00<00:00, 87.63it/s][A 52%|█████▏ | 52/100 [00:00<00:00, 82.72it/s][A 61%|██████ | 61/100 [00:00<00:00, 82.46it/s][A 71%|███████ | 71/100 [00:00<00:00, 85.56it/s][A 81%|████████ | 81/100 [00:00<00:00, 87.93it/s][A 91%|█████████ | 91/100 [00:01<00:00, 89.81it/s][A [A Models: 50%|█████ | 5/10 [00:04<00:05, 1.05s/it] 0%| | 0/100 [00:00<?, ?it/s][A 13%|█▎ | 13/100 [00:00<00:00, 118.85it/s][A 25%|██▌ | 25/100 [00:00<00:00, 97.53it/s] [A 35%|███▌ | 35/100 [00:00<00:00, 93.33it/s][A 45%|████▌ | 45/100 [00:00<00:00, 91.22it/s][A 55%|█████▌ | 55/100 [00:00<00:00, 89.73it/s][A 65%|██████▌ | 65/100 [00:00<00:00, 90.44it/s][A 75%|███████▌ | 75/100 [00:00<00:00, 88.12it/s][A 84%|████████▍ | 84/100 [00:00<00:00, 87.34it/s][A 95%|█████████▌| 95/100 [00:01<00:00, 91.60it/s][A [A Models: 60%|██████ | 6/10 [00:06<00:04, 1.06s/it] 0%| | 0/100 [00:00<?, ?it/s][A 14%|█▍ | 14/100 [00:00<00:00, 126.26it/s][A 27%|██▋ | 27/100 [00:00<00:00, 112.87it/s][A 39%|███▉ | 39/100 [00:00<00:00, 105.53it/s][A 50%|█████ | 50/100 [00:00<00:00, 99.11it/s] [A 60%|██████ | 60/100 [00:00<00:00, 93.66it/s][A 70%|███████ | 70/100 [00:00<00:00, 94.45it/s][A 80%|████████ | 80/100 [00:00<00:00, 94.50it/s][A 90%|█████████ | 90/100 [00:00<00:00, 95.48it/s][A 100%|██████████| 100/100 [00:01<00:00, 95.79it/s][A [A Models: 70%|███████ | 7/10 [00:07<00:03, 1.05s/it] 0%| | 0/100 [00:00<?, ?it/s][A 13%|█▎ | 13/100 [00:00<00:00, 121.92it/s][A 26%|██▌ | 26/100 [00:00<00:00, 96.86it/s] [A 37%|███▋ | 37/100 [00:00<00:00, 95.41it/s][A 47%|████▋ | 47/100 [00:00<00:00, 93.43it/s][A 57%|█████▋ | 57/100 [00:00<00:00, 93.78it/s][A 68%|██████▊ | 68/100 [00:00<00:00, 97.45it/s][A 78%|███████▊ | 78/100 [00:00<00:00, 95.17it/s][A 89%|████████▉ | 89/100 [00:00<00:00, 98.02it/s][A 100%|██████████| 100/100 [00:01<00:00, 98.89it/s][A [A Models: 80%|████████ | 8/10 [00:08<00:02, 1.04s/it] 0%| | 0/100 [00:00<?, ?it/s][A 13%|█▎ | 13/100 [00:00<00:00, 129.60it/s][A 26%|██▌ | 26/100 [00:00<00:00, 104.08it/s][A 37%|███▋ | 37/100 [00:00<00:00, 96.47it/s] [A 47%|████▋ | 47/100 [00:00<00:00, 93.73it/s][A 57%|█████▋ | 57/100 [00:00<00:00, 92.00it/s][A 68%|██████▊ | 68/100 [00:00<00:00, 96.50it/s][A 79%|███████▉ | 79/100 [00:00<00:00, 98.05it/s][A 90%|█████████ | 90/100 [00:00<00:00, 99.22it/s][A [A Models: 90%|█████████ | 9/10 [00:09<00:01, 1.03s/it] 0%| | 0/100 [00:00<?, ?it/s][A 12%|█▏ | 12/100 [00:00<00:00, 110.55it/s][A 24%|██▍ | 24/100 [00:00<00:00, 109.77it/s][A 35%|███▌ | 35/100 [00:00<00:00, 109.48it/s][A 47%|████▋ | 47/100 [00:00<00:00, 110.93it/s][A 59%|█████▉ | 59/100 [00:00<00:00, 104.47it/s][A 70%|███████ | 70/100 [00:00<00:00, 105.57it/s][A 81%|████████ | 81/100 [00:00<00:00, 102.23it/s][A 92%|█████████▏| 92/100 [00:00<00:00, 100.13it/s][A [A Models: 100%|██████████| 10/10 [00:10<00:00, 1.01s/it] Models: 100%|██████████| 10/10 [00:10<00:00, 1.01s/it] [ FAIL 0 | WARN 0 | SKIP 0 | PASS 29 ] > > proc.time() user system elapsed 135.383 5.117 139.315 /Users/biocbuild/Library/Caches/org.R-project.R/R/basilisk/1.20.0/spatialDE/1.14.1/env/lib/python3.11/multiprocessing/resource_tracker.py:254: UserWarning: resource_tracker: There appear to be 1 leaked semaphore objects to clean up at shutdown warnings.warn('resource_tracker: There appear to be %d '
spatialDE.Rcheck/spatialDE-Ex.timings
name | user | system | elapsed | |
FSV_sig | 14.670 | 3.374 | 18.435 | |
mockSVG | 0.293 | 0.006 | 0.300 | |
modelSearch | 3.476 | 0.315 | 3.145 | |
model_search | 2.848 | 0.393 | 3.077 | |
multiGenePlots | 4.206 | 0.298 | 4.495 | |
regress_out | 0.266 | 0.009 | 0.277 | |
run | 1.532 | 0.186 | 1.630 | |
spatialDE | 1.666 | 0.189 | 3.243 | |
spatialPatterns | 2.281 | 0.298 | 5.768 | |
spatial_patterns | 31.975 | 2.414 | 28.693 | |
stabilize | 0.245 | 0.008 | 0.129 | |